#------------------------------------------------------------------------------
#$Date: 2016-02-14 05:40:26 +0100 (dom 14 de feb de 2016) $
#$Revision: 176432 $
#$URL: svn://www.crystallography.net/cod/cif/4/51/27/4512742.cif $
#------------------------------------------------------------------------------
#
# This file is available in the Crystallography Open Database (COD),
# http://www.crystallography.net/
#
# All data on this site have been placed in the public domain by the
# contributors.
#
data_4512742
loop_
_publ_author_name
'Ostrowska, Kinga'
'Kropidłowska, Magdalena'
'Katrusiak, Andrzej'
_publ_section_title
;
 High-Pressure Crystallization and Structural Transformations in
 CompressedR,S-Ibuprofen
;
_journal_issue                   3
_journal_name_full               'Crystal Growth & Design'
_journal_page_first              1512
_journal_paper_doi               10.1021/cg5018888
_journal_volume                  15
_journal_year                    2015
_chemical_formula_moiety         'C13 H18 O2'
_chemical_formula_sum            'C13 H18 O2'
_chemical_formula_weight         206.27
_chemical_melting_point          349
_chemical_name_common
;
(R,S)-2-(4-(2-methylpropyl)phenyl)propanoic acid
;
_chemical_name_systematic
;
 (R,S)-ibuprofen
;
_space_group_IT_number           14
_symmetry_cell_setting           monoclinic
_symmetry_space_group_name_Hall  '-P 2ybc'
_symmetry_space_group_name_H-M   'P 1 21/c 1'
_atom_sites_solution_hydrogens   geom
_atom_sites_solution_primary     direct
_atom_sites_solution_secondary   difmap
_audit_creation_method           SHELXL-97
_cell_angle_alpha                90.00
_cell_angle_beta                 100.09(6)
_cell_angle_gamma                90.00
_cell_formula_units_Z            4
_cell_length_a                   14.205(4)
_cell_length_b                   7.6697(19)
_cell_length_c                   10.318(18)
_cell_measurement_pressure       800000
_cell_measurement_reflns_used    1655
_cell_measurement_temperature    296(2)
_cell_measurement_theta_max      28.57
_cell_measurement_theta_min      3.30
_cell_volume                     1107(2)
_computing_cell_refinement       'CrysAlis (Oxford Diffraction, 2002)'
_computing_data_collection       'CrysAlis (Oxford Diffraction, 2002)'
_computing_data_reduction        'CrysAlis (Oxford Diffraction, 2002)'
_computing_molecular_graphics
;X-Seed (Barbour, 2001) 
and POV-Ray (Persistence of Vision, 2004)

Mercury (2008)
;
_computing_publication_material  'SHELXL-97 (Sheldrick, 1997)'
_computing_structure_refinement  'SHELXL-97 (Sheldrick, 1997)'
_computing_structure_solution    'SHELXS-97 (Sheldrick, 1990)'
_diffrn_ambient_temperature      296(2)
_diffrn_detector_area_resol_mean 16.4
_diffrn_measured_fraction_theta_full 0.289
_diffrn_measured_fraction_theta_max 0.289
_diffrn_measurement_device_type  'multiwire proportional'
_diffrn_measurement_method
;HP omega scans - for more details see:
A. Budzianowski, A. Katrusiak in High-Pressure Crystallography
(Eds.: A. Katrusiak, P. F. McMillan),
Dordrecht: Kluwer Acad. Publ., 2004 pp.157-168
;
_diffrn_radiation_monochromator  graphite
_diffrn_radiation_source         'fine-focus sealed tube'
_diffrn_radiation_type           AgK\a
_diffrn_radiation_wavelength     0.56085
_diffrn_reflns_av_R_equivalents  0.3400
_diffrn_reflns_av_sigmaI/netI    0.2485
_diffrn_reflns_limit_h_max       23
_diffrn_reflns_limit_h_min       -23
_diffrn_reflns_limit_k_max       12
_diffrn_reflns_limit_k_min       -12
_diffrn_reflns_limit_l_max       6
_diffrn_reflns_limit_l_min       -6
_diffrn_reflns_number            11833
_diffrn_reflns_theta_full        28.57
_diffrn_reflns_theta_max         28.57
_diffrn_reflns_theta_min         3.30
_exptl_absorpt_coefficient_mu    0.052
_exptl_absorpt_correction_T_max  0.997
_exptl_absorpt_correction_T_min  0.990
_exptl_absorpt_correction_type   multi-scan
_exptl_absorpt_process_details
; 
Correction for absorption was made using XEMP (SHELXTL, 
Sheldrick (1990)).
;
_exptl_crystal_colour            colourless
_exptl_crystal_density_diffrn    1.238
_exptl_crystal_density_method    'not measured'
_exptl_crystal_description       plate
_exptl_crystal_F_000             448
_exptl_crystal_size_max          0.46
_exptl_crystal_size_mid          0.16
_exptl_crystal_size_min          0.05
_refine_diff_density_max         0.178
_refine_diff_density_min         -0.145
_refine_diff_density_rms         0.041
_refine_ls_extinction_coef       0.06(4)
_refine_ls_extinction_expression Fc^*^=kFc[1+0.001xFc²λ³/sin(2θ)]^-1/4^
_refine_ls_extinction_method     SHELXL
_refine_ls_goodness_of_fit_ref   0.998
_refine_ls_hydrogen_treatment    constr
_refine_ls_matrix_type           full
_refine_ls_number_parameters     137
_refine_ls_number_reflns         1655
_refine_ls_number_restraints     90
_refine_ls_restrained_S_all      0.982
_refine_ls_R_factor_all          0.3808
_refine_ls_R_factor_gt           0.1066
_refine_ls_shift/su_max          0.000
_refine_ls_shift/su_mean         0.000
_refine_ls_structure_factor_coef Fsqd
_refine_ls_weighting_details
'calc w=1/[σ²(Fo²)+(0.1557P)²+0.0000P] where P=(Fo²+2Fc²)/3'
_refine_ls_weighting_scheme      calc
_refine_ls_wR_factor_gt          0.2426
_refine_ls_wR_factor_ref         0.3805
_reflns_number_gt                402
_reflns_number_total             1655
_reflns_threshold_expression     >2sigma(I)
_cod_data_source_file            cg5018888_si_002.cif
_cod_data_source_block           ibuprofen_080
_cod_depositor_comments
;
The following automatic conversions were performed:
'_atom_site_symetry_multiplicity' tag replaced with
'_atom_site_symmetry_multiplicity'.

Automatic conversion script
Id: cif_correct_tags 1440 2010-10-19 06:21:57Z saulius 

The following automatic conversions were performed:

'_symmetry_cell_setting' value 'Monoclinic' changed to 'monoclinic'
according to
/usr/data/users/saulius/crontab/automatic-downloads/rss-feeds/ACS/lib/dictionaries/cif_core.dic
dictionary named 'cif_core.dic' version 2.4.2 from 2011-04-26.

Automatic conversion script
Id: cif_fix_values 3008 2015-01-20 13:52:24Z robertas 

 Adding full bibliography for 4512740--4512754.cif.
;
_cod_original_sg_symbol_Hall     '-P 2y bc'
_cod_original_sg_symbol_H-M      P2(1)/c
_cod_database_code               4512742
loop_
_symmetry_equiv_pos_as_xyz
'x, y, z'
'-x, y+1/2, -z+1/2'
'-x, -y, -z'
'x, -y-1/2, z-1/2'
loop_
_atom_site_label
_atom_site_type_symbol
_atom_site_fract_x
_atom_site_fract_y
_atom_site_fract_z
_atom_site_U_iso_or_equiv
_atom_site_adp_type
_atom_site_occupancy
_atom_site_symmetry_multiplicity
_atom_site_calc_flag
_atom_site_refinement_flags
O2 O 0.5031(3) 0.1879(6) 0.5643(10) 0.059(3) Uani 1 1 d U
O1 O 0.6223(3) -0.0014(5) 0.5900(10) 0.056(3) Uani 1 1 d U
H01 H 0.5811 -0.0635 0.5473 0.067 Uiso 1 1 calc R
C7 C 0.6550(5) 0.2803(9) 0.6819(19) 0.055(4) Uani 1 1 d U
H7A H 0.7046 0.2171 0.7417 0.066 Uiso 1 1 calc R
C1 C 0.7010(5) 0.3791(8) 0.5888(16) 0.045(4) Uani 1 1 d U
C9 C 0.5861(4) 0.1485(8) 0.6088(15) 0.045(4) Uani 1 1 d U
C11 C 0.9052(4) 0.7700(7) 0.3471(17) 0.041(4) Uani 1 1 d U
H11A H 0.9483 0.7051 0.4148 0.049 Uiso 1 1 calc R
C4 C 0.7806(4) 0.5539(8) 0.3902(15) 0.046(4) Uani 1 1 d U
C5 C 0.8261(5) 0.4165(8) 0.4582(15) 0.053(4) Uani 1 1 d U
H5A H 0.8854 0.3816 0.4410 0.063 Uiso 1 1 calc R
C10 C 0.8256(5) 0.6482(7) 0.2905(16) 0.052(4) Uani 1 1 d U
H10A H 0.7765 0.7146 0.2341 0.063 Uiso 1 1 calc R
H10B H 0.8505 0.5630 0.2358 0.063 Uiso 1 1 calc R
C6 C 0.7867(5) 0.3290(9) 0.5508(16) 0.056(4) Uani 1 1 d U
H6A H 0.8185 0.2315 0.5905 0.068 Uiso 1 1 calc R
C3 C 0.6944(5) 0.6040(8) 0.4216(16) 0.054(4) Uani 1 1 d U
H3A H 0.6638 0.7002 0.3782 0.065 Uiso 1 1 calc R
C2 C 0.6499(5) 0.5203(7) 0.5140(16) 0.056(4) Uani 1 1 d U
H2A H 0.5894 0.5538 0.5274 0.067 Uiso 1 1 calc R
C13 C 0.8667(6) 0.9296(8) 0.4167(16) 0.066(4) Uani 1 1 d U
H13A H 0.9191 1.0042 0.4526 0.098 Uiso 1 1 calc R
H13B H 0.8355 0.8890 0.4863 0.098 Uiso 1 1 calc R
H13C H 0.8219 0.9936 0.3539 0.098 Uiso 1 1 calc R
C12 C 0.9628(5) 0.8279(9) 0.2470(16) 0.063(4) Uani 1 1 d U
H12A H 1.0122 0.9060 0.2873 0.094 Uiso 1 1 calc R
H12B H 0.9220 0.8867 0.1764 0.094 Uiso 1 1 calc R
H12C H 0.9912 0.7282 0.2129 0.094 Uiso 1 1 calc R
C8 C 0.6004(6) 0.3954(10) 0.764(2) 0.081(4) Uani 1 1 d U
H8A H 0.5737 0.3241 0.8255 0.122 Uiso 1 1 calc R
H8B H 0.5498 0.4551 0.7076 0.122 Uiso 1 1 calc R
H8C H 0.6433 0.4792 0.8121 0.122 Uiso 1 1 calc R
loop_
_atom_site_aniso_label
_atom_site_aniso_U_11
_atom_site_aniso_U_22
_atom_site_aniso_U_33
_atom_site_aniso_U_23
_atom_site_aniso_U_13
_atom_site_aniso_U_12
O2 0.040(2) 0.069(3) 0.067(10) -0.003(4) 0.003(4) 0.005(2)
O1 0.057(2) 0.050(2) 0.059(10) 0.000(3) 0.007(4) 0.008(2)
C7 0.049(3) 0.061(4) 0.054(11) 0.011(5) 0.008(6) -0.002(3)
C1 0.040(3) 0.049(3) 0.041(11) -0.011(4) -0.003(5) -0.004(3)
C9 0.035(3) 0.049(3) 0.045(11) 0.001(4) -0.006(5) -0.004(3)
C11 0.024(2) 0.053(3) 0.044(11) 0.008(4) 0.005(5) 0.004(2)
C4 0.039(3) 0.052(3) 0.050(11) -0.008(5) 0.017(5) -0.001(3)
C5 0.052(4) 0.049(3) 0.059(11) -0.013(5) 0.013(6) 0.005(3)
C10 0.060(4) 0.037(3) 0.056(11) 0.002(4) -0.001(6) 0.003(3)
C6 0.047(3) 0.054(4) 0.065(11) -0.006(5) 0.002(5) -0.007(3)
C3 0.060(4) 0.048(3) 0.056(11) 0.006(5) 0.018(6) 0.002(3)
C2 0.063(4) 0.043(3) 0.062(11) 0.001(5) 0.010(6) 0.009(3)
C13 0.070(4) 0.066(4) 0.059(11) 0.000(5) 0.005(6) 0.001(3)
C12 0.067(4) 0.057(4) 0.068(11) 0.006(5) 0.021(6) -0.004(3)
C8 0.087(5) 0.079(4) 0.081(12) -0.011(6) 0.027(7) -0.004(4)
loop_
_atom_type_symbol
_atom_type_description
_atom_type_scat_dispersion_real
_atom_type_scat_dispersion_imag
_atom_type_scat_source
C C 0.0015 0.0009 'International Tables Vol C Tables 4.2.6.8 and 6.1.1.4'
H H 0.0000 0.0000 'International Tables Vol C Tables 4.2.6.8 and 6.1.1.4'
O O 0.0056 0.0036 'International Tables Vol C Tables 4.2.6.8 and 6.1.1.4'
loop_
_geom_angle_atom_site_label_1
_geom_angle_atom_site_label_2
_geom_angle_atom_site_label_3
_geom_angle
C9 C7 C8 108.4(7)
C9 C7 C1 110.0(14)
C8 C7 C1 113.3(7)
C2 C1 C6 115.9(11)
C2 C1 C7 119.8(7)
C6 C1 C7 123.5(8)
O2 C9 O1 123.1(8)
O2 C9 C7 121.2(6)
O1 C9 C7 115.5(6)
C13 C11 C12 111.3(6)
C13 C11 C10 111.4(6)
C12 C11 C10 112.5(13)
C5 C4 C3 117.1(10)
C5 C4 C10 120.5(7)
C3 C4 C10 122.3(8)
C4 C5 C6 121.6(7)
C4 C10 C11 114.7(12)
C5 C6 C1 123.0(8)
C2 C3 C4 124.3(8)
C1 C2 C3 117.7(7)
loop_
_geom_bond_atom_site_label_1
_geom_bond_atom_site_label_2
_geom_bond_distance
O2 C9 1.225(8)
O1 C9 1.289(7)
C7 C9 1.513(14)
C7 C8 1.529(18)
C7 C1 1.465(18)
C1 C2 1.449(13)
C1 C6 1.397(11)
C11 C13 1.566(13)
C11 C12 1.493(18)
C11 C10 1.504(11)
C4 C5 1.365(12)
C4 C3 1.376(10)
C4 C10 1.489(16)
C5 C6 1.366(15)
C3 C2 1.390(17)
loop_
_geom_torsion_atom_site_label_1
_geom_torsion_atom_site_label_2
_geom_torsion_atom_site_label_3
_geom_torsion_atom_site_label_4
_geom_torsion
C9 C7 C1 C2 78.9(11)
C8 C7 C1 C2 -42.6(15)
C9 C7 C1 C6 -90.5(11)
C8 C7 C1 C6 148.0(11)
C8 C7 C9 O2 37.2(19)
C1 C7 C9 O2 -87.2(14)
C8 C7 C9 O1 -147.0(11)
C1 C7 C9 O1 88.6(11)
C3 C4 C5 C6 1.8(15)
C10 C4 C5 C6 179.4(11)
C5 C4 C10 C11 -76.1(11)
C3 C4 C10 C11 101.4(10)
C13 C11 C10 C4 -68.1(10)
C12 C11 C10 C4 166.3(6)
C4 C5 C6 C1 -4.1(17)
C2 C1 C6 C5 6.3(15)
C7 C1 C6 C5 176.1(12)
C5 C4 C3 C2 -2.3(18)
C10 C4 C3 C2 -179.9(12)
C6 C1 C2 C3 -6.3(15)
C7 C1 C2 C3 -176.5(12)
C4 C3 C2 C1 4.7(19)
