#------------------------------------------------------------------------------
#$Date: 2016-02-14 05:40:26 +0100 (dom 14 de feb de 2016) $
#$Revision: 176432 $
#$URL: svn://www.crystallography.net/cod/cif/4/51/27/4512743.cif $
#------------------------------------------------------------------------------
#
# This file is available in the Crystallography Open Database (COD),
# http://www.crystallography.net/
#
# All data on this site have been placed in the public domain by the
# contributors.
#
data_4512743
loop_
_publ_author_name
'Ostrowska, Kinga'
'Kropidłowska, Magdalena'
'Katrusiak, Andrzej'
_publ_section_title
;
 High-Pressure Crystallization and Structural Transformations in
 CompressedR,S-Ibuprofen
;
_journal_issue                   3
_journal_name_full               'Crystal Growth & Design'
_journal_page_first              1512
_journal_paper_doi               10.1021/cg5018888
_journal_volume                  15
_journal_year                    2015
_chemical_formula_moiety         'C13 H18 O2'
_chemical_formula_sum            'C13 H18 O2'
_chemical_formula_weight         206.27
_chemical_melting_point          349
_chemical_name_common
;
(R,S)-2-(4-(2-methylpropyl)phenyl)propanoic acid
;
_chemical_name_systematic
;
 (R,S)-ibuprofen
;
_space_group_IT_number           14
_symmetry_cell_setting           monoclinic
_symmetry_space_group_name_Hall  '-P 2ybc'
_symmetry_space_group_name_H-M   'P 1 21/c 1'
_atom_sites_solution_hydrogens   geom
_atom_sites_solution_primary     direct
_atom_sites_solution_secondary   difmap
_audit_creation_method           SHELXL-97
_cell_angle_alpha                90.00
_cell_angle_beta                 100.13(8)
_cell_angle_gamma                90.00
_cell_formula_units_Z            4
_cell_length_a                   14.196(5)
_cell_length_b                   7.638(3)
_cell_length_c                   10.32(2)
_cell_measurement_pressure       880000
_cell_measurement_reflns_used    751
_cell_measurement_temperature    296(2)
_cell_measurement_theta_max      22.04
_cell_measurement_theta_min      2.76
_cell_volume                     1102(2)
_computing_cell_refinement       'CrysAlis (Oxford Diffraction, 2002)'
_computing_data_collection       'CrysAlis (Oxford Diffraction, 2002)'
_computing_data_reduction        'CrysAlis (Oxford Diffraction, 2002)'
_computing_molecular_graphics
;X-Seed (Barbour, 2001) 
and POV-Ray (Persistence of Vision, 2004)

Mercury (2008)
;
_computing_publication_material  'SHELXL-97 (Sheldrick, 1997)'
_computing_structure_refinement  'SHELXL-97 (Sheldrick, 1997)'
_computing_structure_solution    'SHELXS-97 (Sheldrick, 1990)'
_diffrn_ambient_temperature      296(2)
_diffrn_detector_area_resol_mean 16.4
_diffrn_measured_fraction_theta_full 0.271
_diffrn_measured_fraction_theta_max 0.271
_diffrn_measurement_device_type  'multiwire proportional'
_diffrn_measurement_method
;HP omega scans - for more details see:
A. Budzianowski, A. Katrusiak in High-Pressure Crystallography
(Eds.: A. Katrusiak, P. F. McMillan),
Dordrecht: Kluwer Acad. Publ., 2004 pp.157-168
;
_diffrn_radiation_monochromator  graphite
_diffrn_radiation_source         'fine-focus sealed tube'
_diffrn_radiation_type           AgK\a
_diffrn_radiation_wavelength     0.56085
_diffrn_reflns_av_R_equivalents  0.1399
_diffrn_reflns_av_sigmaI/netI    0.0967
_diffrn_reflns_limit_h_max       18
_diffrn_reflns_limit_h_min       -18
_diffrn_reflns_limit_k_max       9
_diffrn_reflns_limit_k_min       -9
_diffrn_reflns_limit_l_max       4
_diffrn_reflns_limit_l_min       -4
_diffrn_reflns_number            5122
_diffrn_reflns_theta_full        22.04
_diffrn_reflns_theta_max         22.04
_diffrn_reflns_theta_min         2.76
_exptl_absorpt_coefficient_mu    0.052
_exptl_absorpt_correction_T_max  0.997
_exptl_absorpt_correction_T_min  0.990
_exptl_absorpt_correction_type   multi-scan
_exptl_absorpt_process_details
; 
Correction for absorption was made using XEMP (SHELXTL, 
Sheldrick (1990)).
;
_exptl_crystal_colour            colourless
_exptl_crystal_density_diffrn    1.244
_exptl_crystal_density_method    'not measured'
_exptl_crystal_description       plate
_exptl_crystal_F_000             448
_exptl_crystal_size_max          0.46
_exptl_crystal_size_mid          0.16
_exptl_crystal_size_min          0.05
_refine_diff_density_max         0.146
_refine_diff_density_min         -0.147
_refine_diff_density_rms         0.036
_refine_ls_extinction_coef       0.07(4)
_refine_ls_extinction_expression Fc^*^=kFc[1+0.001xFc²λ³/sin(2θ)]^-1/4^
_refine_ls_extinction_method     SHELXL
_refine_ls_goodness_of_fit_ref   1.035
_refine_ls_hydrogen_treatment    constr
_refine_ls_matrix_type           full
_refine_ls_number_parameters     137
_refine_ls_number_reflns         751
_refine_ls_number_restraints     90
_refine_ls_restrained_S_all      1.012
_refine_ls_R_factor_all          0.1782
_refine_ls_R_factor_gt           0.0830
_refine_ls_shift/su_max          0.000
_refine_ls_shift/su_mean         0.000
_refine_ls_structure_factor_coef Fsqd
_refine_ls_weighting_details
'calc w=1/[σ²(Fo²)+(0.1581P)²+0.0000P] where P=(Fo²+2Fc²)/3'
_refine_ls_weighting_scheme      calc
_refine_ls_wR_factor_gt          0.2124
_refine_ls_wR_factor_ref         0.2736
_reflns_number_gt                355
_reflns_number_total             751
_reflns_threshold_expression     >2sigma(I)
_cod_data_source_file            cg5018888_si_002.cif
_cod_data_source_block           ibuprofen_088
_cod_depositor_comments
;
The following automatic conversions were performed:
'_atom_site_symetry_multiplicity' tag replaced with
'_atom_site_symmetry_multiplicity'.

Automatic conversion script
Id: cif_correct_tags 1440 2010-10-19 06:21:57Z saulius 

The following automatic conversions were performed:

'_symmetry_cell_setting' value 'Monoclinic' changed to 'monoclinic'
according to
/usr/data/users/saulius/crontab/automatic-downloads/rss-feeds/ACS/lib/dictionaries/cif_core.dic
dictionary named 'cif_core.dic' version 2.4.2 from 2011-04-26.

Automatic conversion script
Id: cif_fix_values 3008 2015-01-20 13:52:24Z robertas 

 Adding full bibliography for 4512740--4512754.cif.
;
_cod_original_sg_symbol_Hall     '-P 2y bc'
_cod_original_sg_symbol_H-M      P2(1)/c
_cod_database_code               4512743
loop_
_symmetry_equiv_pos_as_xyz
'x, y, z'
'-x, y+1/2, -z+1/2'
'-x, -y, -z'
'x, -y-1/2, z-1/2'
loop_
_atom_site_label
_atom_site_type_symbol
_atom_site_fract_x
_atom_site_fract_y
_atom_site_fract_z
_atom_site_U_iso_or_equiv
_atom_site_adp_type
_atom_site_occupancy
_atom_site_symmetry_multiplicity
_atom_site_calc_flag
_atom_site_refinement_flags
O2 O 0.5032(3) 0.1875(6) 0.5648(9) 0.058(3) Uani 1 1 d U
O1 O 0.6251(3) -0.0004(5) 0.5912(9) 0.051(3) Uani 1 1 d U
H01 H 0.5849 -0.0647 0.5485 0.061 Uiso 1 1 calc R
C7 C 0.6554(5) 0.2822(10) 0.6776(18) 0.053(4) Uani 1 1 d U
H7A H 0.7060 0.2174 0.7348 0.064 Uiso 1 1 calc R
C1 C 0.6998(5) 0.3803(8) 0.5875(16) 0.049(4) Uani 1 1 d U
C9 C 0.5870(5) 0.1503(8) 0.6069(16) 0.050(4) Uani 1 1 d U
C11 C 0.9056(4) 0.7705(8) 0.3511(18) 0.040(4) Uani 1 1 d U
H11A H 0.9477 0.7035 0.4188 0.047 Uiso 1 1 calc R
C4 C 0.7814(5) 0.5531(8) 0.3882(15) 0.052(4) Uani 1 1 d U
C5 C 0.8269(5) 0.4164(9) 0.4594(16) 0.052(4) Uani 1 1 d U
H5A H 0.8863 0.3801 0.4432 0.062 Uiso 1 1 calc R
C10 C 0.8256(5) 0.6526(8) 0.2856(16) 0.050(4) Uani 1 1 d U
H10A H 0.7768 0.7225 0.2316 0.060 Uiso 1 1 calc R
H10B H 0.8505 0.5699 0.2288 0.060 Uiso 1 1 calc R
C6 C 0.7873(5) 0.3321(9) 0.5538(16) 0.050(4) Uani 1 1 d U
H6A H 0.8203 0.2381 0.5977 0.061 Uiso 1 1 calc R
C3 C 0.6911(5) 0.6038(8) 0.4219(17) 0.045(4) Uani 1 1 d U
H3A H 0.6594 0.7000 0.3796 0.053 Uiso 1 1 calc R
C2 C 0.6508(5) 0.5188(8) 0.5114(15) 0.043(4) Uani 1 1 d U
H2A H 0.5899 0.5506 0.5241 0.051 Uiso 1 1 calc R
C13 C 0.8655(5) 0.9306(9) 0.4172(15) 0.063(4) Uani 1 1 d U
H13A H 0.9172 1.0066 0.4538 0.095 Uiso 1 1 calc R
H13B H 0.8332 0.8907 0.4860 0.095 Uiso 1 1 calc R
H13C H 0.8212 0.9934 0.3526 0.095 Uiso 1 1 calc R
C12 C 0.9616(6) 0.8322(9) 0.2523(16) 0.065(4) Uani 1 1 d U
H12A H 1.0109 0.9103 0.2933 0.098 Uiso 1 1 calc R
H12B H 0.9201 0.8927 0.1831 0.098 Uiso 1 1 calc R
H12C H 0.9901 0.7337 0.2162 0.098 Uiso 1 1 calc R
C8 C 0.6044(5) 0.3956(10) 0.7668(18) 0.072(5) Uani 1 1 d U
H8A H 0.5783 0.3219 0.8270 0.108 Uiso 1 1 calc R
H8B H 0.5537 0.4601 0.7138 0.108 Uiso 1 1 calc R
H8C H 0.6494 0.4758 0.8153 0.108 Uiso 1 1 calc R
loop_
_atom_site_aniso_label
_atom_site_aniso_U_11
_atom_site_aniso_U_22
_atom_site_aniso_U_33
_atom_site_aniso_U_23
_atom_site_aniso_U_13
_atom_site_aniso_U_12
O2 0.044(3) 0.064(3) 0.063(10) -0.011(3) -0.002(4) -0.002(2)
O1 0.046(2) 0.050(3) 0.053(10) 0.005(3) -0.004(4) 0.0023(17)
C7 0.052(4) 0.059(4) 0.047(11) 0.014(5) 0.005(6) -0.007(3)
C1 0.052(4) 0.051(3) 0.043(11) -0.006(5) 0.000(6) -0.003(3)
C9 0.052(4) 0.056(3) 0.040(11) -0.002(5) 0.002(6) 0.008(3)
C11 0.027(3) 0.058(3) 0.040(11) -0.002(4) 0.022(6) -0.004(2)
C4 0.049(4) 0.058(4) 0.050(11) 0.001(5) 0.012(6) 0.001(3)
C5 0.047(4) 0.061(4) 0.048(11) 0.000(5) 0.013(6) 0.005(3)
C10 0.049(4) 0.051(3) 0.052(11) 0.000(4) 0.016(6) 0.001(3)
C6 0.046(4) 0.049(4) 0.055(11) 0.000(5) 0.005(6) 0.006(3)
C3 0.045(4) 0.043(3) 0.048(11) 0.000(4) 0.014(5) 0.003(3)
C2 0.043(3) 0.042(3) 0.040(11) 0.001(4) 0.001(5) 0.003(3)
C13 0.062(4) 0.073(4) 0.055(11) -0.010(5) 0.010(6) -0.004(3)
C12 0.067(4) 0.058(4) 0.072(11) 0.016(5) 0.013(7) -0.002(3)
C8 0.072(5) 0.080(5) 0.067(12) -0.016(6) 0.023(7) -0.004(4)
loop_
_atom_type_symbol
_atom_type_description
_atom_type_scat_dispersion_real
_atom_type_scat_dispersion_imag
_atom_type_scat_source
C C 0.0015 0.0009 'International Tables Vol C Tables 4.2.6.8 and 6.1.1.4'
H H 0.0000 0.0000 'International Tables Vol C Tables 4.2.6.8 and 6.1.1.4'
O O 0.0056 0.0036 'International Tables Vol C Tables 4.2.6.8 and 6.1.1.4'
loop_
_geom_angle_atom_site_label_1
_geom_angle_atom_site_label_2
_geom_angle_atom_site_label_3
_geom_angle
C9 C7 C8 109.8(8)
C9 C7 C1 111.1(14)
C8 C7 C1 113.8(8)
C2 C1 C6 115.3(13)
C2 C1 C7 121.4(8)
C6 C1 C7 122.6(8)
O2 C9 O1 124.2(7)
O2 C9 C7 121.5(6)
O1 C9 C7 114.2(6)
C13 C11 C12 109.6(7)
C13 C11 C10 111.1(7)
C12 C11 C10 109.5(14)
C5 C4 C3 115.5(13)
C5 C4 C10 122.6(9)
C3 C4 C10 121.8(8)
C4 C5 C6 121.7(10)
C4 C10 C11 110.8(14)
C5 C6 C1 123.2(8)
C2 C3 C4 123.0(8)
C1 C2 C3 121.0(9)
loop_
_geom_bond_atom_site_label_1
_geom_bond_atom_site_label_2
_geom_bond_distance
O2 C9 1.226(7)
O1 C9 1.294(8)
C7 C9 1.497(12)
C7 C8 1.53(2)
C7 C1 1.42(2)
C1 C2 1.423(12)
C1 C6 1.397(15)
C11 C13 1.556(15)
C11 C12 1.48(2)
C11 C10 1.512(10)
C4 C5 1.371(12)
C4 C3 1.439(15)
C4 C10 1.52(2)
C5 C6 1.37(2)
C3 C2 1.34(2)
loop_
_geom_torsion_atom_site_label_1
_geom_torsion_atom_site_label_2
_geom_torsion_atom_site_label_3
_geom_torsion_atom_site_label_4
_geom_torsion
C9 C7 C1 C2 77.8(13)
C8 C7 C1 C2 -46.7(15)
C9 C7 C1 C6 -92.7(11)
C8 C7 C1 C6 142.8(11)
C8 C7 C9 O2 39(2)
C1 C7 C9 O2 -88.0(16)
C8 C7 C9 O1 -143.5(11)
C1 C7 C9 O1 89.7(11)
C3 C4 C5 C6 1.6(18)
C10 C4 C5 C6 178.0(12)
C5 C4 C10 C11 -73.5(14)
C3 C4 C10 C11 102.7(10)
C13 C11 C10 C4 -72.2(11)
C12 C11 C10 C4 166.6(7)
C4 C5 C6 C1 -2(2)
C2 C1 C6 C5 3.4(18)
C7 C1 C6 C5 174.4(12)
C5 C4 C3 C2 -3.5(19)
C10 C4 C3 C2 180.0(11)
C6 C1 C2 C3 -5.2(17)
C7 C1 C2 C3 -176.3(12)
C4 C3 C2 C1 6(2)
