#------------------------------------------------------------------------------
#$Date: 2016-02-14 05:40:26 +0100 (dom 14 de feb de 2016) $
#$Revision: 176432 $
#$URL: svn://www.crystallography.net/cod/cif/4/51/27/4512744.cif $
#------------------------------------------------------------------------------
#
# This file is available in the Crystallography Open Database (COD),
# http://www.crystallography.net/
#
# All data on this site have been placed in the public domain by the
# contributors.
#
data_4512744
loop_
_publ_author_name
'Ostrowska, Kinga'
'Kropidłowska, Magdalena'
'Katrusiak, Andrzej'
_publ_section_title
;
 High-Pressure Crystallization and Structural Transformations in
 CompressedR,S-Ibuprofen
;
_journal_issue                   3
_journal_name_full               'Crystal Growth & Design'
_journal_page_first              1512
_journal_paper_doi               10.1021/cg5018888
_journal_volume                  15
_journal_year                    2015
_chemical_formula_moiety         'C13 H18 O2'
_chemical_formula_sum            'C13 H18 O2'
_chemical_formula_weight         206.27
_chemical_melting_point          349
_chemical_name_common
;
(R,S)-2-(4-(2-methylpropyl)phenyl)propanoic acid
;
_chemical_name_systematic
;
 (R,S)-ibuprofen
;
_space_group_IT_number           14
_symmetry_cell_setting           monoclinic
_symmetry_space_group_name_Hall  '-P 2ybc'
_symmetry_space_group_name_H-M   'P 1 21/c 1'
_atom_sites_solution_hydrogens   geom
_atom_sites_solution_primary     direct
_atom_sites_solution_secondary   difmap
_audit_creation_method           SHELXL-97
_cell_angle_alpha                90.00
_cell_angle_beta                 100.30(8)
_cell_angle_gamma                90.00
_cell_formula_units_Z            4
_cell_length_a                   13.977(4)
_cell_length_b                   7.536(2)
_cell_length_c                   10.12(2)
_cell_measurement_pressure       1700000
_cell_measurement_reflns_used    719
_cell_measurement_temperature    296(2)
_cell_measurement_theta_max      22.02
_cell_measurement_theta_min      2.34
_cell_volume                     1049(2)
_computing_cell_refinement       'CrysAlis (Oxford Diffraction, 2002)'
_computing_data_collection       'CrysAlis (Oxford Diffraction, 2002)'
_computing_data_reduction        'CrysAlis (Oxford Diffraction, 2002)'
_computing_molecular_graphics
;X-Seed (Barbour, 2001) 
and POV-Ray (Persistence of Vision, 2004)

Mercury (2008)
;
_computing_publication_material  'SHELXL-97 (Sheldrick, 1997)'
_computing_structure_refinement  'SHELXL-97 (Sheldrick, 1997)'
_computing_structure_solution    'SHELXS-97 (Sheldrick, 1990)'
_diffrn_ambient_temperature      296(2)
_diffrn_detector_area_resol_mean 16.4
_diffrn_measured_fraction_theta_full 0.275
_diffrn_measured_fraction_theta_max 0.275
_diffrn_measurement_device_type  'multiwire proportional'
_diffrn_measurement_method
;HP omega scans - for more details see:
A. Budzianowski, A. Katrusiak in High-Pressure Crystallography
(Eds.: A. Katrusiak, P. F. McMillan),
Dordrecht: Kluwer Acad. Publ., 2004 pp.157-168
;
_diffrn_radiation_monochromator  graphite
_diffrn_radiation_source         'fine-focus sealed tube'
_diffrn_radiation_type           AgK\a
_diffrn_radiation_wavelength     0.56085
_diffrn_reflns_av_R_equivalents  0.1083
_diffrn_reflns_av_sigmaI/netI    0.0921
_diffrn_reflns_limit_h_max       18
_diffrn_reflns_limit_h_min       -17
_diffrn_reflns_limit_k_max       9
_diffrn_reflns_limit_k_min       -9
_diffrn_reflns_limit_l_max       4
_diffrn_reflns_limit_l_min       -4
_diffrn_reflns_number            5158
_diffrn_reflns_theta_full        22.02
_diffrn_reflns_theta_max         22.02
_diffrn_reflns_theta_min         2.34
_exptl_absorpt_coefficient_mu    0.055
_exptl_absorpt_correction_T_max  0.997
_exptl_absorpt_correction_T_min  0.989
_exptl_absorpt_correction_type   multi-scan
_exptl_absorpt_process_details
; 
Correction for absorption was made using XEMP (SHELXTL, 
Sheldrick (1990)).
;
_exptl_crystal_colour            colourless
_exptl_crystal_density_diffrn    1.306
_exptl_crystal_density_method    'not measured'
_exptl_crystal_description       plate
_exptl_crystal_F_000             448
_exptl_crystal_size_max          0.46
_exptl_crystal_size_mid          0.16
_exptl_crystal_size_min          0.05
_refine_diff_density_max         0.226
_refine_diff_density_min         -0.235
_refine_diff_density_rms         0.063
_refine_ls_extinction_coef       0.00(3)
_refine_ls_extinction_expression Fc^*^=kFc[1+0.001xFc²λ³/sin(2θ)]^-1/4^
_refine_ls_extinction_method     SHELXL
_refine_ls_goodness_of_fit_ref   1.002
_refine_ls_hydrogen_treatment    constr
_refine_ls_matrix_type           full
_refine_ls_number_parameters     137
_refine_ls_number_reflns         719
_refine_ls_number_restraints     90
_refine_ls_restrained_S_all      0.957
_refine_ls_R_factor_all          0.1946
_refine_ls_R_factor_gt           0.0995
_refine_ls_shift/su_max          0.000
_refine_ls_shift/su_mean         0.000
_refine_ls_structure_factor_coef Fsqd
_refine_ls_weighting_details
'calc w=1/[σ²(Fo²)+(0.2000P)²+0.0000P] where P=(Fo²+2Fc²)/3'
_refine_ls_weighting_scheme      calc
_refine_ls_wR_factor_gt          0.2357
_refine_ls_wR_factor_ref         0.3053
_reflns_number_gt                349
_reflns_number_total             719
_reflns_threshold_expression     >2sigma(I)
_cod_data_source_file            cg5018888_si_002.cif
_cod_data_source_block           ibuprofen_170
_cod_depositor_comments
;
The following automatic conversions were performed:
'_atom_site_symetry_multiplicity' tag replaced with
'_atom_site_symmetry_multiplicity'.

Automatic conversion script
Id: cif_correct_tags 1440 2010-10-19 06:21:57Z saulius 

The following automatic conversions were performed:

'_symmetry_cell_setting' value 'Monoclinic' changed to 'monoclinic'
according to
/usr/data/users/saulius/crontab/automatic-downloads/rss-feeds/ACS/lib/dictionaries/cif_core.dic
dictionary named 'cif_core.dic' version 2.4.2 from 2011-04-26.

Automatic conversion script
Id: cif_fix_values 3008 2015-01-20 13:52:24Z robertas 

 Adding full bibliography for 4512740--4512754.cif.
;
_cod_original_sg_symbol_Hall     '-P 2y bc'
_cod_original_sg_symbol_H-M      P2(1)/c
_cod_database_code               4512744
loop_
_symmetry_equiv_pos_as_xyz
'x, y, z'
'-x, y+1/2, -z+1/2'
'-x, -y, -z'
'x, -y-1/2, z-1/2'
loop_
_atom_site_label
_atom_site_type_symbol
_atom_site_fract_x
_atom_site_fract_y
_atom_site_fract_z
_atom_site_U_iso_or_equiv
_atom_site_adp_type
_atom_site_occupancy
_atom_site_symmetry_multiplicity
_atom_site_calc_flag
_atom_site_refinement_flags
O2 O 0.5032(3) 0.1864(7) 0.5680(12) 0.055(4) Uani 1 1 d U
O1 O 0.6258(4) -0.0059(6) 0.5961(12) 0.051(4) Uani 1 1 d U
H01 H 0.5844 -0.0702 0.5527 0.061 Uiso 1 1 calc R
C7 C 0.6578(6) 0.2790(10) 0.686(2) 0.046(5) Uani 1 1 d U
H7A H 0.7099 0.2156 0.7449 0.056 Uiso 1 1 calc R
C1 C 0.7007(5) 0.3824(9) 0.5870(19) 0.042(4) Uani 1 1 d U
C9 C 0.5886(5) 0.1467(9) 0.612(2) 0.044(4) Uani 1 1 d U
C11 C 0.9078(5) 0.7774(10) 0.351(2) 0.041(4) Uani 1 1 d U
H11A H 0.9505 0.7101 0.4204 0.049 Uiso 1 1 calc R
C4 C 0.7797(5) 0.5615(10) 0.3886(18) 0.043(4) Uani 1 1 d U
C5 C 0.8291(6) 0.4205(11) 0.458(2) 0.048(4) Uani 1 1 d U
H5A H 0.8893 0.3856 0.4397 0.058 Uiso 1 1 calc R
C10 C 0.8254(5) 0.6556(9) 0.282(2) 0.046(4) Uani 1 1 d U
H10A H 0.7765 0.7253 0.2241 0.056 Uiso 1 1 calc R
H10B H 0.8510 0.5686 0.2266 0.056 Uiso 1 1 calc R
C6 C 0.7880(6) 0.3323(11) 0.554(2) 0.048(4) Uani 1 1 d U
H6A H 0.8206 0.2353 0.5971 0.058 Uiso 1 1 calc R
C3 C 0.6905(6) 0.6063(10) 0.415(2) 0.047(4) Uani 1 1 d U
H3A H 0.6542 0.6925 0.3624 0.057 Uiso 1 1 calc R
C2 C 0.6507(6) 0.5223(10) 0.523(2) 0.049(4) Uani 1 1 d U
H2A H 0.5934 0.5625 0.5472 0.059 Uiso 1 1 calc R
C13 C 0.8677(6) 0.9380(11) 0.4143(19) 0.063(5) Uani 1 1 d U
H13A H 0.9203 1.0152 0.4515 0.094 Uiso 1 1 calc R
H13B H 0.8345 0.8991 0.4844 0.094 Uiso 1 1 calc R
H13C H 0.8231 1.0007 0.3473 0.094 Uiso 1 1 calc R
C12 C 0.9655(7) 0.8362(11) 0.245(2) 0.059(5) Uani 1 1 d U
H12A H 1.0161 0.9159 0.2852 0.089 Uiso 1 1 calc R
H12B H 0.9231 0.8956 0.1739 0.089 Uiso 1 1 calc R
H12C H 0.9938 0.7344 0.2103 0.089 Uiso 1 1 calc R
C8 C 0.6032(6) 0.3961(13) 0.772(2) 0.074(5) Uani 1 1 d U
H8A H 0.5762 0.3229 0.8339 0.112 Uiso 1 1 calc R
H8B H 0.5517 0.4582 0.7151 0.112 Uiso 1 1 calc R
H8C H 0.6474 0.4802 0.8212 0.112 Uiso 1 1 calc R
loop_
_atom_site_aniso_label
_atom_site_aniso_U_11
_atom_site_aniso_U_22
_atom_site_aniso_U_33
_atom_site_aniso_U_23
_atom_site_aniso_U_13
_atom_site_aniso_U_12
O2 0.039(3) 0.063(3) 0.059(10) -0.003(4) 0.002(5) -0.002(2)
O1 0.047(3) 0.049(3) 0.051(11) 0.004(4) -0.006(5) 0.000(2)
C7 0.044(4) 0.050(4) 0.047(12) 0.007(6) 0.010(7) -0.011(3)
C1 0.039(4) 0.051(4) 0.036(12) -0.008(5) 0.002(6) 0.002(3)
C9 0.041(4) 0.047(4) 0.043(12) 0.007(5) 0.008(6) 0.005(3)
C11 0.026(3) 0.058(4) 0.042(12) 0.002(6) 0.015(7) 0.003(3)
C4 0.032(4) 0.054(4) 0.044(12) 0.004(6) 0.008(6) -0.002(3)
C5 0.036(4) 0.060(4) 0.049(12) -0.001(6) 0.007(6) 0.008(4)
C10 0.038(4) 0.053(4) 0.049(12) -0.008(5) 0.010(7) 0.000(3)
C6 0.038(4) 0.056(5) 0.049(12) 0.005(6) 0.007(7) 0.004(3)
C3 0.041(4) 0.049(4) 0.050(12) 0.010(6) 0.003(6) 0.007(3)
C2 0.045(4) 0.051(4) 0.050(12) -0.002(6) 0.003(6) 0.004(3)
C13 0.061(5) 0.070(5) 0.056(12) 0.003(6) 0.008(7) -0.001(4)
C12 0.050(4) 0.065(5) 0.062(12) 0.006(6) 0.009(7) 0.000(4)
C8 0.065(5) 0.086(5) 0.074(12) -0.010(7) 0.017(8) 0.010(4)
loop_
_atom_type_symbol
_atom_type_description
_atom_type_scat_dispersion_real
_atom_type_scat_dispersion_imag
_atom_type_scat_source
C C 0.0015 0.0009 'International Tables Vol C Tables 4.2.6.8 and 6.1.1.4'
H H 0.0000 0.0000 'International Tables Vol C Tables 4.2.6.8 and 6.1.1.4'
O O 0.0056 0.0036 'International Tables Vol C Tables 4.2.6.8 and 6.1.1.4'
loop_
_geom_angle_atom_site_label_1
_geom_angle_atom_site_label_2
_geom_angle_atom_site_label_3
_geom_angle
C9 C7 C8 108.9(9)
C9 C7 C1 108.6(16)
C8 C7 C1 112.7(9)
C2 C1 C6 119.8(16)
C2 C1 C7 119.6(11)
C6 C1 C7 120.5(9)
O2 C9 O1 124.0(9)
O2 C9 C7 121.2(7)
O1 C9 C7 114.8(7)
C13 C11 C12 110.3(9)
C13 C11 C10 111.3(8)
C12 C11 C10 107.8(16)
C5 C4 C3 118.8(14)
C5 C4 C10 118.7(11)
C3 C4 C10 122.4(10)
C4 C5 C6 119.4(11)
C4 C10 C11 109.3(16)
C5 C6 C1 122.6(10)
C2 C3 C4 121.6(10)
C1 C2 C3 117.4(13)
loop_
_geom_bond_atom_site_label_1
_geom_bond_atom_site_label_2
_geom_bond_distance
O2 C9 1.234(8)
O1 C9 1.284(9)
C7 C9 1.494(14)
C7 C8 1.54(2)
C7 C1 1.48(2)
C1 C2 1.363(14)
C1 C6 1.376(17)
C11 C13 1.525(17)
C11 C12 1.51(3)
C11 C10 1.539(12)
C4 C5 1.386(13)
C4 C3 1.363(16)
C4 C10 1.52(2)
C5 C6 1.38(2)
C3 C2 1.46(3)
loop_
_geom_torsion_atom_site_label_1
_geom_torsion_atom_site_label_2
_geom_torsion_atom_site_label_3
_geom_torsion_atom_site_label_4
_geom_torsion
C9 C7 C1 C2 82.3(15)
C8 C7 C1 C2 -38.4(18)
C9 C7 C1 C6 -93.9(12)
C8 C7 C1 C6 145.4(12)
C8 C7 C9 O2 37(3)
C1 C7 C9 O2 -86.3(19)
C8 C7 C9 O1 -144.9(14)
C1 C7 C9 O1 92.1(15)
C3 C4 C5 C6 -2(2)
C10 C4 C5 C6 -179.1(14)
C5 C4 C10 C11 -76.4(14)
C3 C4 C10 C11 106.3(12)
C13 C11 C10 C4 -71.2(13)
C12 C11 C10 C4 167.6(7)
C4 C5 C6 C1 -2(2)
C2 C1 C6 C5 1(2)
C7 C1 C6 C5 177.3(14)
C5 C4 C3 C2 7(2)
C10 C4 C3 C2 -176.1(13)
C6 C1 C2 C3 3(2)
C7 C1 C2 C3 -172.7(13)
C4 C3 C2 C1 -8(2)
