#------------------------------------------------------------------------------
#$Date: 2016-02-14 05:40:26 +0100 (dom 14 de feb de 2016) $
#$Revision: 176432 $
#$URL: svn://www.crystallography.net/cod/cif/4/51/27/4512748.cif $
#------------------------------------------------------------------------------
#
# This file is available in the Crystallography Open Database (COD),
# http://www.crystallography.net/
#
# All data on this site have been placed in the public domain by the
# contributors.
#
data_4512748
loop_
_publ_author_name
'Ostrowska, Kinga'
'Kropidłowska, Magdalena'
'Katrusiak, Andrzej'
_publ_section_title
;
 High-Pressure Crystallization and Structural Transformations in
 CompressedR,S-Ibuprofen
;
_journal_issue                   3
_journal_name_full               'Crystal Growth & Design'
_journal_page_first              1512
_journal_paper_doi               10.1021/cg5018888
_journal_volume                  15
_journal_year                    2015
_chemical_formula_moiety         'C13 H18 O2'
_chemical_formula_sum            'C13 H18 O2'
_chemical_formula_weight         206.27
_chemical_melting_point          349
_chemical_name_common
;
(R,S)-2-(4-(2-methylpropyl)phenyl)propanoic acid
;
_chemical_name_systematic
;
 (R,S)-ibuprofen
;
_space_group_IT_number           14
_symmetry_cell_setting           monoclinic
_symmetry_space_group_name_Hall  '-P 2ybc'
_symmetry_space_group_name_H-M   'P 1 21/c 1'
_atom_sites_solution_hydrogens   geom
_atom_sites_solution_primary     direct
_atom_sites_solution_secondary   difmap
_audit_creation_method           SHELXL-97
_cell_angle_alpha                90.00
_cell_angle_beta                 100.28(6)
_cell_angle_gamma                90.00
_cell_formula_units_Z            4
_cell_length_a                   13.779(3)
_cell_length_b                   7.3240(17)
_cell_length_c                   9.844(16)
_cell_measurement_pressure       3460000
_cell_measurement_reflns_used    691
_cell_measurement_temperature    296(2)
_cell_measurement_theta_max      21.12
_cell_measurement_theta_min      3.23
_cell_volume                     977.5(16)
_computing_cell_refinement       'CrysAlis (Oxford Diffraction, 2002)'
_computing_data_collection       'CrysAlis (Oxford Diffraction, 2002)'
_computing_data_reduction        'CrysAlis (Oxford Diffraction, 2002)'
_computing_molecular_graphics
;X-Seed (Barbour, 2001) 
and POV-Ray (Persistence of Vision, 2004)

Mercury (2008)
;
_computing_publication_material  'SHELXL-97 (Sheldrick, 1997)'
_computing_structure_refinement  'SHELXL-97 (Sheldrick, 1997)'
_computing_structure_solution    'SHELXS-97 (Sheldrick, 1990)'
_diffrn_ambient_temperature      296(2)
_diffrn_detector_area_resol_mean 16.4
_diffrn_measured_fraction_theta_full 0.322
_diffrn_measured_fraction_theta_max 0.322
_diffrn_measurement_device_type  'multiwire proportional'
_diffrn_measurement_method
;HP omega scans - for more details see:
A. Budzianowski, A. Katrusiak in High-Pressure Crystallography
(Eds.: A. Katrusiak, P. F. McMillan),
Dordrecht: Kluwer Acad. Publ., 2004 pp.157-168
;
_diffrn_radiation_monochromator  graphite
_diffrn_radiation_source         'fine-focus sealed tube'
_diffrn_radiation_type           AgK\a
_diffrn_radiation_wavelength     0.56085
_diffrn_reflns_av_R_equivalents  0.1298
_diffrn_reflns_av_sigmaI/netI    0.1096
_diffrn_reflns_limit_h_max       16
_diffrn_reflns_limit_h_min       -17
_diffrn_reflns_limit_k_max       9
_diffrn_reflns_limit_k_min       -8
_diffrn_reflns_limit_l_max       4
_diffrn_reflns_limit_l_min       -4
_diffrn_reflns_number            4002
_diffrn_reflns_theta_full        21.12
_diffrn_reflns_theta_max         21.12
_diffrn_reflns_theta_min         3.23
_exptl_absorpt_coefficient_mu    0.059
_exptl_absorpt_correction_T_max  0.997
_exptl_absorpt_correction_T_min  0.989
_exptl_absorpt_correction_type   multi-scan
_exptl_absorpt_process_details
; 
Correction for absorption was made using XEMP (SHELXTL, 
Sheldrick (1990)).
;
_exptl_crystal_colour            colourless
_exptl_crystal_density_diffrn    1.402
_exptl_crystal_density_method    'not measured'
_exptl_crystal_description       plate
_exptl_crystal_F_000             448
_exptl_crystal_size_max          0.46
_exptl_crystal_size_mid          0.16
_exptl_crystal_size_min          0.05
_refine_diff_density_max         0.198
_refine_diff_density_min         -0.198
_refine_diff_density_rms         0.057
_refine_ls_extinction_coef       0.01(3)
_refine_ls_extinction_expression Fc^*^=kFc[1+0.001xFc²λ³/sin(2θ)]^-1/4^
_refine_ls_extinction_method     SHELXL
_refine_ls_goodness_of_fit_ref   1.075
_refine_ls_hydrogen_treatment    constr
_refine_ls_matrix_type           full
_refine_ls_number_parameters     137
_refine_ls_number_reflns         691
_refine_ls_number_restraints     90
_refine_ls_restrained_S_all      1.001
_refine_ls_R_factor_all          0.1915
_refine_ls_R_factor_gt           0.1003
_refine_ls_shift/su_max          0.000
_refine_ls_shift/su_mean         0.000
_refine_ls_structure_factor_coef Fsqd
_refine_ls_weighting_details
'calc w=1/[σ²(Fo²)+(0.1793P)²+0.0000P] where P=(Fo²+2Fc²)/3'
_refine_ls_weighting_scheme      calc
_refine_ls_wR_factor_gt          0.2351
_refine_ls_wR_factor_ref         0.2917
_reflns_number_gt                374
_reflns_number_total             691
_reflns_threshold_expression     >2sigma(I)
_cod_data_source_file            cg5018888_si_002.cif
_cod_data_source_block           ibuprofen_346
_cod_depositor_comments
;
The following automatic conversions were performed:
'_atom_site_symetry_multiplicity' tag replaced with
'_atom_site_symmetry_multiplicity'.

Automatic conversion script
Id: cif_correct_tags 1440 2010-10-19 06:21:57Z saulius 

The following automatic conversions were performed:

'_symmetry_cell_setting' value 'Monoclinic' changed to 'monoclinic'
according to
/usr/data/users/saulius/crontab/automatic-downloads/rss-feeds/ACS/lib/dictionaries/cif_core.dic
dictionary named 'cif_core.dic' version 2.4.2 from 2011-04-26.

Automatic conversion script
Id: cif_fix_values 3008 2015-01-20 13:52:24Z robertas 

 Adding full bibliography for 4512740--4512754.cif.
;
_cod_original_cell_volume        977.6(16)
_cod_original_sg_symbol_Hall     '-P 2y bc'
_cod_original_sg_symbol_H-M      P2(1)/c
_cod_database_code               4512748
loop_
_symmetry_equiv_pos_as_xyz
'x, y, z'
'-x, y+1/2, -z+1/2'
'-x, -y, -z'
'x, -y-1/2, z-1/2'
loop_
_atom_site_label
_atom_site_type_symbol
_atom_site_fract_x
_atom_site_fract_y
_atom_site_fract_z
_atom_site_U_iso_or_equiv
_atom_site_adp_type
_atom_site_occupancy
_atom_site_symmetry_multiplicity
_atom_site_calc_flag
_atom_site_refinement_flags
O2 O 0.5038(4) 0.1860(7) 0.5713(12) 0.047(4) Uani 1 1 d U
O1 O 0.6268(4) -0.0135(7) 0.6003(13) 0.043(4) Uani 1 1 d U
H01 H 0.5837 -0.0777 0.5558 0.052 Uiso 1 1 calc R
C7 C 0.6604(6) 0.2769(10) 0.695(2) 0.035(4) Uani 1 1 d U
H7A H 0.7141 0.2111 0.7535 0.042 Uiso 1 1 calc R
C1 C 0.7023(6) 0.3855(9) 0.590(2) 0.035(4) Uani 1 1 d U
C9 C 0.5907(5) 0.1431(10) 0.621(2) 0.036(4) Uani 1 1 d U
C11 C 0.9098(5) 0.7887(11) 0.349(2) 0.040(4) Uani 1 1 d U
H11A H 0.9514 0.7180 0.4219 0.048 Uiso 1 1 calc R
C4 C 0.7809(5) 0.5707(10) 0.380(2) 0.033(4) Uani 1 1 d U
C5 C 0.8296(6) 0.4274(11) 0.461(2) 0.037(4) Uani 1 1 d U
H5A H 0.8921 0.3945 0.4464 0.045 Uiso 1 1 calc R
C10 C 0.8236(5) 0.6674(10) 0.279(2) 0.040(4) Uani 1 1 d U
H10A H 0.7738 0.7429 0.2234 0.048 Uiso 1 1 calc R
H10B H 0.8477 0.5808 0.2179 0.048 Uiso 1 1 calc R
C6 C 0.7929(6) 0.3367(11) 0.557(2) 0.043(4) Uani 1 1 d U
H6A H 0.8279 0.2392 0.6019 0.051 Uiso 1 1 calc R
C3 C 0.6885(6) 0.6123(10) 0.413(2) 0.042(4) Uani 1 1 d U
H3A H 0.6509 0.7028 0.3619 0.050 Uiso 1 1 calc R
C2 C 0.6494(6) 0.5240(10) 0.5187(19) 0.034(4) Uani 1 1 d U
H2A H 0.5889 0.5593 0.5395 0.041 Uiso 1 1 calc R
C13 C 0.8717(7) 0.9550(11) 0.413(2) 0.050(4) Uani 1 1 d U
H13A H 0.9260 1.0327 0.4506 0.076 Uiso 1 1 calc R
H13B H 0.8377 0.9179 0.4857 0.076 Uiso 1 1 calc R
H13C H 0.8271 1.0203 0.3440 0.076 Uiso 1 1 calc R
C12 C 0.9720(6) 0.8433(11) 0.237(2) 0.046(4) Uani 1 1 d U
H12A H 1.0239 0.9248 0.2768 0.069 Uiso 1 1 calc R
H12B H 0.9302 0.9029 0.1617 0.069 Uiso 1 1 calc R
H12C H 1.0000 0.7356 0.2041 0.069 Uiso 1 1 calc R
C8 C 0.6052(7) 0.3973(12) 0.790(3) 0.060(5) Uani 1 1 d U
H8A H 0.5781 0.3198 0.8527 0.090 Uiso 1 1 calc R
H8B H 0.5529 0.4640 0.7339 0.090 Uiso 1 1 calc R
H8C H 0.6509 0.4815 0.8419 0.090 Uiso 1 1 calc R
loop_
_atom_site_aniso_label
_atom_site_aniso_U_11
_atom_site_aniso_U_22
_atom_site_aniso_U_33
_atom_site_aniso_U_23
_atom_site_aniso_U_13
_atom_site_aniso_U_12
O2 0.033(3) 0.054(3) 0.052(10) -0.003(4) 0.003(4) -0.006(2)
O1 0.043(3) 0.041(3) 0.040(11) 0.015(4) -0.006(4) 0.006(2)
C7 0.019(3) 0.046(4) 0.037(12) 0.009(5) -0.006(6) -0.001(3)
C1 0.034(4) 0.036(4) 0.037(12) 0.003(5) 0.008(7) 0.001(3)
C9 0.026(4) 0.039(4) 0.043(12) 0.008(5) 0.007(6) -0.008(3)
C11 0.027(4) 0.056(4) 0.040(12) -0.006(6) 0.013(6) 0.004(3)
C4 0.025(4) 0.040(4) 0.038(12) -0.009(5) 0.013(6) 0.000(3)
C5 0.028(4) 0.048(4) 0.037(12) -0.005(6) 0.008(6) 0.004(4)
C10 0.033(4) 0.042(4) 0.047(11) -0.010(6) 0.011(6) -0.003(3)
C6 0.044(5) 0.040(4) 0.046(12) 0.000(6) 0.011(6) -0.005(4)
C3 0.043(4) 0.039(4) 0.042(12) 0.008(5) 0.005(7) 0.004(3)
C2 0.038(4) 0.028(4) 0.034(12) -0.006(5) 0.000(6) -0.001(3)
C13 0.043(4) 0.060(5) 0.047(12) -0.001(6) 0.007(7) 0.003(4)
C12 0.035(4) 0.053(4) 0.050(12) -0.003(6) 0.008(6) -0.009(3)
C8 0.053(5) 0.065(5) 0.060(13) 0.008(6) 0.007(8) 0.009(4)
loop_
_atom_type_symbol
_atom_type_description
_atom_type_scat_dispersion_real
_atom_type_scat_dispersion_imag
_atom_type_scat_source
C C 0.0015 0.0009 'International Tables Vol C Tables 4.2.6.8 and 6.1.1.4'
H H 0.0000 0.0000 'International Tables Vol C Tables 4.2.6.8 and 6.1.1.4'
O O 0.0056 0.0036 'International Tables Vol C Tables 4.2.6.8 and 6.1.1.4'
loop_
_geom_angle_atom_site_label_1
_geom_angle_atom_site_label_2
_geom_angle_atom_site_label_3
_geom_angle
C9 C7 C8 109.0(8)
C9 C7 C1 108.0(16)
C8 C7 C1 113.5(9)
C2 C1 C6 119.2(15)
C2 C1 C7 120.8(10)
C6 C1 C7 119.9(9)
O2 C9 O1 122.3(10)
O2 C9 C7 121.4(7)
O1 C9 C7 116.0(7)
C13 C11 C12 111.3(9)
C13 C11 C10 110.9(7)
C12 C11 C10 107.6(15)
C5 C4 C3 113.1(15)
C5 C4 C10 123.1(9)
C3 C4 C10 123.7(10)
C4 C5 C6 124.8(11)
C4 C10 C11 110.4(15)
C5 C6 C1 120.7(10)
C2 C3 C4 123.4(10)
C1 C2 C3 118.6(11)
loop_
_geom_bond_atom_site_label_1
_geom_bond_atom_site_label_2
_geom_bond_distance
O2 C9 1.250(9)
O1 C9 1.281(10)
C7 C9 1.472(15)
C7 C8 1.58(3)
C7 C1 1.50(2)
C1 C2 1.368(15)
C1 C6 1.393(17)
C11 C13 1.506(18)
C11 C12 1.57(3)
C11 C10 1.545(13)
C4 C5 1.413(17)
C4 C3 1.400(16)
C4 C10 1.43(2)
C5 C6 1.32(2)
C3 C2 1.41(3)
loop_
_geom_torsion_atom_site_label_1
_geom_torsion_atom_site_label_2
_geom_torsion_atom_site_label_3
_geom_torsion_atom_site_label_4
_geom_torsion
C9 C7 C1 C2 78.8(14)
C8 C7 C1 C2 -42.2(19)
C9 C7 C1 C6 -96.3(13)
C8 C7 C1 C6 142.7(13)
C8 C7 C9 O2 41(2)
C1 C7 C9 O2 -82.6(17)
C8 C7 C9 O1 -144.8(15)
C1 C7 C9 O1 91.4(14)
C3 C4 C5 C6 1(2)
C10 C4 C5 C6 179.2(16)
C5 C4 C10 C11 -70.1(15)
C3 C4 C10 C11 107.5(13)
C13 C11 C10 C4 -74.6(14)
C12 C11 C10 C4 163.5(8)
C4 C5 C6 C1 -4(2)
C2 C1 C6 C5 3(2)
C7 C1 C6 C5 178.0(15)
C5 C4 C3 C2 2(2)
C10 C4 C3 C2 -175.9(14)
C6 C1 C2 C3 0(2)
C7 C1 C2 C3 -174.8(14)
C4 C3 C2 C1 -3(2)
