#------------------------------------------------------------------------------
#$Date: 2016-02-14 05:40:26 +0100 (dom 14 de feb de 2016) $
#$Revision: 176432 $
#$URL: svn://www.crystallography.net/cod/cif/4/51/27/4512750.cif $
#------------------------------------------------------------------------------
#
# This file is available in the Crystallography Open Database (COD),
# http://www.crystallography.net/
#
# All data on this site have been placed in the public domain by the
# contributors.
#
data_4512750
loop_
_publ_author_name
'Ostrowska, Kinga'
'Kropidłowska, Magdalena'
'Katrusiak, Andrzej'
_publ_section_title
;
 High-Pressure Crystallization and Structural Transformations in
 CompressedR,S-Ibuprofen
;
_journal_issue                   3
_journal_name_full               'Crystal Growth & Design'
_journal_page_first              1512
_journal_paper_doi               10.1021/cg5018888
_journal_volume                  15
_journal_year                    2015
_chemical_formula_moiety         'C13 H18 O2'
_chemical_formula_sum            'C13 H18 O2'
_chemical_formula_weight         206.27
_chemical_melting_point          349
_chemical_name_common
;
(R,S)-2-(4-(2-methylpropyl)phenyl)propanoic acid
;
_chemical_name_systematic
;
 (R,S)-ibuprofen
;
_space_group_IT_number           14
_symmetry_cell_setting           monoclinic
_symmetry_space_group_name_Hall  '-P 2ybc'
_symmetry_space_group_name_H-M   'P 1 21/c 1'
_atom_sites_solution_hydrogens   geom
_atom_sites_solution_primary     direct
_atom_sites_solution_secondary   difmap
_audit_creation_method           SHELXL-97
_cell_angle_alpha                90.00
_cell_angle_beta                 99.743(13)
_cell_angle_gamma                90.00
_cell_formula_units_Z            4
_cell_length_a                   14.4847(17)
_cell_length_b                   7.8321(10)
_cell_length_c                   10.4907(14)
_cell_measurement_reflns_used    2262
_cell_measurement_temperature    100(2)
_cell_measurement_theta_max      26.32
_cell_measurement_theta_min      2.85
_cell_volume                     1173.0(3)
_computing_cell_refinement       'CrysAlis (Oxford Diffraction, 2002)'
_computing_data_collection       'CrysAlis (Oxford Diffraction, 2002)'
_computing_data_reduction        'CrysAlis (Oxford Diffraction, 2002)'
_computing_molecular_graphics
;X-Seed (Barbour, 2001) 
and POV-Ray (Persistence of Vision, 2004)

Mercury (2008)
;
_computing_publication_material  'SHELXL-97 (Sheldrick, 1997)'
_computing_structure_refinement  'SHELXL-97 (Sheldrick, 1997)'
_computing_structure_solution    'SHELXS-97 (Sheldrick, 1990)'
_diffrn_ambient_temperature      100(2)
_diffrn_measured_fraction_theta_full 0.947
_diffrn_measured_fraction_theta_max 0.947
_diffrn_radiation_monochromator  graphite
_diffrn_radiation_source         'fine-focus sealed tube'
_diffrn_radiation_type           MoK\a
_diffrn_radiation_wavelength     0.71073
_diffrn_reflns_av_R_equivalents  0.0217
_diffrn_reflns_av_sigmaI/netI    0.0201
_diffrn_reflns_limit_h_max       17
_diffrn_reflns_limit_h_min       -17
_diffrn_reflns_limit_k_max       9
_diffrn_reflns_limit_k_min       -9
_diffrn_reflns_limit_l_max       12
_diffrn_reflns_limit_l_min       -13
_diffrn_reflns_number            8020
_diffrn_reflns_theta_full        26.32
_diffrn_reflns_theta_max         26.32
_diffrn_reflns_theta_min         2.85
_exptl_absorpt_coefficient_mu    0.077
_exptl_absorpt_correction_T_max  0.996
_exptl_absorpt_correction_T_min  0.991
_exptl_absorpt_correction_type   multi-scan
_exptl_absorpt_process_details
; 
Correction for absorption was made using XEMP (SHELXTL, 
Sheldrick (1990)).
;
_exptl_crystal_colour            colourless
_exptl_crystal_density_diffrn    1.168
_exptl_crystal_density_method    'not measured'
_exptl_crystal_description       plate
_exptl_crystal_F_000             448
_exptl_crystal_size_max          0.25
_exptl_crystal_size_mid          0.10
_exptl_crystal_size_min          0.05
_refine_diff_density_max         0.202
_refine_diff_density_min         -0.164
_refine_diff_density_rms         0.037
_refine_ls_extinction_coef       0.012(3)
_refine_ls_extinction_expression Fc^*^=kFc[1+0.001xFc²λ³/sin(2θ)]^-1/4^
_refine_ls_extinction_method     SHELXL
_refine_ls_goodness_of_fit_ref   0.989
_refine_ls_hydrogen_treatment    mixed
_refine_ls_matrix_type           full
_refine_ls_number_parameters     137
_refine_ls_number_reflns         2262
_refine_ls_number_restraints     0
_refine_ls_restrained_S_all      0.989
_refine_ls_R_factor_all          0.0471
_refine_ls_R_factor_gt           0.0424
_refine_ls_shift/su_max          0.000
_refine_ls_shift/su_mean         0.000
_refine_ls_structure_factor_coef Fsqd
_refine_ls_weighting_details
'calc w=1/[σ²(Fo²)+(0.0555P)²+0.4901P] where P=(Fo²+2Fc²)/3'
_refine_ls_weighting_scheme      calc
_refine_ls_wR_factor_gt          0.1105
_refine_ls_wR_factor_ref         0.1149
_reflns_number_gt                2024
_reflns_number_total             2262
_reflns_threshold_expression     >2sigma(I)
_cod_data_source_file            cg5018888_si_002.cif
_cod_data_source_block           ibuprofen_100
_cod_depositor_comments
;
The following automatic conversions were performed:

'_symmetry_cell_setting' value 'Monoclinic' changed to 'monoclinic'
according to
/usr/data/users/saulius/crontab/automatic-downloads/rss-feeds/ACS/lib/dictionaries/cif_core.dic
dictionary named 'cif_core.dic' version 2.4.2 from 2011-04-26.

Automatic conversion script
Id: cif_fix_values 3008 2015-01-20 13:52:24Z robertas 

 Adding full bibliography for 4512740--4512754.cif.
;
_cod_original_sg_symbol_Hall     '-P 2y bc'
_cod_original_sg_symbol_H-M      P2(1)/c
_cod_database_code               4512750
loop_
_symmetry_equiv_pos_as_xyz
'x, y, z'
'-x, y+1/2, -z+1/2'
'-x, -y, -z'
'x, -y-1/2, z-1/2'
loop_
_atom_site_label
_atom_site_type_symbol
_atom_site_fract_x
_atom_site_fract_y
_atom_site_fract_z
_atom_site_U_iso_or_equiv
_atom_site_adp_type
_atom_site_occupancy
_atom_site_symmetry_multiplicity
_atom_site_calc_flag
_atom_site_refinement_flags
O2 O 0.50261(6) 0.18777(12) 0.56230(10) 0.0321(3) Uani 1 1 d .
O1 O 0.62214(7) 0.00460(12) 0.58622(9) 0.0319(3) Uani 1 1 d .
H01 H 0.5827 -0.0579 0.5445 0.038 Uiso 1 1 calc R
C7 C 0.65076(10) 0.27935(18) 0.67837(13) 0.0288(3) Uani 1 1 d .
H7A H 0.6997 0.2160 0.7352 0.035 Uiso 1 1 calc R
C1 C 0.69647(9) 0.37691(16) 0.57990(13) 0.0261(3) Uani 1 1 d .
C9 C 0.58399(9) 0.15248(16) 0.60455(12) 0.0256(3) Uani 1 1 d .
C11 C 0.90329(10) 0.76427(17) 0.35245(14) 0.0310(3) Uani 1 1 d .
H11A H 0.9457 0.7026 0.4196 0.037 Uiso 1 1 calc R
C4 C 0.77936(9) 0.54936(17) 0.39225(13) 0.0273(3) Uani 1 1 d .
C5 C 0.82391(10) 0.41266(18) 0.46121(14) 0.0316(3) Uani 1 1 d .
H5A H 0.8822 0.3775 0.4453 0.038 Uiso 1 1 calc R
C10 C 0.82527(10) 0.64178(18) 0.29352(14) 0.0308(3) Uani 1 1 d .
H10A H 0.7778 0.7058 0.2367 0.037 Uiso 1 1 calc R
H10B H 0.8512 0.5581 0.2412 0.037 Uiso 1 1 calc R
C3 C 0.69235(9) 0.59671(17) 0.41848(14) 0.0302(3) Uani 1 1 d .
H3A H 0.6608 0.6873 0.3732 0.036 Uiso 1 1 calc R
C6 C 0.78313(10) 0.32774(17) 0.55330(14) 0.0308(3) Uani 1 1 d .
H6A H 0.8144 0.2364 0.5980 0.037 Uiso 1 1 calc R
C2 C 0.65119(10) 0.51252(17) 0.51049(14) 0.0304(3) Uani 1 1 d .
H2A H 0.5927 0.5471 0.5259 0.036 Uiso 1 1 calc R
C13 C 0.86404(12) 0.9165(2) 0.41488(16) 0.0406(4) Uani 1 1 d .
H13A H 0.9143 0.9914 0.4504 0.061 Uiso 1 1 calc R
H13B H 0.8322 0.8778 0.4827 0.061 Uiso 1 1 calc R
H13C H 0.8208 0.9768 0.3511 0.061 Uiso 1 1 calc R
C12 C 0.95938(11) 0.8231(2) 0.25025(17) 0.0417(4) Uani 1 1 d .
H12A H 1.0079 0.8999 0.2887 0.063 Uiso 1 1 calc R
H12B H 0.9186 0.8807 0.1820 0.063 Uiso 1 1 calc R
H12C H 0.9870 0.7259 0.2156 0.063 Uiso 1 1 calc R
C8 C 0.59985(12) 0.3926(2) 0.76216(14) 0.0388(4) Uani 1 1 d .
H8A H 0.5734 0.3230 0.8222 0.058 Uiso 1 1 calc R
H8B H 0.5507 0.4539 0.7081 0.058 Uiso 1 1 calc R
H8C H 0.6433 0.4722 0.8089 0.058 Uiso 1 1 calc R
loop_
_atom_site_aniso_label
_atom_site_aniso_U_11
_atom_site_aniso_U_22
_atom_site_aniso_U_33
_atom_site_aniso_U_23
_atom_site_aniso_U_13
_atom_site_aniso_U_12
O2 0.0257(5) 0.0278(5) 0.0419(6) -0.0029(4) 0.0031(4) 0.0012(4)
O1 0.0287(5) 0.0271(5) 0.0377(6) -0.0023(4) -0.0003(4) 0.0021(4)
C7 0.0301(7) 0.0299(7) 0.0254(7) 0.0024(5) 0.0018(6) -0.0016(5)
C1 0.0266(7) 0.0240(6) 0.0268(7) -0.0022(5) 0.0020(5) -0.0022(5)
C9 0.0282(7) 0.0263(6) 0.0233(6) 0.0049(5) 0.0072(5) 0.0012(5)
C11 0.0253(7) 0.0298(7) 0.0373(8) 0.0043(6) 0.0031(6) -0.0017(5)
C4 0.0250(7) 0.0267(6) 0.0299(7) -0.0042(5) 0.0040(5) -0.0041(5)
C5 0.0233(7) 0.0315(7) 0.0402(8) -0.0021(6) 0.0061(6) 0.0025(5)
C10 0.0301(7) 0.0312(7) 0.0321(7) -0.0020(6) 0.0087(6) -0.0024(6)
C3 0.0294(7) 0.0257(6) 0.0357(8) 0.0045(6) 0.0059(6) 0.0029(5)
C6 0.0279(7) 0.0265(7) 0.0366(8) 0.0025(6) 0.0012(6) 0.0035(5)
C2 0.0250(7) 0.0296(7) 0.0373(8) 0.0023(6) 0.0078(6) 0.0037(5)
C13 0.0421(9) 0.0362(8) 0.0442(9) -0.0068(7) 0.0089(7) -0.0050(7)
C12 0.0381(8) 0.0366(8) 0.0538(10) 0.0045(7) 0.0173(7) -0.0036(6)
C8 0.0470(9) 0.0423(9) 0.0293(7) -0.0070(6) 0.0122(7) -0.0074(7)
loop_
_atom_type_symbol
_atom_type_description
_atom_type_scat_dispersion_real
_atom_type_scat_dispersion_imag
_atom_type_scat_source
C C 0.0033 0.0016 'International Tables Vol C Tables 4.2.6.8 and 6.1.1.4'
H H 0.0000 0.0000 'International Tables Vol C Tables 4.2.6.8 and 6.1.1.4'
O O 0.0106 0.0060 'International Tables Vol C Tables 4.2.6.8 and 6.1.1.4'
loop_
_geom_angle_atom_site_label_1
_geom_angle_atom_site_label_2
_geom_angle_atom_site_label_3
_geom_angle
C9 C7 C8 110.45(11)
C9 C7 C1 107.28(10)
C8 C7 C1 114.04(12)
C2 C1 C6 118.08(12)
C2 C1 C7 121.23(12)
C6 C1 C7 120.63(12)
O2 C9 O1 123.54(13)
O2 C9 C7 122.32(12)
O1 C9 C7 114.09(11)
C12 C11 C13 110.47(12)
C12 C11 C10 110.55(12)
C13 C11 C10 111.23(12)
C5 C4 C3 117.46(12)
C5 C4 C10 120.54(12)
C3 C4 C10 122.00(13)
C6 C5 C4 121.22(12)
C4 C10 C11 113.88(12)
C2 C3 C4 121.64(13)
C5 C6 C1 120.98(13)
C1 C2 C3 120.61(12)
loop_
_geom_bond_atom_site_label_1
_geom_bond_atom_site_label_2
_geom_bond_distance
O2 C9 1.2188(16)
O1 C9 1.3114(16)
C7 C9 1.5063(19)
C7 C8 1.524(2)
C7 C1 1.5235(18)
C1 C2 1.3881(19)
C1 C6 1.3859(19)
C11 C12 1.522(2)
C11 C13 1.517(2)
C11 C10 1.5308(19)
C4 C5 1.3885(19)
C4 C3 1.3853(18)
C4 C10 1.5073(18)
C5 C6 1.385(2)
C3 C2 1.3844(19)
