#------------------------------------------------------------------------------
#$Date: 2019-10-28 09:08:38 +0100 (lun 28 de oct de 2019) $
#$Revision: 219887 $
#$URL: svn://www.crystallography.net/cod/cif/4/51/47/4514722.cif $
#------------------------------------------------------------------------------
#
# This file is available in the Crystallography Open Database (COD),
# http://www.crystallography.net/
#
# All data on this site have been placed in the public domain by the
# contributors.
#
data_4514722
loop_
_publ_author_name
'Nguyen, Viet D.'
'Nguyen, Vu T.'
'Haug, Graham C.'
'Dang, Hang T.'
'Arman, Hadi D.'
'Ermler, Walter C.'
'Larionov, Oleg V.'
_publ_section_title
;
 Rapid and Chemodivergent Synthesis of N-Heterocyclic Sulfones and
 Sulfides: Mechanistic and Computational Details of the
 Persulfate-Initiated Catalysis
;
_journal_issue                   5
_journal_name_full               'ACS Catalysis'
_journal_page_first              4015
_journal_paper_doi               10.1021/acscatal.9b00464
_journal_volume                  9
_journal_year                    2019
_chemical_formula_moiety         'C16 H13 N O2 S'
_chemical_formula_sum            'C16 H13 N O2 S'
_chemical_formula_weight         283.33
_space_group_crystal_system      monoclinic
_space_group_IT_number           14
_space_group_name_Hall           '-P 2ybc'
_space_group_name_H-M_alt        'P 1 21/c 1'
_symmetry_space_group_name_Hall  '-P 2ybc'
_symmetry_space_group_name_H-M   'P 1 21/c 1'
_atom_sites_solution_hydrogens   geom
_atom_sites_solution_primary     dual
_audit_creation_date             2017-12-13
_audit_creation_method
;
Olex2 1.2
(compiled 2017.08.10 svn.r3458 for OlexSys, GUI svn.r5381)
;
_cell_angle_alpha                90
_cell_angle_beta                 97.000(2)
_cell_angle_gamma                90
_cell_formula_units_Z            4
_cell_length_a                   8.3782(2)
_cell_length_b                   8.2660(2)
_cell_length_c                   20.0756(5)
_cell_measurement_reflns_used    9380
_cell_measurement_temperature    98(2)
_cell_measurement_theta_max      30.0000
_cell_measurement_theta_min      2.5680
_cell_volume                     1379.96(6)
_computing_cell_refinement       'CrysAlisPro 1.171.39.28e (Rigaku OD, 2015)'
_computing_data_collection       'CrysAlisPro 1.171.39.28e (Rigaku OD, 2015)'
_computing_data_reduction        'CrysAlisPro 1.171.39.28e (Rigaku OD, 2015)'
_computing_molecular_graphics    'Olex2 (Dolomanov et al., 2009)'
_computing_publication_material  'Olex2 (Dolomanov et al., 2009)'
_computing_structure_refinement  'ShelXL (Sheldrick, 2015)'
_computing_structure_solution    'ShelXT (Sheldrick, 2015)'
_diffrn_ambient_temperature      98(2)
_diffrn_detector                 'CCD plate'
_diffrn_measured_fraction_theta_full 1.000
_diffrn_measured_fraction_theta_max 1.000
_diffrn_measurement_details
;
List of Runs (angles in degrees, time in seconds):

  # Type    Start    End  Width  tₑₓₚ   ω     θ     κ     φ   Frames
--------------------------------------------------------------------------
  1  ω    -33.00  94.00   1.00   35.00    --    4.20  19.00   7.00  127
  2  ω    -99.00  28.00   1.00   35.00    --   -9.70 -19.00-160.00  127
  3  ω    -39.00  80.00   1.00   35.00    --   -9.70  57.00-180.00  119
  4  ω    -91.00  20.00   1.00   35.00    --   -9.70 -57.00 120.00  111
;
_diffrn_measurement_device       'four-circle diffractometer'
_diffrn_measurement_device_type  'XtaLAB AFC12 (RCD3): Kappa single'
_diffrn_measurement_method       'ω scans'
_diffrn_orient_matrix_type
'CrysAlisPro convention (1999,Acta A55,543-557)'
_diffrn_orient_matrix_UB_11      0.0450228000
_diffrn_orient_matrix_UB_12      -0.0050323000
_diffrn_orient_matrix_UB_13      0.0322221000
_diffrn_orient_matrix_UB_21      0.0707433000
_diffrn_orient_matrix_UB_22      0.0215710000
_diffrn_orient_matrix_UB_23      -0.0140292000
_diffrn_orient_matrix_UB_31      -0.0156733000
_diffrn_orient_matrix_UB_32      0.0829135000
_diffrn_orient_matrix_UB_33      0.0056044000
_diffrn_radiation_monochromator  graphite
_diffrn_radiation_probe          x-ray
_diffrn_radiation_type           MoK\a
_diffrn_radiation_wavelength     0.71073
_diffrn_reflns_av_R_equivalents  0.0268
_diffrn_reflns_av_unetI/netI     0.0165
_diffrn_reflns_Laue_measured_fraction_full 1.000
_diffrn_reflns_Laue_measured_fraction_max 1.000
_diffrn_reflns_limit_h_max       10
_diffrn_reflns_limit_h_min       -10
_diffrn_reflns_limit_k_max       9
_diffrn_reflns_limit_k_min       -10
_diffrn_reflns_limit_l_max       24
_diffrn_reflns_limit_l_min       -24
_diffrn_reflns_number            18633
_diffrn_reflns_point_group_measured_fraction_full 1.000
_diffrn_reflns_point_group_measured_fraction_max 1.000
_diffrn_reflns_theta_full        25.242
_diffrn_reflns_theta_max         25.997
_diffrn_reflns_theta_min         2.449
_diffrn_source                   'fine-focus sealed X-ray tube'
_diffrn_source_type              'Enhance (Mo) X-ray Source'
_exptl_absorpt_coefficient_mu    0.234
_exptl_absorpt_correction_T_max  1.00000
_exptl_absorpt_correction_T_min  0.91887
_exptl_absorpt_correction_type   multi-scan
_exptl_absorpt_process_details
;
CrysAlisPro 1.171.39.28e (Rigaku Oxford Diffraction, 2015)
Empirical absorption correction using spherical harmonics,
 implemented in SCALE3 ABSPACK scaling algorithm.
;
_exptl_crystal_colour            'clear colourless'
_exptl_crystal_colour_lustre     clear
_exptl_crystal_colour_primary    colourless
_exptl_crystal_density_diffrn    1.364
_exptl_crystal_description       block
_exptl_crystal_F_000             592
_exptl_crystal_size_max          0.4
_exptl_crystal_size_mid          0.24
_exptl_crystal_size_min          0.2
_refine_diff_density_max         0.374
_refine_diff_density_min         -0.420
_refine_diff_density_rms         0.050
_refine_ls_extinction_method     none
_refine_ls_goodness_of_fit_ref   1.064
_refine_ls_hydrogen_treatment    constr
_refine_ls_matrix_type           full
_refine_ls_number_parameters     182
_refine_ls_number_reflns         2715
_refine_ls_number_restraints     0
_refine_ls_restrained_S_all      1.064
_refine_ls_R_factor_all          0.0403
_refine_ls_R_factor_gt           0.0391
_refine_ls_shift/su_max          0.001
_refine_ls_shift/su_mean         0.000
_refine_ls_structure_factor_coef Fsqd
_refine_ls_weighting_details
'w=1/[σ²(Fo²)+(0.0320P)²+1.4000P] where P=(Fo²+2Fc²)/3'
_refine_ls_weighting_scheme      calc
_refine_ls_wR_factor_gt          0.0881
_refine_ls_wR_factor_ref         0.0889
_reflns_Friedel_coverage         0.000
_reflns_number_gt                2660
_reflns_number_total             2715
_reflns_threshold_expression     'I > 2σ(I)'
_cod_data_source_file            cs9b00464_si_014.cif
_cod_data_source_block           cd1636b
_cod_database_code               4514722
_shelx_shelxl_version_number     2016/6
_chemical_oxdiff_formula         C20H20N1S1O2
_shelx_space_group_comment
;
The symmetry employed for this shelxl refinement is uniquely defined
by the following loop, which should always be used as a source of
symmetry information in preference to the above space-group names.
They are only intended as comments.
;
_shelx_estimated_absorpt_t_max   0.955
_shelx_estimated_absorpt_t_min   0.912
_reflns_odcompleteness_completeness 99.94
_reflns_odcompleteness_iscentric 1
_reflns_odcompleteness_theta     27.42
_olex2_refinement_description
;
1. Fixed Uiso
 At 1.2 times of:
  All C(H) groups
 At 1.5 times of:
  All C(H,H,H) groups
2.a Aromatic/amide H refined with riding coordinates:
 C15(H15), C11(H11), C3(H3), C14(H14), C12(H12), C8(H8), C6(H6), C4(H4),
 C5(H5), C9(H9)
2.b Idealised Me refined as rotating group:
 C16(H16A,H16B,H16C)
;
_olex2_exptl_crystal_mounting_method 'nylon loop'
_olex2_submission_special_instructions 'No special instructions were received'
_oxdiff_exptl_absorpt_empirical_details
;
Empirical correction (ABSPACK) includes:
- Absorption correction using spherical harmonics
- Frame scaling
;
_oxdiff_exptl_absorpt_empirical_full_max 1.137
_oxdiff_exptl_absorpt_empirical_full_min 0.863
loop_
_space_group_symop_operation_xyz
'x, y, z'
'-x, y+1/2, -z+1/2'
'-x, -y, -z'
'x, -y-1/2, z-1/2'
loop_
_atom_site_label
_atom_site_type_symbol
_atom_site_fract_x
_atom_site_fract_y
_atom_site_fract_z
_atom_site_U_iso_or_equiv
_atom_site_adp_type
_atom_site_occupancy
_atom_site_site_symmetry_order
_atom_site_calc_flag
_atom_site_refinement_flags_posn
S1 S 0.52799(5) 0.50004(5) 0.65638(2) 0.01588(12) Uani 1 1 d .
O2 O 0.53664(17) 0.46330(17) 0.72685(6) 0.0292(3) Uani 1 1 d .
O1 O 0.43506(14) 0.63813(15) 0.63066(8) 0.0293(3) Uani 1 1 d .
N1 N 0.78816(17) 0.41190(18) 0.60520(7) 0.0203(3) Uani 1 1 d .
C1 C 0.73142(19) 0.53033(19) 0.63868(8) 0.0139(3) Uani 1 1 d .
C2 C 0.81506(18) 0.6731(2) 0.66184(7) 0.0141(3) Uani 1 1 d .
C10 C 0.45609(18) 0.32901(19) 0.60973(8) 0.0133(3) Uani 1 1 d .
C15 C 0.47426(19) 0.1767(2) 0.63868(8) 0.0162(3) Uani 1 1 d .
H15 H 0.530391 0.163755 0.682409 0.019 Uiso 1 1 calc R
C11 C 0.37496(19) 0.3501(2) 0.54575(8) 0.0174(3) Uani 1 1 d .
H11 H 0.364443 0.454584 0.526009 0.021 Uiso 1 1 calc R
C7 C 0.97596(19) 0.6853(2) 0.64605(8) 0.0181(4) Uani 1 1 d .
C3 C 0.7508(2) 0.8000(2) 0.69802(8) 0.0174(3) Uani 1 1 d .
H3 H 0.644590 0.792206 0.709728 0.021 Uiso 1 1 calc R
C13 C 0.3255(2) 0.0610(2) 0.53932(8) 0.0185(4) Uani 1 1 d .
C14 C 0.4097(2) 0.0439(2) 0.60315(8) 0.0176(3) Uani 1 1 d .
H14 H 0.423062 -0.060765 0.622594 0.021 Uiso 1 1 calc R
C12 C 0.3097(2) 0.2158(2) 0.51133(8) 0.0208(4) Uani 1 1 d .
H12 H 0.253040 0.229142 0.467736 0.025 Uiso 1 1 calc R
C8 C 1.0372(2) 0.5571(2) 0.61005(9) 0.0240(4) Uani 1 1 d .
H8 H 1.144083 0.562049 0.598943 0.029 Uiso 1 1 calc R
C6 C 1.0677(2) 0.8247(2) 0.66650(9) 0.0255(4) Uani 1 1 d .
H6 H 1.175688 0.833279 0.656967 0.031 Uiso 1 1 calc R
C4 C 0.8425(2) 0.9338(2) 0.71603(9) 0.0242(4) Uani 1 1 d .
H4 H 0.798631 1.019189 0.739750 0.029 Uiso 1 1 calc R
C5 C 1.0015(2) 0.9467(2) 0.69982(9) 0.0280(4) Uani 1 1 d .
H5 H 1.062779 1.041050 0.712209 0.034 Uiso 1 1 calc R
C9 C 0.9435(2) 0.4270(2) 0.59131(9) 0.0260(4) Uani 1 1 d .
H9 H 0.987823 0.342313 0.567385 0.031 Uiso 1 1 calc R
C16 C 0.2507(2) -0.0834(2) 0.50161(10) 0.0283(4) Uani 1 1 d .
H16A H 0.319412 -0.178412 0.511687 0.042 Uiso 1 1 calc GR
H16B H 0.239893 -0.061535 0.453295 0.042 Uiso 1 1 calc GR
H16C H 0.144309 -0.104130 0.515361 0.042 Uiso 1 1 calc GR
loop_
_atom_site_aniso_label
_atom_site_aniso_U_11
_atom_site_aniso_U_22
_atom_site_aniso_U_33
_atom_site_aniso_U_23
_atom_site_aniso_U_13
_atom_site_aniso_U_12
S1 0.0128(2) 0.0137(2) 0.0226(2) -0.00478(15) 0.00797(15) -0.00290(15)
O2 0.0371(8) 0.0324(7) 0.0212(6) -0.0117(5) 0.0163(6) -0.0176(6)
O1 0.0129(6) 0.0141(6) 0.0606(9) -0.0059(6) 0.0031(6) -0.0001(5)
N1 0.0141(7) 0.0225(8) 0.0249(8) -0.0056(6) 0.0048(6) 0.0006(6)
C1 0.0118(7) 0.0170(8) 0.0130(7) 0.0013(6) 0.0019(6) 0.0008(6)
C2 0.0115(7) 0.0203(8) 0.0099(7) 0.0023(6) -0.0010(6) -0.0007(6)
C10 0.0109(7) 0.0133(8) 0.0165(7) -0.0020(6) 0.0046(6) -0.0020(6)
C15 0.0155(8) 0.0185(8) 0.0143(7) 0.0026(6) 0.0005(6) -0.0012(6)
C11 0.0166(8) 0.0183(8) 0.0180(8) 0.0057(6) 0.0050(6) 0.0008(6)
C7 0.0131(8) 0.0266(9) 0.0142(8) -0.0004(7) -0.0004(6) -0.0013(7)
C3 0.0142(8) 0.0213(9) 0.0164(8) -0.0014(6) 0.0001(6) -0.0002(6)
C13 0.0154(8) 0.0220(9) 0.0191(8) -0.0054(7) 0.0067(6) -0.0038(7)
C14 0.0175(8) 0.0136(8) 0.0220(8) 0.0022(6) 0.0039(7) -0.0013(6)
C12 0.0184(8) 0.0293(10) 0.0142(8) 0.0017(7) 0.0001(6) -0.0016(7)
C8 0.0110(8) 0.0378(11) 0.0237(9) -0.0056(8) 0.0040(7) -0.0004(7)
C6 0.0161(8) 0.0373(11) 0.0232(9) -0.0048(8) 0.0023(7) -0.0095(8)
C4 0.0230(9) 0.0245(9) 0.0246(9) -0.0080(7) 0.0007(7) -0.0018(7)
C5 0.0236(9) 0.0307(10) 0.0285(10) -0.0077(8) -0.0015(8) -0.0128(8)
C9 0.0156(9) 0.0321(10) 0.0316(10) -0.0129(8) 0.0079(7) 0.0020(8)
C16 0.0282(10) 0.0283(10) 0.0287(10) -0.0116(8) 0.0049(8) -0.0086(8)
loop_
_atom_type_symbol
_atom_type_description
_atom_type_scat_dispersion_real
_atom_type_scat_dispersion_imag
_atom_type_scat_source
C C 0.0033 0.0016 'International Tables Vol C Tables 4.2.6.8 and 6.1.1.4'
H H 0.0000 0.0000 'International Tables Vol C Tables 4.2.6.8 and 6.1.1.4'
N N 0.0061 0.0033 'International Tables Vol C Tables 4.2.6.8 and 6.1.1.4'
O O 0.0106 0.0060 'International Tables Vol C Tables 4.2.6.8 and 6.1.1.4'
S S 0.1246 0.1234 'International Tables Vol C Tables 4.2.6.8 and 6.1.1.4'
loop_
_geom_angle_atom_site_label_1
_geom_angle_atom_site_label_2
_geom_angle_atom_site_label_3
_geom_angle
O2 S1 O1 118.63(9)
O2 S1 C1 106.72(8)
O2 S1 C10 109.03(8)
O1 S1 C1 107.59(8)
O1 S1 C10 108.09(8)
C10 S1 C1 106.11(7)
C1 N1 C9 116.73(15)
N1 C1 S1 114.15(12)
N1 C1 C2 126.39(15)
C2 C1 S1 119.46(12)
C1 C2 C7 115.32(14)
C3 C2 C1 125.36(15)
C3 C2 C7 119.32(15)
C15 C10 S1 119.53(12)
C15 C10 C11 121.17(15)
C11 C10 S1 119.22(13)
C10 C15 H15 120.4
C14 C15 C10 119.23(15)
C14 C15 H15 120.4
C10 C11 H11 120.7
C12 C11 C10 118.68(15)
C12 C11 H11 120.7
C8 C7 C2 118.21(15)
C8 C7 C6 122.67(16)
C6 C7 C2 119.12(16)
C2 C3 H3 120.1
C4 C3 C2 119.77(16)
C4 C3 H3 120.1
C14 C13 C12 118.41(15)
C14 C13 C16 120.92(16)
C12 C13 C16 120.66(16)
C15 C14 C13 121.08(15)
C15 C14 H14 119.5
C13 C14 H14 119.5
C11 C12 C13 121.43(15)
C11 C12 H12 119.3
C13 C12 H12 119.3
C7 C8 H8 119.9
C9 C8 C7 120.13(16)
C9 C8 H8 119.9
C7 C6 H6 119.9
C5 C6 C7 120.28(16)
C5 C6 H6 119.9
C3 C4 H4 119.5
C3 C4 C5 120.93(17)
C5 C4 H4 119.5
C6 C5 C4 120.54(17)
C6 C5 H5 119.7
C4 C5 H5 119.7
N1 C9 H9 118.4
C8 C9 N1 123.21(16)
C8 C9 H9 118.4
C13 C16 H16A 109.5
C13 C16 H16B 109.5
C13 C16 H16C 109.5
H16A C16 H16B 109.5
H16A C16 H16C 109.5
H16B C16 H16C 109.5
loop_
_geom_bond_atom_site_label_1
_geom_bond_atom_site_label_2
_geom_bond_distance
S1 O2 1.4401(13)
S1 O1 1.4414(13)
S1 C1 1.8004(16)
S1 C10 1.7610(16)
N1 C1 1.309(2)
N1 C9 1.369(2)
C1 C2 1.421(2)
C2 C7 1.426(2)
C2 C3 1.419(2)
C10 C15 1.387(2)
C10 C11 1.389(2)
C15 H15 0.9500
C15 C14 1.383(2)
C11 H11 0.9500
C11 C12 1.384(2)
C7 C8 1.413(2)
C7 C6 1.418(2)
C3 H3 0.9500
C3 C4 1.370(2)
C13 C14 1.393(2)
C13 C12 1.397(3)
C13 C16 1.508(2)
C14 H14 0.9500
C12 H12 0.9500
C8 H8 0.9500
C8 C9 1.357(3)
C6 H6 0.9500
C6 C5 1.364(3)
C4 H4 0.9500
C4 C5 1.413(3)
C5 H5 0.9500
C9 H9 0.9500
C16 H16A 0.9800
C16 H16B 0.9800
C16 H16C 0.9800
