#------------------------------------------------------------------------------
#$Date: 2016-11-26 21:46:59 +0100 (Sat 26 de Nov de 2016) $
#$Revision: 188694 $
#$URL: svn://www.crystallography.net/cod/cif/6/00/00/6000083.cif $
#------------------------------------------------------------------------------
#
# This file is available in the Crystallography Open Database (COD),
# http://www.crystallography.net/
#
# All data on this site have been placed in the public domain by the
# contributors.
#
data_6000083
loop_
_publ_author_name
'Thangadurai, V.'
'Shukla, A. K.'
'Gopalakrishnan, J.'
'Joubert, O.'
'Brohan, L.'
'Tournoux, M.'
_publ_section_title
;
 X-ray powder diffraction study of LiLnTiO₄ (Ln = La, Nd): a lithium-ion
 conductor
;
_journal_name_full               'Materials Science Forum'
_journal_page_first              965
_journal_page_last               970
_journal_paper_doi               10.4028/www.scientific.net/MSF.321-324.965
_journal_volume                  321-324
_journal_year                    2000
_chemical_formula_sum            'La Li O4 Ti'
_space_group_name_H-M_alt        'P 4/n m m'
_cell_angle_alpha                90.000
_cell_angle_beta                 90.000
_cell_angle_gamma                90.000
_cell_length_a                   3.7700
_cell_length_b                   3.7700
_cell_length_c                   12.0760
_cell_volume                     171.63
_cod_database_code               6000083
loop_
_atom_site_label
_atom_site_fract_x
_atom_site_fract_y
_atom_site_fract_z
? ? ? ?
