#------------------------------------------------------------------------------
#$Date: 2016-01-25 01:10:19 +0100 (lun 25 de ene de 2016) $
#$Revision: 174974 $
#$URL: svn://www.crystallography.net/cod/cif/6/00/01/6000104.cif $
#------------------------------------------------------------------------------
#
# This file is available in the Crystallography Open Database (COD),
# http://www.crystallography.net/
#
# All data on this site have been placed in the public domain by the
# contributors.
#
data_6000104
loop_
_publ_author_name
'Hofmann, K.'
'Albert, B.'
_publ_section_title
;
 Crystal structure of bis(triethylammonium)closo-decahydrodecaborate,
 [(C₂H₅)₃NH]₂[B₁₀H₁₀]
;
_journal_issue                   6
_journal_name_full               'Zeitschrift für Naturforschung B'
_journal_page_first              499
_journal_page_last               503
_journal_paper_doi               10.1515/znb-2000-0610
_journal_volume                  55
_journal_year                    2000
_chemical_formula_sum            'C12 H42 B10 N2'
_space_group_name_H-M_alt        'P m m n'
_cell_angle_alpha                90.000
_cell_angle_beta                 90.000
_cell_angle_gamma                90.000
_cell_length_a                   9.8970
_cell_length_b                   13.3370
_cell_length_c                   9.0370
_cell_volume                     1192.85
_cod_database_code               6000104
loop_
_atom_site_label
_atom_site_fract_x
_atom_site_fract_y
_atom_site_fract_z
? ? ? ?
