#------------------------------------------------------------------------------
#$Date: 2016-01-25 01:15:09 +0100 (lun 25 de ene de 2016) $
#$Revision: 174975 $
#$URL: svn://www.crystallography.net/cod/cif/6/00/01/6000151.cif $
#------------------------------------------------------------------------------
#
# This file is available in the Crystallography Open Database (COD),
# http://www.crystallography.net/
#
# All data on this site have been placed in the public domain by the
# contributors.
#
data_6000151
loop_
_publ_author_name
'Nägele, A.'
'Anokhina, E.'
'Sitar, J.'
'Meyer, H. J.'
'Lachgar, A.'
_publ_section_title
;
 Synthesis and crystal structures of ATi[Nb₆Cl₁₈] compounds (A = K, Rb,
 Cs, In, Tl)
;
_journal_issue                   2
_journal_name_full               'Zeitschrift für Naturforschung B'
_journal_page_first              139
_journal_page_last               144
_journal_paper_doi               10.1515/znb-2000-0202
_journal_volume                  55
_journal_year                    2000
_chemical_formula_sum            'Cl18 Nb6 Rb Ti'
_space_group_name_H-M_alt        'R -3'
_cell_angle_alpha                90.000
_cell_angle_beta                 90.000
_cell_angle_gamma                120.000
_cell_length_a                   9.1630
_cell_length_b                   9.1630
_cell_length_c                   25.0140
_cell_volume                     1818.82
_cod_database_code               6000151
loop_
_atom_site_label
_atom_site_fract_x
_atom_site_fract_y
_atom_site_fract_z
? ? ? ?
