#------------------------------------------------------------------------------
#$Date: 2016-02-09 19:42:54 +0100 (mar 09 de feb de 2016) $
#$Revision: 176292 $
#$URL: svn://www.crystallography.net/cod/cif/6/00/03/6000337.cif $
#------------------------------------------------------------------------------
#
# This file is available in the Crystallography Open Database (COD),
# http://www.crystallography.net/
#
# All data on this site have been placed in the public domain by the
# contributors.
#
data_6000337
loop_
_publ_author_name
'Sales, M.'
'Eguia, G.'
'Quintana, P.'
'Torres-Martinez, L. M.'
'West, A. R.'
_publ_section_title
;
 The phase diagram CaO-Al2O3-Ta2O5 and the crystal structures of Ca2AlTaO6
 and CaAlTaO5
;
_journal_name_full               'Journal of Solid State Chemistry'
_journal_page_first              62
_journal_page_last               68
_journal_paper_doi               10.1006/jssc.1998.8079
_journal_volume                  143
_journal_year                    1999
_chemical_formula_sum            'Al Ca2 O6 Ta'
_space_group_name_H-M_alt        'P 1 21/c 1'
_cell_angle_alpha                90.000
_cell_angle_beta                 90.076
_cell_angle_gamma                90.000
_cell_length_a                   5.3915
_cell_length_b                   5.4321
_cell_length_c                   7.6508
_cell_volume                     224.07
_cod_database_code               6000337
loop_
_atom_site_label
_atom_site_fract_x
_atom_site_fract_y
_atom_site_fract_z
? ? ? ?
