#------------------------------------------------------------------------------
#$Date: 2016-02-09 19:42:54 +0100 (mar 09 de feb de 2016) $
#$Revision: 176292 $
#$URL: svn://www.crystallography.net/cod/cif/6/00/03/6000347.cif $
#------------------------------------------------------------------------------
#
# This file is available in the Crystallography Open Database (COD),
# http://www.crystallography.net/
#
# All data on this site have been placed in the public domain by the
# contributors.
#
data_6000347
loop_
_publ_author_name
'Park, J. H.'
'Woodward, P. M.'
'Parise, J. B.'
'Reeder, R. J.'
'Lubomirsky, I.'
'Stafsudd, O.'
_publ_section_title
;
 Synthesis, structure, and dielectric properties of (Bi1/2Ag1/2)TiO3
;
_journal_name_full               'Chemistry of Materials'
_journal_page_first              177
_journal_page_last               183
_journal_paper_doi               10.1021/cm9806533
_journal_volume                  11
_journal_year                    1999
_chemical_formula_sum            'Ag2 Bi O6 Ti2'
_space_group_name_H-M_alt        'I 4/m c m'
_cell_angle_alpha                90.000
_cell_angle_beta                 90.000
_cell_angle_gamma                90.000
_cell_length_a                   5.5166
_cell_length_b                   5.5166
_cell_length_c                   7.8134
_cell_volume                     237.79
_diffrn_ambient_temperature      573
_cod_database_code               6000347
loop_
_atom_site_label
_atom_site_fract_x
_atom_site_fract_y
_atom_site_fract_z
? ? ? ?
