#------------------------------------------------------------------------------
#$Date: 2016-02-09 19:42:54 +0100 (mar 09 de feb de 2016) $
#$Revision: 176292 $
#$URL: svn://www.crystallography.net/cod/cif/6/00/03/6000379.cif $
#------------------------------------------------------------------------------
#
# This file is available in the Crystallography Open Database (COD),
# http://www.crystallography.net/
#
# All data on this site have been placed in the public domain by the
# contributors.
#
data_6000379
loop_
_publ_author_name
'Chippindale, A. M.'
'Cowley, A. R.'
'Peacock, K. J.'
_publ_section_title
;
 Synthesis and characterisation of [TH] [ZnGaP2O8] (T = CN3H5 and C4NH9);
 two microporous zinc-gallium phosphates with the gismondine structure
;
_journal_name_full               'Microporous and Mesoporous Materials'
_journal_page_first              133
_journal_page_last               141
_journal_paper_doi               10.1016/S1387-1811(98)00159-0
_journal_volume                  24
_journal_year                    1998
_chemical_formula_sum            'C H6 Ga N3 O8 P2 Zn'
_space_group_name_H-M_alt        'I 1 2/a 1'
_cell_angle_alpha                90.000
_cell_angle_beta                 91.600
_cell_angle_gamma                90.000
_cell_length_a                   10.0410
_cell_length_b                   9.2200
_cell_length_c                   10.4690
_cell_volume                     968.82
_cod_database_code               6000379
loop_
_atom_site_label
_atom_site_fract_x
_atom_site_fract_y
_atom_site_fract_z
? ? ? ?
