#------------------------------------------------------------------------------
#$Date: 2016-02-09 19:42:54 +0100 (mar 09 de feb de 2016) $
#$Revision: 176292 $
#$URL: svn://www.crystallography.net/cod/cif/6/00/03/6000390.cif $
#------------------------------------------------------------------------------
#
# This file is available in the Crystallography Open Database (COD),
# http://www.crystallography.net/
#
# All data on this site have been placed in the public domain by the
# contributors.
#
data_6000390
loop_
_publ_author_name
'Hamanaka, N.'
'Imoto, H.'
_publ_section_title
;
 Syntheses, structures, and magnetic properties of metal(II) phosphates
 with M(OH)(PO4)(2): Layers (M = Ni, Co, Mg)
;
_journal_name_full               'Inorganic Chemistry'
_journal_page_first              5844
_journal_page_last               5850
_journal_paper_doi               10.1021/ic980595n
_journal_volume                  37
_journal_year                    1998
_chemical_formula_sum            'Co2 H8 O11 P2'
_space_group_name_H-M_alt        'P c a b'
_cell_angle_alpha                90.000
_cell_angle_beta                 90.000
_cell_angle_gamma                90.000
_cell_length_a                   8.3430
_cell_length_b                   13.0930
_cell_length_c                   15.3840
_cell_volume                     1680.47
_cod_database_code               6000390
loop_
_atom_site_label
_atom_site_fract_x
_atom_site_fract_y
_atom_site_fract_z
? ? ? ?
