#------------------------------------------------------------------------------
#$Date: 2016-02-09 19:42:54 +0100 (mar 09 de feb de 2016) $
#$Revision: 176292 $
#$URL: svn://www.crystallography.net/cod/cif/6/00/06/6000651.cif $
#------------------------------------------------------------------------------
#
# This file is available in the Crystallography Open Database (COD),
# http://www.crystallography.net/
#
# All data on this site have been placed in the public domain by the
# contributors.
#
data_6000651
loop_
_publ_author_name
'Wang, S. H.'
'Wang, M. T.'
_publ_section_title
;
 Studies on divalent thulium ternary iodide
;
_journal_coden_ASTM              KTHPDM
_journal_name_full               'Gaodeng Xuexiao Huaxue Xuebao'
_journal_page_first              335
_journal_page_last               339
_journal_volume                  19
_journal_year                    1998
_chemical_formula_sum            'Cs4 I6 Tm'
_space_group_name_H-M_alt        'R -3 c'
_cell_angle_alpha                90.000
_cell_angle_beta                 90.000
_cell_angle_gamma                120.000
_cell_length_a                   14.5160
_cell_length_b                   14.5160
_cell_length_c                   18.2920
_cell_volume                     3338.00
_cod_database_code               6000651
loop_
_atom_site_label
_atom_site_fract_x
_atom_site_fract_y
_atom_site_fract_z
? ? ? ?
