#------------------------------------------------------------------------------
#$Date: 2016-02-09 19:42:54 +0100 (mar 09 de feb de 2016) $
#$Revision: 176292 $
#$URL: svn://www.crystallography.net/cod/cif/6/00/06/6000674.cif $
#------------------------------------------------------------------------------
#
# This file is available in the Crystallography Open Database (COD),
# http://www.crystallography.net/
#
# All data on this site have been placed in the public domain by the
# contributors.
#
data_6000674
loop_
_publ_author_name
'Gingl, F.'
'Yvon, K.'
'Fischer, P.'
_publ_section_title
;
 Monoclinic Sr2Mg3H10 with Ba2Ni3F10-type structure
;
_journal_name_full               'Journal of Alloys and Compounds'
_journal_page_first              73
_journal_page_last               75
_journal_paper_doi               10.1016/0925-8388(94)90012-4
_journal_volume                  206
_journal_year                    1994
_chemical_formula_sum            'D10 Mg3 Sr2'
_space_group_name_H-M_alt        'C 1 2/m 1'
_cell_angle_alpha                90.000
_cell_angle_beta                 111.480
_cell_angle_gamma                90.000
_cell_length_a                   17.5390
_cell_length_b                   5.7300
_cell_length_c                   7.4800
_cell_volume                     699.52
_cod_database_code               6000674
loop_
_atom_site_label
_atom_site_fract_x
_atom_site_fract_y
_atom_site_fract_z
? ? ? ?
