#------------------------------------------------------------------------------
#$Date: 2016-03-26 14:36:15 +0100 (Sat 26 de Mar de 2016) $
#$Revision: 180307 $
#$URL: svn://www.crystallography.net/cod/cif/7/15/21/7152117.cif $
#------------------------------------------------------------------------------
#
# This file is available in the Crystallography Open Database (COD),
# http://www.crystallography.net/
#
# All data on this site have been placed in the public domain by the
# contributors.
#
data_7152117
loop_
_publ_author_name
'Karban, Jindřich'
'Císařová, Ivana'
'Strašák, Tomáš'
'Šťastná, Lucie Červenková'
'Sýkora, Jan'
_publ_section_title
;
 Skeletal rearrangements resulting from reactions of 1,6:2,3- and
 1,6:3,4-dianhydro-β-D-hexopyranoses with diethylaminosulphur
 trifluoride.
;
_journal_issue                   2
_journal_name_full               'Organic & biomolecular chemistry'
_journal_page_first              394
_journal_page_last               403
_journal_paper_doi               10.1039/c1ob06336g
_journal_volume                  10
_journal_year                    2012
_chemical_absolute_configuration unk
_chemical_formula_moiety         'C6 H8 O4'
_chemical_formula_sum            'C6 H8 O4'
_chemical_formula_weight         144.13
_space_group_IT_number           19
_symmetry_cell_setting           orthorhombic
_symmetry_space_group_name_Hall  'P 2ac 2ab'
_symmetry_space_group_name_H-M   'P 21 21 21'
_atom_sites_solution_hydrogens   geom
_atom_sites_solution_primary     direct
_audit_creation_date             11-06-27
_audit_creation_method           CRYSTALS_ver_12.82
_cell_angle_alpha                90
_cell_angle_beta                 90
_cell_angle_gamma                90
_cell_formula_units_Z            4
_cell_length_a                   5.6736(2)
_cell_length_b                   9.5781(4)
_cell_length_c                   10.7239(4)
_cell_measurement_reflns_used    4835
_cell_measurement_temperature    150
_cell_measurement_theta_max      27
_cell_measurement_theta_min      3
_cell_volume                     582.76(4)
_computing_cell_refinement       'DENZO/SCALEPACK (Otwinowski & Minor, 1997)'
_computing_data_collection       'COLLECT. Nonius (1997-2001).'
_computing_data_reduction        'DENZO/SCALEPACK (Otwinowski & Minor, 1997)'
_computing_molecular_graphics    'CAMERON (Watkin et al., 1996)'
_computing_publication_material  'CRYSTALS (Betteridge et al., 2003)'
_computing_structure_refinement  'CRYSTALS (Betteridge et al., 2003)'
_computing_structure_solution    'SHELXS 86 (Sheldrick, 1986)'
_diffrn_ambient_temperature      150
_diffrn_measured_fraction_theta_full 0.998
_diffrn_measured_fraction_theta_max 0.998
_diffrn_measurement_device_type  'Nonius Kappa CCD'
_diffrn_measurement_method       'φ & ω scans'
_diffrn_radiation_monochromator  graphite
_diffrn_radiation_type           'Mo K\a'
_diffrn_radiation_wavelength     0.71073
_diffrn_reflns_av_R_equivalents  0.014
_diffrn_reflns_limit_h_max       7
_diffrn_reflns_limit_h_min       -7
_diffrn_reflns_limit_k_max       11
_diffrn_reflns_limit_k_min       -12
_diffrn_reflns_limit_l_max       13
_diffrn_reflns_limit_l_min       -11
_diffrn_reflns_number            4869
_diffrn_reflns_theta_full        27.513
_diffrn_reflns_theta_max         27.513
_diffrn_reflns_theta_min         2.851
_diffrn_standards_number         0
_exptl_absorpt_coefficient_mu    0.140
_exptl_absorpt_correction_T_max  0.95
_exptl_absorpt_correction_T_min  0.93
_exptl_absorpt_correction_type   multi-scan
_exptl_absorpt_process_details   'SADABS (Siemens, 1996)'
_exptl_crystal_colour            colourless
_exptl_crystal_density_diffrn    1.643
_exptl_crystal_description       prism
_exptl_crystal_F_000             304
_exptl_crystal_size_max          0.52
_exptl_crystal_size_mid          0.38
_exptl_crystal_size_min          0.37
_refine_diff_density_max         0.23
_refine_diff_density_min         -0.17
_refine_ls_extinction_method     None
_refine_ls_goodness_of_fit_ref   1.1434
_refine_ls_hydrogen_treatment    mixed
_refine_ls_matrix_type           full
_refine_ls_number_parameters     123
_refine_ls_number_reflns         719
_refine_ls_number_restraints     0
_refine_ls_R_factor_all          0.0276
_refine_ls_R_factor_gt           0.0245
_refine_ls_shift/su_max          0.000242
_refine_ls_structure_factor_coef F
_refine_ls_weighting_details
;
Method, part 1, Chebychev polynomial, (Watkin, 1994, Prince, 1982)
[weight] = 1.0/[A₀*T₀(x)+A₁*T₁(x) ... +Aₙ₋₁]*Tₙ₋₁(x)]
where Ai are the Chebychev coefficients listed below and x= Fcalc/Fmax
Method = Robust Weighting (Prince, 1982)
W = [weight] * [1-(deltaF/6*sigmaF)²]²
Ai are:
0.182 0.138 0.532E-01
;
_refine_ls_weighting_scheme      calc
_refine_ls_wR_factor_all         0.0348
_refine_ls_wR_factor_gt          0.0291
_refine_ls_wR_factor_ref         0.0291
_reflns_limit_h_max              7
_reflns_limit_h_min              0
_reflns_limit_k_max              12
_reflns_limit_k_min              0
_reflns_limit_l_max              13
_reflns_limit_l_min              0
_reflns_number_gt                719
_reflns_number_total             805
_reflns_threshold_expression     I>1.96u(I)
_oxford_diffrn_Wilson_B_factor   0.00
_oxford_diffrn_Wilson_scale      0.00
_oxford_refine_ls_scale          0.4567(12)
_oxford_structure_analysis_title 'e999_sykora_0m in P2(1)2(1)2(1)'
_cod_data_source_file            c1ob06336g.txt
_cod_data_source_block           CRYSTALS_cif4
_cod_depositor_comments
;
The following automatic conversions were performed:

'_symmetry_cell_setting' value 'Orthorhombic' changed to
'orthorhombic' according to
/home/saulius/struct/CIF-dictionaries/cif_core.dic dictionary named
'cif_core.dic' version 2.4.1 from 2010-06-29.

Automatic conversion script
Id: cif_fix_values 1715 2011-07-08 13:25:40Z adriana 
;
_cod_original_sg_symbol_H-M      'P 21 21 21 '
_cod_database_code               7152117
loop_
_symmetry_equiv_pos_as_xyz
x,y,z
x+1/2,-y+1/2,-z
-x,y+1/2,-z+1/2
-x+1/2,-y,z+1/2
loop_
_atom_site_label
_atom_site_type_symbol
_atom_site_fract_x
_atom_site_fract_y
_atom_site_fract_z
_atom_site_U_iso_or_equiv
_atom_site_occupancy
_atom_site_adp_type
O1 O 0.9998(2) 0.91615(13) 0.21790(10) 0.0196 1.0000 Uani
O2 O 0.7246(2) 0.79150(12) 0.32055(10) 0.0207 1.0000 Uani
O3 O 0.6348(2) 1.03302(13) 0.43662(10) 0.0184 1.0000 Uani
O4 O 1.1332(2) 1.03740(15) 0.53412(11) 0.0236 1.0000 Uani
C1 C 0.7532(3) 0.90796(17) 0.24101(14) 0.0189 1.0000 Uani
C2 C 0.6707(3) 1.04283(18) 0.30348(14) 0.0186 1.0000 Uani
C3 C 0.8354(3) 1.11051(17) 0.39014(14) 0.0183 1.0000 Uani
C4 C 1.0763(3) 1.04609(17) 0.40532(14) 0.0166 1.0000 Uani
C5 C 1.0918(3) 0.90221(16) 0.34245(14) 0.0160 1.0000 Uani
C6 C 0.9327(3) 0.78928(17) 0.39860(15) 0.0193 1.0000 Uani
H11 H 0.676(3) 0.8911(19) 0.1621(17) 0.014(4) 1.0000 Uiso
H21 H 0.546(4) 1.096(2) 0.258(2) 0.030(6) 1.0000 Uiso
H31 H 0.824(4) 1.207(2) 0.4052(17) 0.017(5) 1.0000 Uiso
H41 H 1.182(4) 1.107(2) 0.3605(17) 0.018(5) 1.0000 Uiso
H51 H 1.248(4) 0.870(2) 0.3394(17) 0.017(4) 1.0000 Uiso
H61 H 0.893(4) 0.808(2) 0.4860(19) 0.023(5) 1.0000 Uiso
H62 H 1.002(4) 0.696(2) 0.3900(17) 0.019(5) 1.0000 Uiso
H1 H 1.270(6) 1.042(3) 0.541(2) 0.044(7) 1.0000 Uiso
loop_
_atom_site_aniso_label
_atom_site_aniso_U_11
_atom_site_aniso_U_22
_atom_site_aniso_U_33
_atom_site_aniso_U_23
_atom_site_aniso_U_13
_atom_site_aniso_U_12
O1 0.0156(6) 0.0291(6) 0.0143(5) 0.0005(4) 0.0026(4) 0.0033(5)
O2 0.0168(5) 0.0211(6) 0.0243(5) 0.0005(4) -0.0033(5) -0.0037(5)
O3 0.0126(5) 0.0257(6) 0.0169(5) -0.0005(4) 0.0032(4) -0.0005(5)
O4 0.0155(6) 0.0339(7) 0.0213(6) -0.0058(5) -0.0030(4) 0.0000(6)
C1 0.0155(7) 0.0255(8) 0.0156(6) 0.0005(6) -0.0009(6) 0.0008(7)
C2 0.0134(7) 0.0246(7) 0.0177(7) 0.0042(6) 0.0017(6) 0.0036(6)
C3 0.0160(7) 0.0170(6) 0.0217(7) 0.0018(6) 0.0043(6) 0.0003(6)
C4 0.0120(6) 0.0177(7) 0.0199(6) 0.0004(6) 0.0024(5) -0.0019(6)
C5 0.0133(7) 0.0186(7) 0.0160(6) 0.0001(5) 0.0005(5) 0.0017(6)
C6 0.0191(7) 0.0174(7) 0.0213(7) 0.0015(6) -0.0026(6) -0.0018(6)
loop_
_atom_type_symbol
_atom_type_scat_dispersion_real
_atom_type_scat_dispersion_imag
_atom_type_scat_Cromer_Mann_a1
_atom_type_scat_Cromer_Mann_b1
_atom_type_scat_Cromer_Mann_a2
_atom_type_scat_Cromer_Mann_b2
_atom_type_scat_Cromer_Mann_a3
_atom_type_scat_Cromer_Mann_b3
_atom_type_scat_Cromer_Mann_a4
_atom_type_scat_Cromer_Mann_b4
_atom_type_scat_Cromer_Mann_c
_atom_type_scat_source
C 0.0033 0.0016 2.3100 20.8439 1.0200 10.2075 1.5886 0.5687 0.8650 51.6512
0.2156 'International Tables Vol C 4.2.6.8 and 6.1.1.4'
H 0.0000 0.0000 0.4930 10.5109 0.3229 26.1257 0.1402 3.1424 0.0408 57.7998
0.0030 'International Tables Vol C 4.2.6.8 and 6.1.1.4'
O 0.0106 0.0060 3.0485 13.2771 2.2868 5.7011 1.5463 0.3239 0.8670 32.9089
0.2508 'International Tables Vol C 4.2.6.8 and 6.1.1.4'
loop_
_geom_angle_atom_site_label_1
_geom_angle_atom_site_label_2
_geom_angle_atom_site_label_3
_geom_angle
_geom_angle_publ_flag
C1 O1 C5 100.94(11) yes
C1 O2 C6 105.48(12) yes
C2 O3 C3 61.02(10) yes
C4 O4 H1 108.7(20) no
O1 C1 O2 105.15(13) yes
O1 C1 C2 109.31(13) yes
O2 C1 C2 111.56(12) yes
O1 C1 H11 107.5(11) no
O2 C1 H11 110.2(11) no
C2 C1 H11 112.8(11) no
C1 C2 O3 114.91(13) yes
C1 C2 C3 117.11(13) yes
O3 C2 C3 59.56(10) yes
C1 C2 H21 115.8(12) no
O3 C2 H21 114.4(13) no
C3 C2 H21 122.3(13) no
C2 C3 O3 59.43(9) yes
C2 C3 C4 117.66(14) yes
O3 C3 C4 117.75(13) yes
C2 C3 H31 120.0(12) no
O3 C3 H31 113.1(12) no
C4 C3 H31 116.4(12) no
C3 C4 O4 109.56(13) yes
C3 C4 C5 111.79(13) yes
O4 C4 C5 111.16(13) yes
C3 C4 H41 105.2(12) no
O4 C4 H41 112.2(11) no
C5 C4 H41 106.8(11) no
C4 C5 O1 107.64(12) yes
C4 C5 C6 115.28(13) yes
O1 C5 C6 102.50(12) yes
C4 C5 H51 111.5(12) no
O1 C5 H51 109.9(12) no
C6 C5 H51 109.6(12) no
C5 C6 O2 104.06(12) yes
C5 C6 H61 112.4(13) no
O2 C6 H61 111.4(14) no
C5 C6 H62 111.6(12) no
O2 C6 H62 106.7(12) no
H61 C6 H62 110.4(16) no
loop_
_geom_bond_atom_site_label_1
_geom_bond_atom_site_label_2
_geom_bond_distance
_geom_bond_publ_flag
O1 C1 1.4230(19) yes
O1 C5 1.4402(17) yes
O2 C1 1.4136(19) yes
O2 C6 1.4476(19) yes
O3 C2 1.4454(17) yes
O3 C3 1.4473(19) yes
O4 C4 1.4209(18) yes
O4 H1 0.78(3) no
C1 C2 1.528(2) yes
C1 H11 0.966(19) no
C2 C3 1.469(2) yes
C2 H21 0.99(2) no
C3 C4 1.509(2) yes
C3 H31 0.941(19) no
C4 C5 1.537(2) yes
C4 H41 0.97(2) no
C5 C6 1.532(2) yes
C5 H51 0.94(2) no
C6 H61 0.98(2) no
C6 H62 0.981(19) no
