#------------------------------------------------------------------------------
#$Date: 2016-03-26 14:38:22 +0100 (Sat 26 de Mar de 2016) $
#$Revision: 180309 $
#$URL: svn://www.crystallography.net/cod/cif/7/15/23/7152396.cif $
#------------------------------------------------------------------------------
#
# This file is available in the Crystallography Open Database (COD),
# http://www.crystallography.net/
#
# All data on this site have been placed in the public domain by the
# contributors.
#
data_7152396
loop_
_publ_author_name
'Chevallier, Floris'
'Blin, Thomas'
'Nagaradja, Elisabeth'
'Lassagne, Frédéric'
'Roisnel, Thierry'
'Halauko, Yury S.'
'Matulis, Vadim E.'
'Ivashkevich, Oleg A.'
'Mongin, Florence'
_publ_section_title
;
 Deproto-metallation and computed CH acidity of 2-aryl-1,2,3-triazoles.
;
_journal_issue                   25
_journal_name_full               'Organic & biomolecular chemistry'
_journal_page_first              4878
_journal_page_last               4885
_journal_paper_doi               10.1039/c2ob25554e
_journal_volume                  10
_journal_year                    2012
_chemical_compound_source        'synthesis as described'
_chemical_formula_moiety         'C9 H7 I2 N3'
_chemical_formula_sum            'C9 H7 I2 N3'
_chemical_formula_weight         410.98
_chemical_name_systematic
;
?
;
_space_group_IT_number           14
_symmetry_cell_setting           monoclinic
_symmetry_Int_Tables_number      14
_symmetry_space_group_name_Hall  '-P 2ybc'
_symmetry_space_group_name_H-M   'P 1 21/c 1'
_atom_sites_solution_hydrogens   geom
_atom_sites_solution_primary     direct
_atom_sites_solution_secondary   difmap
_audit_conform_dict_location     ftp://ftp.iucr.org/pub/cif_core.dic
_audit_conform_dict_name         cif_core.dic
_audit_conform_dict_version      2.3
_audit_creation_date             2011-08-30T17:08:07-00:00
_audit_creation_method           'WinGX routine CIF_UPDATE'
_cell_angle_alpha                90
_cell_angle_beta                 104.138(6)
_cell_angle_gamma                90
_cell_formula_units_Z            4
_cell_length_a                   10.3473(15)
_cell_length_b                   7.1028(8)
_cell_length_c                   15.555(2)
_cell_measurement_reflns_used    4965
_cell_measurement_temperature    150(2)
_cell_measurement_theta_max      27.46
_cell_measurement_theta_min      2.7
_cell_measurement_wavelength     0.71073
_cell_volume                     1108.6(3)
_computing_cell_refinement       'Bruker APEX2 (Bruker, 2006)'
_computing_data_collection       'Bruker APEX2 (Bruker, 2006)'
_computing_data_reduction        'Bruker APEX2 (Bruker, 2006)'
_computing_molecular_graphics    'Ortep-3 for Windows (Farrugia, 1997)'
_computing_publication_material
;
WinGX publication routines (Farrugia, 1999),
CRYSCAL (T. Roisnel, local program)
;
_computing_structure_refinement  'SHELXL-97 (Sheldrick, 1997)'
_computing_structure_solution    'SIR97 (Altomare et al., 1999)'
_diffrn_ambient_temperature      150(2)
_diffrn_detector                 'CCD plate'
_diffrn_measured_fraction_theta_full 0.996
_diffrn_measured_fraction_theta_max 0.996
_diffrn_measurement_device_type  'APEXII, Bruker-AXS'
_diffrn_measurement_method       'CCD rotation images, thin slices'
_diffrn_radiation_monochromator  graphite
_diffrn_radiation_probe          x-ray
_diffrn_radiation_type           MoK\a
_diffrn_radiation_wavelength     0.71073
_diffrn_reflns_av_R_equivalents  0.0407
_diffrn_reflns_av_unetI/netI     0.0362
_diffrn_reflns_limit_h_max       13
_diffrn_reflns_limit_h_min       -13
_diffrn_reflns_limit_k_max       9
_diffrn_reflns_limit_k_min       -9
_diffrn_reflns_limit_l_max       20
_diffrn_reflns_limit_l_min       -20
_diffrn_reflns_number            8769
_diffrn_reflns_theta_full        27.48
_diffrn_reflns_theta_max         27.48
_diffrn_reflns_theta_min         2.96
_exptl_absorpt_coefficient_mu    5.638
_exptl_absorpt_correction_T_max  0.362
_exptl_absorpt_correction_T_min  0.211
_exptl_absorpt_correction_type   multi-scan
_exptl_absorpt_process_details
;
[Sheldrick, G.M. (2002). SADABS Bruker AXS Inc., Madison, Wisconsin, USA]
;
_exptl_crystal_colour            colourless
_exptl_crystal_density_diffrn    2.462
_exptl_crystal_density_method    'not measured'
_exptl_crystal_description       block
_exptl_crystal_F_000             752
_exptl_crystal_size_max          0.46
_exptl_crystal_size_mid          0.27
_exptl_crystal_size_min          0.18
_refine_diff_density_max         0.66
_refine_diff_density_min         -1.228
_refine_diff_density_rms         0.206
_refine_ls_extinction_method     none
_refine_ls_goodness_of_fit_ref   1.134
_refine_ls_hydrogen_treatment    constr
_refine_ls_matrix_type           full
_refine_ls_number_parameters     128
_refine_ls_number_reflns         2544
_refine_ls_number_restraints     0
_refine_ls_restrained_S_all      1.134
_refine_ls_R_factor_all          0.0282
_refine_ls_R_factor_gt           0.0249
_refine_ls_shift/su_max          0.002
_refine_ls_shift/su_mean         0
_refine_ls_structure_factor_coef Fsqd
_refine_ls_weighting_details
'calc w=1/[σ²(Fo²)+(0.0227P)²+0.2687P] where P=(Fo²+2Fc²)/3'
_refine_ls_weighting_scheme      calc
_refine_ls_wR_factor_gt          0.0588
_refine_ls_wR_factor_ref         0.0603
_reflns_number_gt                2320
_reflns_number_total             2544
_reflns_threshold_expression     >2sigma(I)
_cod_data_source_file            c2ob25554e.txt
_cod_data_source_block           job_3b
_cod_original_cell_volume        1108.6(2)
_cod_original_sg_symbol_H-M      'P 21/c'
_cod_database_code               7152396
loop_
_symmetry_equiv_pos_as_xyz
'x, y, z'
'-x, y+1/2, -z+1/2'
'-x, -y, -z'
'x, -y-1/2, z-1/2'
loop_
_atom_site_label
_atom_site_type_symbol
_atom_site_fract_x
_atom_site_fract_y
_atom_site_fract_z
_atom_site_U_iso_or_equiv
_atom_site_adp_type
_atom_site_occupancy
_atom_site_symmetry_multiplicity
_atom_site_calc_flag
_atom_site_refinement_flags
C1 C 0.6385(3) 0.3828(4) 0.3456(2) 0.0179(6) Uani 1 1 d .
C2 C 0.5594(3) 0.4106(5) 0.4053(2) 0.0222(7) Uani 1 1 d .
H2 H 0.4708 0.4577 0.3912 0.027 Uiso 1 1 calc R
N3 N 0.6297(3) 0.3597(4) 0.48545(19) 0.0226(6) Uani 1 1 d .
N4 N 0.7464(3) 0.3051(4) 0.47207(17) 0.0173(5) Uani 1 1 d .
N5 N 0.7569(3) 0.3156(4) 0.38828(17) 0.0194(6) Uani 1 1 d .
C6 C 0.8541(3) 0.2379(5) 0.5419(2) 0.0174(6) Uani 1 1 d .
C7 C 0.9496(3) 0.3672(5) 0.5849(2) 0.0229(7) Uani 1 1 d .
H7 H 0.9418 0.4966 0.569 0.027 Uiso 1 1 calc R
C8 C 1.0561(3) 0.3045(5) 0.6509(2) 0.0241(7) Uani 1 1 d .
H8 H 1.1212 0.3925 0.6803 0.029 Uiso 1 1 calc R
C9 C 1.0701(3) 0.1177(5) 0.6752(2) 0.0211(7) Uani 1 1 d .
C10 C 0.9727(3) -0.0112(5) 0.6320(2) 0.0199(6) Uani 1 1 d .
H10 H 0.9808 -0.1406 0.6478 0.024 Uiso 1 1 calc R
C11 C 0.8644(3) 0.0501(4) 0.5661(2) 0.0179(6) Uani 1 1 d .
C12 C 1.1899(4) 0.0501(6) 0.7448(2) 0.0284(8) Uani 1 1 d .
H12A H 1.2678 0.046 0.7195 0.043 Uiso 1 1 calc R
H12B H 1.1723 -0.0762 0.7646 0.043 Uiso 1 1 calc R
H12C H 1.2073 0.1367 0.7954 0.043 Uiso 1 1 calc R
I1 I 0.59352(2) 0.43062(4) 0.210779(14) 0.02701(8) Uani 1 1 d .
I2 I 0.71898(2) -0.14388(3) 0.503989(14) 0.02405(8) Uani 1 1 d .
loop_
_atom_site_aniso_label
_atom_site_aniso_U_11
_atom_site_aniso_U_22
_atom_site_aniso_U_33
_atom_site_aniso_U_23
_atom_site_aniso_U_13
_atom_site_aniso_U_12
C1 0.0160(15) 0.0167(16) 0.0196(16) 0.0024(13) 0.0013(12) 0.0001(12)
C2 0.0171(16) 0.0262(18) 0.0231(17) -0.0002(14) 0.0047(14) 0.0030(13)
N3 0.0194(14) 0.0271(16) 0.0218(14) 0.0010(12) 0.0062(12) 0.0042(12)
N4 0.0170(12) 0.0200(14) 0.0148(12) 0.0012(11) 0.0038(10) 0.0024(11)
N5 0.0193(13) 0.0221(15) 0.0173(13) 0.0022(11) 0.0056(11) 0.0020(11)
C6 0.0151(14) 0.0226(17) 0.0147(14) 0.0002(12) 0.0041(12) 0.0048(12)
C7 0.0243(17) 0.0219(18) 0.0222(17) -0.0002(13) 0.0052(14) -0.0016(14)
C8 0.0196(16) 0.0289(19) 0.0214(17) -0.0034(15) 0.0005(14) -0.0057(14)
C9 0.0155(15) 0.032(2) 0.0154(15) 0.0000(14) 0.0033(13) 0.0024(13)
C10 0.0213(15) 0.0216(17) 0.0164(15) 0.0021(13) 0.0040(13) 0.0017(13)
C11 0.0172(15) 0.0208(18) 0.0158(15) -0.0028(12) 0.0041(12) -0.0032(12)
C12 0.0213(17) 0.040(2) 0.0221(17) 0.0023(15) 0.0011(14) 0.0040(15)
I1 0.02458(13) 0.03609(16) 0.01716(12) 0.00514(9) -0.00105(9) 0.00371(9)
I2 0.02519(13) 0.02202(14) 0.02147(13) -0.00010(8) -0.00099(9) -0.00475(8)
loop_
_atom_type_symbol
_atom_type_description
_atom_type_scat_dispersion_real
_atom_type_scat_dispersion_imag
_atom_type_scat_source
C C 0.0033 0.0016 'International Tables Vol C Tables 4.2.6.8 and 6.1.1.4'
H H 0 0 'International Tables Vol C Tables 4.2.6.8 and 6.1.1.4'
N N 0.0061 0.0033 'International Tables Vol C Tables 4.2.6.8 and 6.1.1.4'
I I -0.4742 1.8119 'International Tables Vol C Tables 4.2.6.8 and 6.1.1.4'
loop_
_geom_angle_atom_site_label_1
_geom_angle_atom_site_label_2
_geom_angle_atom_site_label_3
_geom_angle
N5 C1 C2 109.7(3)
N5 C1 I1 121.2(2)
C2 C1 I1 129.1(2)
N3 C2 C1 108.1(3)
N3 C2 H2 126
C1 C2 H2 126
C2 N3 N4 104.0(3)
N3 N4 N5 115.4(3)
N3 N4 C6 123.0(3)
N5 N4 C6 121.6(2)
C1 N5 N4 102.9(3)
C11 C6 C7 120.4(3)
C11 C6 N4 121.4(3)
C7 C6 N4 118.2(3)
C8 C7 C6 119.1(3)
C8 C7 H7 120.4
C6 C7 H7 120.4
C9 C8 C7 121.6(3)
C9 C8 H8 119.2
C7 C8 H8 119.2
C8 C9 C10 118.8(3)
C8 C9 C12 121.0(3)
C10 C9 C12 120.2(3)
C11 C10 C9 120.2(3)
C11 C10 H10 119.9
C9 C10 H10 119.9
C6 C11 C10 119.8(3)
C6 C11 I2 120.7(2)
C10 C11 I2 119.5(2)
C9 C12 H12A 109.5
C9 C12 H12B 109.5
H12A C12 H12B 109.5
C9 C12 H12C 109.5
H12A C12 H12C 109.5
H12B C12 H12C 109.5
loop_
_geom_bond_atom_site_label_1
_geom_bond_atom_site_label_2
_geom_bond_distance
C1 N5 1.331(4)
C1 C2 1.394(4)
C1 I1 2.062(3)
C2 N3 1.331(4)
C2 H2 0.95
N3 N4 1.332(4)
N4 N5 1.336(4)
N4 C6 1.435(4)
C6 C11 1.383(5)
C6 C7 1.395(5)
C7 C8 1.384(5)
C7 H7 0.95
C8 C9 1.378(5)
C8 H8 0.95
C9 C10 1.405(5)
C9 C12 1.511(5)
C10 C11 1.391(4)
C10 H10 0.95
C11 I2 2.094(3)
C12 H12A 0.98
C12 H12B 0.98
C12 H12C 0.98
loop_
_geom_torsion_atom_site_label_1
_geom_torsion_atom_site_label_2
_geom_torsion_atom_site_label_3
_geom_torsion_atom_site_label_4
_geom_torsion
N5 C1 C2 N3 -0.1(4)
I1 C1 C2 N3 179.7(2)
C1 C2 N3 N4 0.3(4)
C2 N3 N4 N5 -0.5(4)
C2 N3 N4 C6 -180.0(3)
C2 C1 N5 N4 -0.1(4)
I1 C1 N5 N4 180.0(2)
N3 N4 N5 C1 0.4(4)
C6 N4 N5 C1 179.9(3)
N3 N4 C6 C11 87.4(4)
N5 N4 C6 C11 -92.1(4)
N3 N4 C6 C7 -93.1(4)
N5 N4 C6 C7 87.4(4)
C11 C6 C7 C8 1.1(5)
N4 C6 C7 C8 -178.5(3)
C6 C7 C8 C9 0.1(5)
C7 C8 C9 C10 -0.6(5)
C7 C8 C9 C12 177.4(3)
C8 C9 C10 C11 -0.1(5)
C12 C9 C10 C11 -178.1(3)
C7 C6 C11 C10 -1.7(5)
N4 C6 C11 C10 177.8(3)
C7 C6 C11 I2 178.5(2)
N4 C6 C11 I2 -2.0(4)
C9 C10 C11 C6 1.2(5)
C9 C10 C11 I2 -179.0(2)
