#------------------------------------------------------------------------------
#$Date: 2025-08-22 14:50:14 +0200 (Fri 22 de Aug de 2025) $
#$Revision: 301863 $
#$URL: svn://www.crystallography.net/cod/cif/7/20/90/7209030.cif $
#------------------------------------------------------------------------------
#
# This file is available in the Crystallography Open Database (COD),
# http://www.crystallography.net/
#
# All data on this site have been placed in the public domain by the
# contributors.
#
data_7209030
loop_
_publ_author_name
'Argyle, Victoria J.'
'Woods, Laura M.'
'Roxburgh, Marina'
'Hanton, Lyall R.'
_publ_section_title
;
 Triflate anion and ligand influences in silver(i) coordination polymers
 of four isomeric dipyridyl ketone oximes
;
_journal_issue                   1
_journal_name_full               CrystEngComm
_journal_page_first              120
_journal_paper_doi               10.1039/c2ce26449h
_journal_volume                  15
_journal_year                    2013
_chemical_formula_sum            'C11 H9 N3 O'
_chemical_formula_weight         199.21
_space_group_IT_number           14
_symmetry_cell_setting           monoclinic
_symmetry_space_group_name_Hall  '-P 2ybc'
_symmetry_space_group_name_H-M   'P 1 21/c 1'
_atom_sites_solution_hydrogens   geom
_atom_sites_solution_primary     direct
_atom_sites_solution_secondary   difmap
_audit_creation_method           SHELXL-97
_cell_angle_alpha                90.00
_cell_angle_beta                 91.9285(12)
_cell_angle_gamma                90.00
_cell_formula_units_Z            4
_cell_length_a                   9.1149(2)
_cell_length_b                   10.1937(2)
_cell_length_c                   10.1280(2)
_cell_measurement_reflns_used    8214
_cell_measurement_temperature    90(2)
_cell_measurement_theta_max      39.56
_cell_measurement_theta_min      2.24
_cell_volume                     940.51(3)
_computing_cell_refinement       'Bruker SMART'
_computing_data_collection       'Bruker SMART'
_computing_data_reduction        'Bruker SAINT'
_computing_molecular_graphics    'Bruker SHELXTL'
_computing_publication_material  'Bruker SHELXTL'
_computing_structure_refinement  'SHELXL-97 (Sheldrick, 1997)'
_computing_structure_solution    'SIR97 (Altomare et al., 1999)'
_diffrn_ambient_temperature      90(2)
_diffrn_measured_fraction_theta_full 1.000
_diffrn_measured_fraction_theta_max 1.000
_diffrn_measurement_device_type  'Bruker APEXII CCD area detector'
_diffrn_measurement_method       'phi and omega scans'
_diffrn_radiation_monochromator  graphite
_diffrn_radiation_source         'fine-focus sealed tube'
_diffrn_radiation_type           MoK\a
_diffrn_radiation_wavelength     0.71073
_diffrn_reflns_av_R_equivalents  0.0195
_diffrn_reflns_av_sigmaI/netI    0.0123
_diffrn_reflns_limit_h_max       10
_diffrn_reflns_limit_h_min       -11
_diffrn_reflns_limit_k_max       12
_diffrn_reflns_limit_k_min       -12
_diffrn_reflns_limit_l_max       12
_diffrn_reflns_limit_l_min       -12
_diffrn_reflns_number            10203
_diffrn_reflns_theta_full        25.50
_diffrn_reflns_theta_max         25.50
_diffrn_reflns_theta_min         2.24
_diffrn_standards_number         0
_exptl_absorpt_coefficient_mu    0.095
_exptl_absorpt_correction_T_max  0.9912
_exptl_absorpt_correction_T_min  0.8905
_exptl_absorpt_correction_type   multi-scan
_exptl_absorpt_process_details   'SADABS (Bruker, 2004)'
_exptl_crystal_colour            colourless
_exptl_crystal_density_diffrn    1.407
_exptl_crystal_density_method    'not measured'
_exptl_crystal_description       rhomb
_exptl_crystal_F_000             416
_exptl_crystal_size_max          0.22
_exptl_crystal_size_mid          0.20
_exptl_crystal_size_min          0.10
_refine_diff_density_max         0.205
_refine_diff_density_min         -0.189
_refine_diff_density_rms         0.037
_refine_ls_extinction_method     none
_refine_ls_goodness_of_fit_ref   1.047
_refine_ls_hydrogen_treatment    mixed
_refine_ls_matrix_type           full
_refine_ls_number_parameters     140
_refine_ls_number_reflns         1752
_refine_ls_number_restraints     0
_refine_ls_restrained_S_all      1.047
_refine_ls_R_factor_all          0.0326
_refine_ls_R_factor_gt           0.0307
_refine_ls_shift/su_max          0.000
_refine_ls_shift/su_mean         0.000
_refine_ls_structure_factor_coef Fsqd
_refine_ls_weighting_details
'calc w=1/[σ²(Fo²)+(0.0364P)²+0.4313P] where P=(Fo²+2Fc²)/3'
_refine_ls_weighting_scheme      calc
_refine_ls_wR_factor_gt          0.0771
_refine_ls_wR_factor_ref         0.0789
_reflns_number_gt                1646
_reflns_number_total             1752
_reflns_threshold_expression     >2sigma(I)
_cod_data_source_file            c2ce26449h.txt
_cod_data_source_block           vaa2_Ligand23
_cod_depositor_comments
;
The following automatic conversions were performed:

'_symmetry_cell_setting' value 'Monoclinic' changed to 'monoclinic'
according to /home/saulius/struct/CIF-dictionaries/cif_core.dic
dictionary named 'cif_core.dic' version 2.4.2 from 2011-04-26.

Automatic conversion script
Id: cif_fix_values 1891 2012-01-12 08:04:46Z andrius 
;
_cod_original_sg_symbol_H-M      P2(1)/c
_cod_database_code               7209030
loop_
_symmetry_equiv_pos_as_xyz
'x, y, z'
'-x, y+1/2, -z+1/2'
'-x, -y, -z'
'x, -y-1/2, z-1/2'
loop_
_atom_site_label
_atom_site_type_symbol
_atom_site_fract_x
_atom_site_fract_y
_atom_site_fract_z
_atom_site_U_iso_or_equiv
_atom_site_adp_type
_atom_site_occupancy
_atom_site_symmetry_multiplicity
_atom_site_calc_flag
_atom_site_refinement_flags
C1 C 0.27960(12) 0.42326(11) -0.23178(11) 0.0171(2) Uani 1 1 d .
H1 H 0.2282 0.3445 -0.2295 0.020 Uiso 1 1 calc R
C2 C 0.30525(12) 0.49057(11) -0.11348(11) 0.0158(2) Uani 1 1 d .
C3 C 0.38335(12) 0.60778(11) -0.11853(11) 0.0182(3) Uani 1 1 d .
H3 H 0.4029 0.6557 -0.0418 0.022 Uiso 1 1 calc R
C4 C 0.43168(12) 0.65233(12) -0.23860(11) 0.0196(3) Uani 1 1 d .
H4 H 0.4846 0.7301 -0.2437 0.024 Uiso 1 1 calc R
C5 C 0.39984(12) 0.57919(11) -0.35077(11) 0.0188(3) Uani 1 1 d .
H5 H 0.4317 0.6099 -0.4314 0.023 Uiso 1 1 calc R
C6 C 0.25161(12) 0.44049(11) 0.01431(11) 0.0161(2) Uani 1 1 d .
C7 C 0.18981(12) 0.53437(11) 0.11083(11) 0.0166(2) Uani 1 1 d .
C8 C 0.19929(13) 0.50906(12) 0.24635(11) 0.0209(3) Uani 1 1 d .
H8 H 0.2453 0.4336 0.2786 0.025 Uiso 1 1 calc R
C9 C 0.13885(13) 0.59841(13) 0.33146(12) 0.0242(3) Uani 1 1 d .
H9 H 0.1441 0.5841 0.4222 0.029 Uiso 1 1 calc R
C10 C 0.07044(12) 0.70939(12) 0.28045(12) 0.0220(3) Uani 1 1 d .
H10 H 0.0288 0.7710 0.3356 0.026 Uiso 1 1 calc R
C11 C 0.06590(13) 0.72581(12) 0.14485(12) 0.0210(3) Uani 1 1 d .
H11 H 0.0189 0.7999 0.1104 0.025 Uiso 1 1 calc R
N1 N 0.32516(10) 0.46604(9) -0.34881(9) 0.0183(2) Uani 1 1 d .
N2 N 0.12494(10) 0.64172(10) 0.05996(9) 0.0194(2) Uani 1 1 d .
N3 N 0.25431(10) 0.32111(9) 0.05575(9) 0.0174(2) Uani 1 1 d .
O1 O 0.31748(9) 0.23193(8) -0.03016(8) 0.0196(2) Uani 1 1 d .
H1A H 0.3143(19) 0.1546(19) 0.0233(17) 0.047(5) Uiso 1 1 d .
loop_
_atom_site_aniso_label
_atom_site_aniso_U_11
_atom_site_aniso_U_22
_atom_site_aniso_U_33
_atom_site_aniso_U_23
_atom_site_aniso_U_13
_atom_site_aniso_U_12
C1 0.0173(5) 0.0166(5) 0.0174(5) 0.0012(4) 0.0008(4) -0.0009(4)
C2 0.0137(5) 0.0167(5) 0.0170(5) 0.0007(4) 0.0005(4) 0.0033(4)
C3 0.0175(5) 0.0180(6) 0.0190(6) -0.0032(4) 0.0002(4) 0.0010(4)
C4 0.0182(6) 0.0162(6) 0.0247(6) 0.0004(5) 0.0030(5) -0.0021(4)
C5 0.0188(5) 0.0189(6) 0.0190(6) 0.0031(5) 0.0041(4) 0.0013(4)
C6 0.0145(5) 0.0186(6) 0.0150(5) -0.0002(4) -0.0012(4) -0.0002(4)
C7 0.0145(5) 0.0184(6) 0.0168(5) -0.0009(4) 0.0012(4) -0.0019(4)
C8 0.0224(6) 0.0228(6) 0.0174(6) 0.0005(5) -0.0006(4) 0.0018(5)
C9 0.0245(6) 0.0328(7) 0.0151(6) -0.0031(5) 0.0006(5) 0.0009(5)
C10 0.0183(6) 0.0261(6) 0.0217(6) -0.0076(5) 0.0031(4) -0.0005(5)
C11 0.0194(6) 0.0200(6) 0.0237(6) -0.0005(5) 0.0031(5) 0.0027(5)
N1 0.0211(5) 0.0177(5) 0.0162(5) 0.0002(4) 0.0017(4) -0.0004(4)
N2 0.0197(5) 0.0201(5) 0.0186(5) 0.0003(4) 0.0027(4) 0.0020(4)
N3 0.0181(5) 0.0189(5) 0.0152(4) -0.0026(4) 0.0012(4) 0.0016(4)
O1 0.0267(4) 0.0166(4) 0.0158(4) -0.0008(3) 0.0041(3) 0.0035(3)
loop_
_atom_type_symbol
_atom_type_description
_atom_type_scat_dispersion_real
_atom_type_scat_dispersion_imag
_atom_type_scat_source
C C 0.0033 0.0016 'International Tables Vol C Tables 4.2.6.8 and 6.1.1.4'
H H 0.0000 0.0000 'International Tables Vol C Tables 4.2.6.8 and 6.1.1.4'
N N 0.0061 0.0033 'International Tables Vol C Tables 4.2.6.8 and 6.1.1.4'
O O 0.0106 0.0060 'International Tables Vol C Tables 4.2.6.8 and 6.1.1.4'
loop_
_geom_angle_atom_site_label_1
_geom_angle_atom_site_label_2
_geom_angle_atom_site_label_3
_geom_angle
N1 C1 C2 123.46(11)
C3 C2 C1 117.52(10)
C3 C2 C6 120.62(10)
C1 C2 C6 121.86(10)
C4 C3 C2 119.48(11)
C5 C4 C3 118.77(11)
N1 C5 C4 123.04(11)
N3 C6 C2 127.18(10)
N3 C6 C7 113.35(10)
C2 C6 C7 119.46(10)
N2 C7 C8 122.77(11)
N2 C7 C6 116.35(10)
C8 C7 C6 120.88(10)
C9 C8 C7 118.61(11)
C8 C9 C10 119.36(11)
C11 C10 C9 117.90(11)
N2 C11 C10 124.11(11)
C5 N1 C1 117.74(10)
C7 N2 C11 117.25(10)
C6 N3 O1 114.59(9)
loop_
_geom_bond_atom_site_label_1
_geom_bond_atom_site_label_2
_geom_bond_distance
C1 N1 1.3419(14)
C1 C2 1.3937(16)
C2 C3 1.3926(16)
C2 C6 1.4891(15)
C3 C4 1.3839(16)
C4 C5 1.3815(17)
C5 N1 1.3399(15)
C6 N3 1.2873(15)
C6 C7 1.4919(15)
C7 N2 1.3388(15)
C7 C8 1.3964(16)
C8 C9 1.3814(17)
C9 C10 1.3834(18)
C10 C11 1.3828(17)
C11 N2 1.3396(15)
N3 O1 1.3960(12)
loop_
_cod_related_entry_id
_cod_related_entry_database
_cod_related_entry_code
1 PubChem 139196704
