#------------------------------------------------------------------------------
#$Date: 2016-02-16 02:10:39 +0100 (mar 16 de feb de 2016) $
#$Revision: 176453 $
#$URL: svn://www.crystallography.net/cod/cif/7/20/93/7209350.cif $
#------------------------------------------------------------------------------
#
# This file is available in the Crystallography Open Database (COD),
# http://www.crystallography.net/
#
# All data on this site have been placed in the public domain by the
# contributors.
#
data_7209350
loop_
_publ_author_name
'Mewis, A.'
_publ_section_title
;
 ABX-Verbindungen mit Ni2In-Struktur. Darstellung und Struktur der
 Verbindungen Ca Cu P (As), Sr Cu P (As), Sr Ag P (As), und Eu Cu As
;
_journal_name_full
;
Zeitschrift fuer Naturforschung, Teil B. Anorganische Chemie, Organische
 Chemie (33,1978-41,1986)
;
_journal_page_first              983
_journal_page_last               986
_journal_volume                  33
_journal_year                    1978
_chemical_formula_sum            'Ag P Sr'
_chemical_name_systematic        'Ag Sr P'
_space_group_IT_number           194
_symmetry_space_group_name_Hall  '-P 6c 2c'
_symmetry_space_group_name_H-M   'P 63/m m c'
_cell_angle_alpha                90
_cell_angle_beta                 90
_cell_angle_gamma                120
_cell_formula_units_Z            2
_cell_length_a                   4.409
_cell_length_b                   4.409
_cell_length_c                   8.23
_cell_volume                     138.551
_citation_journal_id_ASTM        ZNBAD2
_cod_data_source_file            silver1-2_486.cif
_cod_data_source_block           Ag1P1Sr1
_cod_original_cell_volume        138.5513
_cod_original_formula_sum        'Ag1 P1 Sr1'
_cod_database_code               7209350
loop_
_symmetry_equiv_pos_as_xyz
x,y,z
x-y,x,z+1/2
-y,x-y,z
-x,-y,z+1/2
-x+y,-x,z
y,-x+y,z+1/2
-y,-x,-z+1/2
x-y,-y,-z
x,x-y,-z+1/2
y,x,-z
-x+y,y,-z+1/2
-x,-x+y,-z
-x,-y,-z
-x+y,-x,-z-1/2
y,-x+y,-z
x,y,-z-1/2
x-y,x,-z
-y,x-y,-z-1/2
y,x,z-1/2
-x+y,y,z
-x,-x+y,z-1/2
-y,-x,z
x-y,-y,z-1/2
x,x-y,z
loop_
_atom_site_label
_atom_site_type_symbol
_atom_site_fract_x
_atom_site_fract_y
_atom_site_fract_z
_atom_site_occupancy
_atom_site_U_iso_or_equiv
P1 P-3 0.3333 0.6667 0.25 1 0.0
Sr1 Sr+2 0 0 0 1 0.0
Ag1 Ag+1 0.3333 0.6667 0.75 1 0.0
