#------------------------------------------------------------------------------
#$Date: 2016-02-13 20:28:24 +0100 (Sat 13 de Feb de 2016) $
#$Revision: 176429 $
#$URL: svn://www.crystallography.net/cod/cif/7/22/15/7221520.cif $
#------------------------------------------------------------------------------
#
# This file is available in the Crystallography Open Database (COD),
# http://www.crystallography.net/
#
# All data on this site have been placed in the public domain by the
# contributors.
#
data_7221520
loop_
_publ_author_name
'Strobel, S.'
'Schleid, T.'
_publ_section_title
;
 Muenzmetall-Lanthanid-Chalkogenide: II. Kupfer(I)-Lanthanid(III)-Sulfide
 der Zusammensetzung Cu M S2 (M = Dy - Lu) im orthorhombischen B-Typ
;
_journal_name_full
;
Zeitschrift fuer Naturforschung, Teil B. Anorganische Chemie, Organische 
Chemie (42,1987-)
;
_journal_page_first              15
_journal_page_last               22
_journal_volume                  62
_journal_year                    2007
_chemical_formula_sum            'Cu S2 Yb'
_chemical_name_systematic        'Cu Yb S2'
_space_group_IT_number           62
_symmetry_space_group_name_Hall  '-P 2ac 2n'
_symmetry_space_group_name_H-M   'P n m a'
_cell_angle_alpha                90
_cell_angle_beta                 90
_cell_angle_gamma                90
_cell_formula_units_Z            4
_cell_length_a                   13.2035
_cell_length_b                   3.9241
_cell_length_c                   6.247
_cell_volume                     323.669
_citation_journal_id_ASTM        ZNBSEN
_cod_data_source_file            Strobel_ZNBSEN_2007_1191.cif
_cod_data_source_block           Cu1S2Yb1
_cod_original_cell_volume        323.6686
_cod_original_formula_sum        'Cu1 S2 Yb1'
_cod_database_code               7221520
loop_
_symmetry_equiv_pos_as_xyz
x,y,z
-x+1/2,-y,z+1/2
x+1/2,-y+1/2,-z+1/2
-x,y+1/2,-z
-x,-y,-z
x-1/2,y,-z-1/2
-x-1/2,y-1/2,z-1/2
x,-y-1/2,z
loop_
_atom_site_label
_atom_site_type_symbol
_atom_site_fract_x
_atom_site_fract_y
_atom_site_fract_z
_atom_site_occupancy
_atom_site_U_iso_or_equiv
Cu1 Cu+1 0.4454 0.25 0.3923 1 0.0
S2 S-2 0.2906 0.25 0.2261 1 0.0
Yb1 Yb+3 0.13481 0.25 0.49404 1 0.0
S1 S-2 0.4616 0.25 0.763 1 0.0
