#------------------------------------------------------------------------------
#$Date: 2016-02-13 20:28:24 +0100 (Sat 13 de Feb de 2016) $
#$Revision: 176429 $
#$URL: svn://www.crystallography.net/cod/cif/7/22/29/7222901.cif $
#------------------------------------------------------------------------------
#
# This file is available in the Crystallography Open Database (COD),
# http://www.crystallography.net/
#
# All data on this site have been placed in the public domain by the
# contributors.
#
data_7222901
loop_
_publ_author_name
'Range, K.J.'
'Weiss, A.'
'Engert, G.'
'Mueller, W.'
_publ_section_title
;
 Hochdrucksynthese und Kristallstrukturen von Tl In S2 -II und Tl In S2
 -III
;
_journal_name_full
;
Zeitschrift fuer Naturforschung, Teil B. Anorganische Chemie, Organische 
Chemie (2,1947-32,1977)
;
_journal_page_first              181
_journal_page_last               185
_journal_volume                  29
_journal_year                    1974
_chemical_formula_sum            'In S2 Tl'
_chemical_name_systematic        'Tl In S2'
_space_group_IT_number           194
_symmetry_space_group_name_Hall  '-P 6c 2c'
_symmetry_space_group_name_H-M   'P 63/m m c'
_cell_angle_alpha                90
_cell_angle_beta                 90
_cell_angle_gamma                120
_cell_formula_units_Z            2
_cell_length_a                   3.83
_cell_length_b                   3.83
_cell_length_c                   14.88
_cell_volume                     189.030
_citation_journal_id_ASTM        ZENBAX
_cod_data_source_file            Range_ZENBAX_1974_699.cif
_cod_data_source_block           In1S2Tl1
_cod_original_cell_volume        189.0302
_cod_original_formula_sum        'In1 S2 Tl1'
_cod_database_code               7222901
loop_
_symmetry_equiv_pos_as_xyz
x,y,z
x-y,x,z+1/2
-y,x-y,z
-x,-y,z+1/2
-x+y,-x,z
y,-x+y,z+1/2
-y,-x,-z+1/2
x-y,-y,-z
x,x-y,-z+1/2
y,x,-z
-x+y,y,-z+1/2
-x,-x+y,-z
-x,-y,-z
-x+y,-x,-z-1/2
y,-x+y,-z
x,y,-z-1/2
x-y,x,-z
-y,x-y,-z-1/2
y,x,z-1/2
-x+y,y,z
-x,-x+y,z-1/2
-y,-x,z
x-y,-y,z-1/2
x,x-y,z
loop_
_atom_site_label
_atom_site_type_symbol
_atom_site_fract_x
_atom_site_fract_y
_atom_site_fract_z
_atom_site_occupancy
_atom_site_U_iso_or_equiv
S1 S-2 0.3333 0.6667 0.595 1 0.0
Tl1 Tl+1 0.3333 0.6667 0.25 1 0.0
In1 In+3 0 0 0 1 0.0
