#------------------------------------------------------------------------------
#$Date: 2023-03-04 19:18:00 +0100 (Sat 04 de Mar de 2023) $
#$Revision: 281446 $
#$URL: svn://www.crystallography.net/cod/cif/7/24/61/7246104.cif $
#------------------------------------------------------------------------------
#
# This file is available in the Crystallography Open Database (COD),
# http://www.crystallography.net/
#
# All data on this site have been placed in the public domain by the
# contributors.
#
data_7246104
loop_
_publ_author_name
'Wilson, Cameron J. G.'
'Wood, Peter A.'
'Parsons, Simon'
_publ_section_title
;
 Discerning subtle high-pressure phase transitions in glyphosate
;
_journal_issue                   6
_journal_name_full               CrystEngComm
_journal_page_first              988
_journal_page_last               997
_journal_paper_doi               10.1039/D2CE01616H
_journal_volume                  25
_journal_year                    2023
_chemical_formula_moiety         'C3 H8 N O5 P'
_chemical_formula_sum            'C3 H8 N O5 P'
_chemical_formula_weight         169.07
_chemical_name_common            Glyphosate
_chemical_name_systematic        N-(Phosphonomethyl)glycine
_space_group_crystal_system      monoclinic
_space_group_IT_number           14
_space_group_name_Hall           '-P 2ybc'
_space_group_name_H-M_alt        'P 1 21/c 1'
_atom_sites_solution_hydrogens   geom
_audit_creation_date             2022-03-01
_audit_creation_method
;
Olex2 1.3
(compiled 2020.11.12 svn.r5f609507 for OlexSys, GUI svn.r6408)
;
_audit_update_record
;
2022-11-30 deposited with the CCDC.	2023-01-11 downloaded from the CCDC.
;
_cell_angle_alpha                90
_cell_angle_beta                 111.200(6)
_cell_angle_gamma                90
_cell_formula_units_Z            4
_cell_length_a                   8.5435(9)
_cell_length_b                   7.5706(4)
_cell_length_c                   9.2993(5)
_cell_measurement_reflns_used    848
_cell_measurement_temperature    293.15
_cell_measurement_theta_max      16.785
_cell_measurement_theta_min      2.819
_cell_volume                     560.77(8)
_computing_cell_refinement       'SAINT V8.40B (?, 2016)'
_computing_data_reduction        'SAINT V8.40B (?, 2016)'
_computing_molecular_graphics    'Olex2 1.3 (Dolomanov et al., 2009)'
_computing_publication_material  'Olex2 1.3 (Dolomanov et al., 2009)'
_computing_structure_refinement  'XL  (Sheldrick, 2008)'
_diffrn_ambient_temperature      293.15
_diffrn_measured_fraction_theta_full 0.467
_diffrn_measured_fraction_theta_max 0.459
_diffrn_measurement_device_type  'Bruker AXS D8 Venture'
_diffrn_measurement_method       'φ and ω scans'
_diffrn_radiation_type           AgK\a
_diffrn_radiation_wavelength     0.56086
_diffrn_reflns_av_R_equivalents  0.0701
_diffrn_reflns_av_unetI/netI     0.0436
_diffrn_reflns_Laue_measured_fraction_full 0.467
_diffrn_reflns_Laue_measured_fraction_max 0.459
_diffrn_reflns_limit_h_max       7
_diffrn_reflns_limit_h_min       -7
_diffrn_reflns_limit_k_max       9
_diffrn_reflns_limit_k_min       -9
_diffrn_reflns_limit_l_max       11
_diffrn_reflns_limit_l_min       -11
_diffrn_reflns_number            4847
_diffrn_reflns_point_group_measured_fraction_full 0.467
_diffrn_reflns_point_group_measured_fraction_max 0.459
_diffrn_reflns_theta_full        19.665
_diffrn_reflns_theta_max         20.524
_diffrn_reflns_theta_min         2.819
_diffrn_source_current           0.9
_diffrn_source_power             0.045
_diffrn_source_voltage           50.0
_diffrn_standards_number         0
_exptl_absorpt_coefficient_mu    0.238
_exptl_absorpt_correction_T_max  0.7445
_exptl_absorpt_correction_T_min  0.6037
_exptl_absorpt_correction_type   multi-scan
_exptl_absorpt_process_details
;
SADABS-2016/2 (Bruker,2016/2) was used for absorption correction.
wR2(int) was 0.0732 before and 0.0614 after correction.
The Ratio of minimum to maximum transmission is 0.8109.
The λ/2 correction factor is Not present.
;
_exptl_crystal_colour            'clear colourless'
_exptl_crystal_colour_lustre     clear
_exptl_crystal_colour_primary    colourless
_exptl_crystal_density_diffrn    2.003
_exptl_crystal_description       plate
_exptl_crystal_F_000             352
_exptl_crystal_preparation       'Powder sample received from Sigma-Aldrich'
_exptl_crystal_recrystallization_method
'The material was recrystallised from water by slow evaporation'
_exptl_crystal_size_max          0.15
_exptl_crystal_size_mid          0.135
_exptl_crystal_size_min          0.05
_refine_diff_density_max         0.202
_refine_diff_density_min         -0.234
_refine_diff_density_rms         0.057
_refine_ls_extinction_method     none
_refine_ls_goodness_of_fit_ref   1.092
_refine_ls_hydrogen_treatment    constr
_refine_ls_matrix_type           full
_refine_ls_number_parameters     93
_refine_ls_number_reflns         527
_refine_ls_number_restraints     82
_refine_ls_restrained_S_all      1.031
_refine_ls_R_factor_all          0.0587
_refine_ls_R_factor_gt           0.0366
_refine_ls_shift/su_max          0.000
_refine_ls_shift/su_mean         0.000
_refine_ls_structure_factor_coef Fsqd
_refine_ls_weighting_details
'w=1/[σ²(Fo²)+(0.0334P)²+0.7592P] where P=(Fo²+2Fc²)/3'
_refine_ls_weighting_scheme      calc
_refine_ls_wR_factor_gt          0.0792
_refine_ls_wR_factor_ref         0.0883
_reflns_Friedel_coverage         0.000
_reflns_number_gt                412
_reflns_number_total             527
_reflns_threshold_expression     'I > 2σ(I)'
_cod_data_source_file            d2ce01616h2.cif
_cod_data_source_block           C3H8NO5P_Ag_4p228GPa
_cod_depositor_comments
'Adding full bibliography for 7246103--7246118.cif.'
_cod_database_code               7246104
_shelx_shelxl_version_number     2019/1
_shelx_space_group_comment
;
The symmetry employed for this shelxl refinement is uniquely defined
by the following loop, which should always be used as a source of
symmetry information in preference to the above space-group names.
They are only intended as comments.
;
_shelx_estimated_absorpt_t_max   0.988
_shelx_estimated_absorpt_t_min   0.965
_olex2_refinement_description
;
1. Fixed Uiso
 At 1.2 times of:
  All C(H,H) groups, All N(H,H) groups
 At 1.5 times of:
  All O(H) groups
2. Restrained distances
 O1-C1
 1.31 with sigma of 0.01
 O2-C1
 1.204 with sigma of 0.01
 O2-O1
 2.25 with sigma of 0.03
 C2-C1
 1.512 with sigma of 0.01
 C2-O1
 2.305 with sigma of 0.03
 C2-O2
 2.399 with sigma of 0.03
 N3-C2
 1.481 with sigma of 0.01
 N3-C1
 2.481 with sigma of 0.03
 C4-N3
 1.488 with sigma of 0.01
 C4-C2
 2.486 with sigma of 0.03
 P5-C4
 1.815 with sigma of 0.01
 P5-N3
 2.742 with sigma of 0.03
 O3-P5
 1.574 with sigma of 0.01
 O3-C4
 2.676 with sigma of 0.03
 O4-P5
 1.498 with sigma of 0.01
 O4-C4
 2.659 with sigma of 0.03
 O4-O3
 2.544 with sigma of 0.03
 O5-P5
 1.5 with sigma of 0.01
 O5-C4
 2.704 with sigma of 0.03
 O5-O3
 2.456 with sigma of 0.03
 O5-O4
 2.58 with sigma of 0.03
3. Rigid body (RIGU) restrains
 All non-hydrogen atoms
 with sigma for 1-2 distances of 0.005 and sigma for 1-3 distances of 0.005
4.a Secondary CH2 refined with riding coordinates:
 C2(H2A,H2B), N3(H3A,H3B), C4(H4A,H4B)
4.b Idealised tetrahedral OH refined as rotating group:
 O1(H1), O3(H3)
;
_shelx_res_file
;
TITL ag_cw21014_0m in P2(1)/c
    ag_cw21014_0m.res
    created by SHELXL-2019/1 at 11:08:51 on 01-Mar-2022
CELL 0.56086 8.5435 7.5706 9.2993 90 111.1996 90
ZERR 4 0.0009 0.0004 0.0005 0 0.0058 0
LATT 1
SYMM -X,0.5+Y,0.5-Z
SFAC C H N O P
DISP C 0.0013 0.0009 7.4
DISP H 0 0 0.7
DISP N 0.003 0.002 11.7
DISP O 0.0058 0.0036 18.2
DISP P 0.0671 0.0586 203.6
UNIT 12 32 4 20 4
DFIX 1.31 0.01 O1 C1
DFIX 1.204 0.01 O2 C1
DFIX 2.25 0.03 O2 O1
DFIX 1.512 0.01 C2 C1
DFIX 2.305 0.03 C2 O1
DFIX 2.399 0.03 C2 O2
DFIX 1.481 0.01 N3 C2
DFIX 2.481 0.03 N3 C1
DFIX 1.488 0.01 C4 N3
DFIX 2.486 0.03 C4 C2
DFIX 1.815 0.01 P5 C4
DFIX 2.742 0.03 P5 N3
DFIX 1.574 0.01 O3 P5
DFIX 2.676 0.03 O3 C4
DFIX 1.498 0.01 O4 P5
DFIX 2.659 0.03 O4 C4
DFIX 2.544 0.03 O4 O3
DFIX 1.5 0.01 O5 P5
DFIX 2.704 0.03 O5 C4
DFIX 2.456 0.03 O5 O3
DFIX 2.58 0.03 O5 O4
RIGU 0.005 0.005

L.S. 20
PLAN  5
SIZE 0.05 0.135 0.15
TEMP 20
CONF
MORE -1
BOND $H
fmap 2 53
ACTA
OMIT -5 3 5
OMIT -7 1 10
OMIT -1 2 3
OMIT 2 6 5
OMIT -7 4 9
OMIT -1 1 9
REM <olex2.extras>
REM <HklSrc "%.\\ag_cw21014_0m.hkl">
REM </olex2.extras>

WGHT    0.033400    0.759200
FVAR       0.30252
C1    1    0.008792    0.617444    0.341066    11.00000    0.03131    0.01756 =
         0.02346    0.00448    0.01410    0.00271
O1    4   -0.152637    0.598399    0.271440    11.00000    0.03379    0.04201 =
         0.03194   -0.00627    0.01996   -0.00251
AFIX 147
H1    2   -0.199052    0.608597    0.334289    11.00000   -1.50000
AFIX   0
O2    4    0.078848    0.679600    0.468062    11.00000    0.04468    0.03420 =
         0.02323   -0.00691    0.01239    0.00360
C2    1    0.099917    0.553151    0.239878    11.00000    0.02870    0.02609 =
         0.02516   -0.00525    0.01150   -0.00221
AFIX  23
H2A   2    0.074511    0.429309    0.215881    11.00000   -1.20000
H2B   2    0.061766    0.618735    0.143766    11.00000   -1.20000
AFIX   0
N3    3    0.280991    0.575497    0.316420    11.00000    0.02810    0.01926 =
         0.02112   -0.00165    0.01534    0.00491
AFIX  23
H3A   2    0.332894    0.502378    0.273333    11.00000   -1.20000
H3B   2    0.309773    0.544586    0.414969    11.00000   -1.20000
AFIX   0
C4    1    0.340892    0.757281    0.309070    11.00000    0.02574    0.01600 =
         0.01933   -0.00046    0.00690    0.00023
AFIX  23
H4A   2    0.273750    0.840508    0.341372    11.00000   -1.20000
H4B   2    0.328781    0.785175    0.203769    11.00000   -1.20000
AFIX   0
P5    5    0.557161    0.776526    0.432408    11.00000    0.03671    0.01510 =
         0.01930    0.00053    0.01839   -0.00019
O3    4    0.547594    0.765607    0.597401    11.00000    0.04061    0.02242 =
         0.02288    0.00152    0.02169    0.00266
AFIX 147
H3    2    0.503788    0.855656    0.614363    11.00000   -1.50000
AFIX   0
O4    4    0.621560    0.951741    0.403259    11.00000    0.02258    0.01794 =
         0.02153    0.00250    0.01198    0.00260
O5    4    0.654681    0.616176    0.418483    11.00000    0.02178    0.02164 =
         0.02397    0.00151    0.01272    0.00146
HKLF 4




REM  ag_cw21014_0m in P2(1)/c
REM wR2 = 0.0883, GooF = S = 1.092, Restrained GooF = 1.031 for all data
REM R1 = 0.0366 for 412 Fo > 4sig(Fo) and 0.0587 for all 527 data
REM 93 parameters refined using 82 restraints

END

WGHT      0.0334      0.7592

REM Highest difference peak  0.202,  deepest hole -0.234,  1-sigma level  0.057
Q1    1   0.5969  0.8592  0.3975  11.00000  0.05    0.20
Q2    1   0.3368  0.4582  0.1795  11.00000  0.05    0.19
Q3    1  -0.0315  0.7261  0.0813  11.00000  0.05    0.19
Q4    1   0.6383  0.7801  0.5618  11.00000  0.05    0.19
Q5    1   0.2259  0.3603  0.3218  11.00000  0.05    0.18
;
_shelx_res_checksum              65027
_olex2_exptl_crystal_mounting_method 'Merrill Bassett diamond anvil cell'
_olex2_submission_original_sample_id ag_cw21014_0m
_olex2_submission_special_instructions 'No special instructions were received'
loop_
_space_group_symop_operation_xyz
'x, y, z'
'-x, y+1/2, -z+1/2'
'-x, -y, -z'
'x, -y-1/2, z-1/2'
loop_
_atom_site_label
_atom_site_type_symbol
_atom_site_fract_x
_atom_site_fract_y
_atom_site_fract_z
_atom_site_U_iso_or_equiv
_atom_site_adp_type
_atom_site_occupancy
_atom_site_site_symmetry_order
_atom_site_calc_flag
_atom_site_refinement_flags_posn
_atom_site_refinement_flags_adp
_atom_site_refinement_flags_occupancy
_atom_site_disorder_assembly
_atom_site_disorder_group
C1 C 0.0088(11) 0.6174(6) 0.3411(7) 0.023(3) Uani 1 1 d D . . . .
O1 O -0.1526(10) 0.5984(5) 0.2714(6) 0.034(3) Uani 1 1 d D . . . .
H1 H -0.199052 0.608597 0.334289 0.051 Uiso 1 1 calc R U . . .
O2 O 0.0788(9) 0.6796(4) 0.4681(4) 0.034(3) Uani 1 1 d D . . . .
C2 C 0.0999(12) 0.5532(6) 0.2399(7) 0.026(4) Uani 1 1 d D . . . .
H2A H 0.074511 0.429309 0.215881 0.031 Uiso 1 1 calc R U . . .
H2B H 0.061766 0.618735 0.143766 0.031 Uiso 1 1 calc R U . . .
N3 N 0.2810(11) 0.5755(4) 0.3164(6) 0.021(3) Uani 1 1 d D . . . .
H3A H 0.332894 0.502378 0.273333 0.025 Uiso 1 1 calc R U . . .
H3B H 0.309773 0.544586 0.414969 0.025 Uiso 1 1 calc R U . . .
C4 C 0.3409(10) 0.7573(5) 0.3091(6) 0.021(3) Uani 1 1 d D . . . .
H4A H 0.273750 0.840508 0.341372 0.025 Uiso 1 1 calc R U . . .
H4B H 0.328781 0.785175 0.203769 0.025 Uiso 1 1 calc R U . . .
P5 P 0.5572(4) 0.77653(13) 0.43241(17) 0.0214(12) Uani 1 1 d D . . . .
O3 O 0.5476(8) 0.7656(3) 0.5974(4) 0.026(3) Uani 1 1 d D . . . .
H3 H 0.503788 0.855656 0.614363 0.039 Uiso 1 1 calc R U . . .
O4 O 0.6216(8) 0.9517(3) 0.4033(4) 0.020(2) Uani 1 1 d D . . . .
O5 O 0.6547(8) 0.6162(3) 0.4185(4) 0.021(3) Uani 1 1 d D . . . .
loop_
_atom_site_aniso_label
_atom_site_aniso_U_11
_atom_site_aniso_U_22
_atom_site_aniso_U_33
_atom_site_aniso_U_23
_atom_site_aniso_U_13
_atom_site_aniso_U_12
C1 0.031(10) 0.018(2) 0.023(4) 0.004(2) 0.014(5) 0.003(4)
O1 0.034(10) 0.042(2) 0.032(3) -0.006(2) 0.020(5) -0.003(4)
O2 0.045(10) 0.0342(17) 0.023(2) -0.0069(13) 0.012(4) 0.004(2)
C2 0.029(11) 0.026(2) 0.025(4) -0.005(2) 0.011(6) -0.002(4)
N3 0.028(10) 0.0193(17) 0.021(3) -0.0016(16) 0.015(5) 0.005(3)
C4 0.026(9) 0.0160(19) 0.019(3) -0.0005(17) 0.007(5) 0.000(3)
P5 0.037(4) 0.0151(5) 0.0193(9) 0.0005(5) 0.0184(18) -0.0002(8)
O3 0.041(10) 0.0224(14) 0.023(2) 0.0015(12) 0.022(4) 0.003(2)
O4 0.023(8) 0.0179(14) 0.022(2) 0.0025(12) 0.012(4) 0.003(2)
O5 0.022(9) 0.0216(14) 0.024(2) 0.0015(12) 0.013(4) 0.001(2)
loop_
_atom_type_symbol
_atom_type_description
_atom_type_scat_dispersion_real
_atom_type_scat_dispersion_imag
_atom_type_scat_source
C C 0.0013 0.0009 'International Tables Vol C Tables 4.2.6.8 and 6.1.1.4'
H H 0.0000 0.0000 'International Tables Vol C Tables 4.2.6.8 and 6.1.1.4'
N N 0.0030 0.0020 'International Tables Vol C Tables 4.2.6.8 and 6.1.1.4'
O O 0.0058 0.0036 'International Tables Vol C Tables 4.2.6.8 and 6.1.1.4'
P P 0.0671 0.0586 'International Tables Vol C Tables 4.2.6.8 and 6.1.1.4'
loop_
_geom_angle_atom_site_label_1
_geom_angle_atom_site_label_2
_geom_angle_atom_site_label_3
_geom_angle
_geom_angle_site_symmetry_1
_geom_angle_site_symmetry_3
_geom_angle_publ_flag
O1 C1 C2 110.4(6) . . ?
O2 C1 O1 126.1(7) . . ?
O2 C1 C2 123.5(8) . . ?
C1 O1 H1 109.5 . . ?
C1 C2 H2A 109.5 . . ?
C1 C2 H2B 109.5 . . ?
H2A C2 H2B 108.1 . . ?
N3 C2 C1 110.8(6) . . ?
N3 C2 H2A 109.5 . . ?
N3 C2 H2B 109.5 . . ?
C2 N3 H3A 108.7 . . ?
C2 N3 H3B 108.7 . . ?
C2 N3 C4 114.1(6) . . ?
H3A N3 H3B 107.6 . . ?
C4 N3 H3A 108.7 . . ?
C4 N3 H3B 108.7 . . ?
N3 C4 H4A 109.7 . . ?
N3 C4 H4B 109.7 . . ?
N3 C4 P5 109.9(4) . . ?
H4A C4 H4B 108.2 . . ?
P5 C4 H4A 109.7 . . ?
P5 C4 H4B 109.7 . . ?
O3 P5 C4 102.4(3) . . ?
O4 P5 C4 108.5(3) . . ?
O4 P5 O3 112.11(17) . . ?
O4 P5 O5 116.6(3) . . ?
O5 P5 C4 110.7(2) . . ?
O5 P5 O3 105.56(19) . . ?
P5 O3 H3 109.5 . . ?
loop_
_geom_bond_atom_site_label_1
_geom_bond_atom_site_label_2
_geom_bond_distance
_geom_bond_site_symmetry_2
_geom_bond_publ_flag
C1 O1 1.302(8) . ?
C1 O2 1.210(7) . ?
C1 C2 1.503(7) . ?
O1 H1 0.8200 . ?
C2 H2A 0.9700 . ?
C2 H2B 0.9700 . ?
C2 N3 1.460(8) . ?
N3 H3A 0.8900 . ?
N3 H3B 0.8900 . ?
N3 C4 1.478(5) . ?
C4 H4A 0.9700 . ?
C4 H4B 0.9700 . ?
C4 P5 1.794(7) . ?
P5 O3 1.568(2) . ?
P5 O4 1.498(3) . ?
P5 O5 1.504(4) . ?
O3 H3 0.8200 . ?
loop_
_geom_torsion_atom_site_label_1
_geom_torsion_atom_site_label_2
_geom_torsion_atom_site_label_3
_geom_torsion_atom_site_label_4
_geom_torsion
_geom_torsion_site_symmetry_1
_geom_torsion_site_symmetry_2
_geom_torsion_site_symmetry_3
_geom_torsion_site_symmetry_4
_geom_torsion_publ_flag
C1 C2 N3 C4 -79.8(5) . . . . ?
O1 C1 C2 N3 179.5(5) . . . . ?
O2 C1 C2 N3 0.3(8) . . . . ?
C2 N3 C4 P5 170.6(3) . . . . ?
N3 C4 P5 O3 -70.3(3) . . . . ?
N3 C4 P5 O4 171.0(3) . . . . ?
N3 C4 P5 O5 41.8(3) . . . . ?
