#------------------------------------------------------------------------------
#$Date: 2023-03-04 19:18:00 +0100 (Sat 04 de Mar de 2023) $
#$Revision: 281446 $
#$URL: svn://www.crystallography.net/cod/cif/7/24/61/7246107.cif $
#------------------------------------------------------------------------------
#
# This file is available in the Crystallography Open Database (COD),
# http://www.crystallography.net/
#
# All data on this site have been placed in the public domain by the
# contributors.
#
data_7246107
loop_
_publ_author_name
'Wilson, Cameron J. G.'
'Wood, Peter A.'
'Parsons, Simon'
_publ_section_title
;
 Discerning subtle high-pressure phase transitions in glyphosate
;
_journal_issue                   6
_journal_name_full               CrystEngComm
_journal_page_first              988
_journal_page_last               997
_journal_paper_doi               10.1039/D2CE01616H
_journal_volume                  25
_journal_year                    2023
_chemical_formula_moiety         'C3 H8 N O5 P'
_chemical_formula_sum            'C3 H8 N O5 P'
_chemical_formula_weight         169.07
_chemical_name_common            Glyphosate
_chemical_name_systematic        N-(Phosphonomethyl)glycine
_space_group_crystal_system      monoclinic
_space_group_IT_number           14
_space_group_name_Hall           '-P 2ybc'
_space_group_name_H-M_alt        'P 1 21/c 1'
_atom_sites_solution_hydrogens   geom
_atom_sites_solution_primary     iterative
_audit_creation_date             2022-03-01
_audit_creation_method
;
Olex2 1.3
(compiled 2020.11.12 svn.r5f609507 for OlexSys, GUI svn.r6408)
;
_audit_update_record
;
2022-11-30 deposited with the CCDC.	2023-01-11 downloaded from the CCDC.
;
_cell_angle_alpha                90
_cell_angle_beta                 107.785(9)
_cell_angle_gamma                90
_cell_formula_units_Z            4
_cell_length_a                   8.6512(13)
_cell_length_b                   7.8496(6)
_cell_length_c                   9.6513(8)
_cell_measurement_reflns_used    1010
_cell_measurement_temperature    293.15
_cell_measurement_theta_max      17.03
_cell_measurement_theta_min      2.69
_cell_volume                     624.08(12)
_computing_cell_refinement       'SAINT V8.40B (?, 2016)'
_computing_data_reduction        'SAINT V8.40B (?, 2016)'
_computing_molecular_graphics    'Olex2 1.3 (Dolomanov et al., 2009)'
_computing_publication_material  'Olex2 1.3 (Dolomanov et al., 2009)'
_computing_structure_refinement  'XL  (Sheldrick, 2008)'
_computing_structure_solution    'olex2.solve 1.3 (Bourhis et al., 2015)'
_diffrn_ambient_temperature      293.15
_diffrn_measured_fraction_theta_full 0.395
_diffrn_measured_fraction_theta_max 0.384
_diffrn_measurement_device_type  'Bruker AXS D8 Venture'
_diffrn_measurement_method       'φ and ω scans'
_diffrn_radiation_type           AgK\a
_diffrn_radiation_wavelength     0.56086
_diffrn_reflns_av_R_equivalents  0.0738
_diffrn_reflns_av_unetI/netI     0.0433
_diffrn_reflns_Laue_measured_fraction_full 0.395
_diffrn_reflns_Laue_measured_fraction_max 0.384
_diffrn_reflns_limit_h_max       6
_diffrn_reflns_limit_h_min       -6
_diffrn_reflns_limit_k_max       9
_diffrn_reflns_limit_k_min       -9
_diffrn_reflns_limit_l_max       12
_diffrn_reflns_limit_l_min       -12
_diffrn_reflns_number            5430
_diffrn_reflns_point_group_measured_fraction_full 0.395
_diffrn_reflns_point_group_measured_fraction_max 0.384
_diffrn_reflns_theta_full        19.665
_diffrn_reflns_theta_max         20.526
_diffrn_reflns_theta_min         2.693
_diffrn_source_current           0.9
_diffrn_source_power             0.045
_diffrn_source_voltage           50.0
_diffrn_standards_number         0
_exptl_absorpt_coefficient_mu    0.214
_exptl_absorpt_correction_T_max  0.7445
_exptl_absorpt_correction_T_min  0.5488
_exptl_absorpt_correction_type   multi-scan
_exptl_absorpt_process_details
;
SADABS-2016/2 (Bruker,2016/2) was used for absorption correction.
wR2(int) was 0.0833 before and 0.0627 after correction.
The Ratio of minimum to maximum transmission is 0.7371.
The λ/2 correction factor is Not present.
;
_exptl_crystal_colour            'clear colourless'
_exptl_crystal_colour_lustre     clear
_exptl_crystal_colour_primary    colourless
_exptl_crystal_density_diffrn    1.799
_exptl_crystal_description       plate
_exptl_crystal_F_000             352
_exptl_crystal_preparation       'Powder sample received from Sigma-Aldrich'
_exptl_crystal_recrystallization_method
'The material was recrystallised from water by slow evaporation'
_exptl_crystal_size_max          0.15
_exptl_crystal_size_mid          0.135
_exptl_crystal_size_min          0.05
_refine_diff_density_max         0.165
_refine_diff_density_min         -0.168
_refine_diff_density_rms         0.047
_refine_ls_extinction_coef       0.032(12)
_refine_ls_extinction_expression Fc^*^=kFc[1+0.001xFc²λ³/sin(2θ)]^-1/4^
_refine_ls_extinction_method     'SHELXL-2019/1 (Sheldrick 2019)'
_refine_ls_goodness_of_fit_ref   1.052
_refine_ls_hydrogen_treatment    constr
_refine_ls_matrix_type           full
_refine_ls_number_parameters     94
_refine_ls_number_reflns         490
_refine_ls_number_restraints     82
_refine_ls_restrained_S_all      0.972
_refine_ls_R_factor_all          0.0554
_refine_ls_R_factor_gt           0.0375
_refine_ls_shift/su_max          0.000
_refine_ls_shift/su_mean         0.000
_refine_ls_structure_factor_coef Fsqd
_refine_ls_weighting_details
'w=1/[σ²(Fo²)+(0.0201P)²+1.0460P] where P=(Fo²+2Fc²)/3'
_refine_ls_weighting_scheme      calc
_refine_ls_wR_factor_gt          0.0728
_refine_ls_wR_factor_ref         0.0820
_reflns_Friedel_coverage         0.000
_reflns_number_gt                383
_reflns_number_total             490
_reflns_threshold_expression     'I > 2σ(I)'
_cod_data_source_file            d2ce01616h2.cif
_cod_data_source_block           C3H8NO5P_Ag_0p934GPa
_cod_depositor_comments
'Adding full bibliography for 7246103--7246118.cif.'
_cod_database_code               7246107
_shelx_shelxl_version_number     2019/1
_shelx_space_group_comment
;
The symmetry employed for this shelxl refinement is uniquely defined
by the following loop, which should always be used as a source of
symmetry information in preference to the above space-group names.
They are only intended as comments.
;
_shelx_estimated_absorpt_t_max   0.989
_shelx_estimated_absorpt_t_min   0.969
_olex2_refinement_description
;
1. Fixed Uiso
 At 1.2 times of:
  All C(H,H) groups, All N(H,H) groups
 At 1.5 times of:
  All O(H) groups
2. Restrained distances
 O1-C1
 1.31 with sigma of 0.01
 O2-C1
 1.204 with sigma of 0.01
 O2-O1
 2.25 with sigma of 0.03
 C2-C1
 1.512 with sigma of 0.01
 C2-O1
 2.305 with sigma of 0.03
 C2-O2
 2.399 with sigma of 0.03
 N3-C2
 1.481 with sigma of 0.01
 N3-C1
 2.481 with sigma of 0.03
 C4-N3
 1.488 with sigma of 0.01
 C4-C2
 2.486 with sigma of 0.03
 P5-C4
 1.815 with sigma of 0.01
 P5-N3
 2.742 with sigma of 0.03
 O3-P5
 1.574 with sigma of 0.01
 O3-C4
 2.676 with sigma of 0.03
 O4-P5
 1.498 with sigma of 0.01
 O4-C4
 2.659 with sigma of 0.03
 O4-O3
 2.544 with sigma of 0.03
 O5-P5
 1.5 with sigma of 0.01
 O5-C4
 2.704 with sigma of 0.03
 O5-O3
 2.456 with sigma of 0.03
 O5-O4
 2.58 with sigma of 0.03
3. Rigid body (RIGU) restrains
 All non-hydrogen atoms
 with sigma for 1-2 distances of 0.005 and sigma for 1-3 distances of 0.005
4.a Secondary CH2 refined with riding coordinates:
 C2(H2A,H2B), N3(H3A,H3B), C4(H4A,H4B)
4.b Idealised tetrahedral OH refined as rotating group:
 O1(H1), O3(H3)
;
_shelx_res_file
;
TITL ag_cw21008_0m in P2(1)/c
    ag_cw21008_0m.res
    created by SHELXL-2019/1 at 10:12:15 on 01-Mar-2022
CELL 0.56086 8.6512 7.8496 9.6513 90 107.785 90
ZERR 4 0.0013 0.0006 0.0008 0 0.0089 0
LATT 1
SYMM -X,0.5+Y,0.5-Z
SFAC C H N O P
DISP C 0.0013 0.0009 7.4
DISP H 0 0 0.7
DISP N 0.003 0.002 11.7
DISP O 0.0058 0.0036 18.2
DISP P 0.0671 0.0586 203.6
UNIT 12 32 4 20 4
DFIX 1.31 0.01 O1 C1
DFIX 1.204 0.01 O2 C1
DFIX 2.25 0.03 O2 O1
DFIX 1.512 0.01 C2 C1
DFIX 2.305 0.03 C2 O1
DFIX 2.399 0.03 C2 O2
DFIX 1.481 0.01 N3 C2
DFIX 2.481 0.03 N3 C1
DFIX 1.488 0.01 C4 N3
DFIX 2.486 0.03 C4 C2
DFIX 1.815 0.01 P5 C4
DFIX 2.742 0.03 P5 N3
DFIX 1.574 0.01 O3 P5
DFIX 2.676 0.03 O3 C4
DFIX 1.498 0.01 O4 P5
DFIX 2.659 0.03 O4 C4
DFIX 2.544 0.03 O4 O3
DFIX 1.5 0.01 O5 P5
DFIX 2.704 0.03 O5 C4
DFIX 2.456 0.03 O5 O3
DFIX 2.58 0.03 O5 O4
RIGU 0.005 0.005

L.S. 4
PLAN  5
SIZE 0.05 0.135 0.15
TEMP 20
CONF
MORE -1
BOND $H
fmap 2
ACTA
OMIT 1 2 6
OMIT 2 5 3
OMIT -2 9 2
OMIT 1 6 8
OMIT -1 3 11
OMIT -1 0 2
OMIT 3 9 1
REM <olex2.extras>
REM <HklSrc "%.\\ag_cw21008_0m.hkl">
REM </olex2.extras>

WGHT    0.020100    1.046000
EXTI    0.031666
FVAR       0.35514
C1    1    0.012231    0.611031    0.348083    11.00000    0.02940    0.02080 =
         0.02746    0.00287    0.01218    0.00394
O1    4   -0.140831    0.589283    0.278915    11.00000    0.03242    0.04829 =
         0.03747   -0.00371    0.01666    0.00076
AFIX 147
H1    2   -0.195107    0.616884    0.331646    11.00000   -1.50000
AFIX   0
O2    4    0.069470    0.679335    0.465555    11.00000    0.02835    0.03980 =
         0.03152   -0.01051    0.01007    0.00054
C2    1    0.112885    0.543066    0.258587    11.00000    0.04382    0.03256 =
         0.04425   -0.00856    0.02267   -0.00143
AFIX  23
H2A   2    0.091950    0.422154    0.242319    11.00000   -1.20000
H2B   2    0.081087    0.599179    0.164548    11.00000   -1.20000
AFIX   0
N3    3    0.288063    0.569757    0.329802    11.00000    0.04134    0.01937 =
         0.03204    0.00014    0.02405    0.00595
AFIX  23
H3A   2    0.343302    0.500414    0.289249    11.00000   -1.20000
H3B   2    0.311682    0.541163    0.423197    11.00000   -1.20000
AFIX   0
C4    1    0.343029    0.747419    0.320150    11.00000    0.04197    0.02214 =
         0.02319   -0.00043    0.01347   -0.00283
AFIX  23
H4A   2    0.275403    0.825103    0.354337    11.00000   -1.20000
H4B   2    0.330563    0.774750    0.219300    11.00000   -1.20000
AFIX   0
P5    5    0.552715    0.776267    0.427285    11.00000    0.05258    0.01836 =
         0.02411    0.00106    0.02293    0.00021
O3    4    0.549225    0.776969    0.589213    11.00000    0.03757    0.02448 =
         0.02426    0.00125    0.01519    0.00339
AFIX 147
H3    2    0.513510    0.868424    0.606942    11.00000   -1.50000
AFIX   0
O4    4    0.605712    0.945254    0.385440    11.00000    0.05248    0.02105 =
         0.03068    0.00065    0.02329   -0.00061
O5    4    0.649334    0.621603    0.414154    11.00000    0.03538    0.02398 =
         0.02626    0.00242    0.01142    0.00570
HKLF 4




REM  ag_cw21008_0m in P2(1)/c
REM wR2 = 0.0820, GooF = S = 1.052, Restrained GooF = 0.972 for all data
REM R1 = 0.0375 for 383 Fo > 4sig(Fo) and 0.0554 for all 490 data
REM 94 parameters refined using 82 restraints

END

WGHT      0.0201      1.0460

REM Highest difference peak  0.165,  deepest hole -0.168,  1-sigma level  0.047
Q1    1   0.6008  0.7236  0.7331  11.00000  0.05    0.16
Q2    1   0.8036  0.8553  0.5195  11.00000  0.05    0.16
Q3    1  -0.1121  0.6729  0.5221  11.00000  0.05    0.16
Q4    1   0.0660  0.5553  0.1402  11.00000  0.05    0.16
Q5    1   0.5614  0.7978  0.5175  11.00000  0.05    0.15
;
_shelx_res_checksum              26326
_olex2_exptl_crystal_mounting_method 'Merrill Bassett diamond anvil cell'
_olex2_submission_original_sample_id ag_cw21008_0m
_olex2_submission_special_instructions 'No special instructions were received'
loop_
_space_group_symop_operation_xyz
'x, y, z'
'-x, y+1/2, -z+1/2'
'-x, -y, -z'
'x, -y-1/2, z-1/2'
loop_
_atom_site_label
_atom_site_type_symbol
_atom_site_fract_x
_atom_site_fract_y
_atom_site_fract_z
_atom_site_U_iso_or_equiv
_atom_site_adp_type
_atom_site_occupancy
_atom_site_site_symmetry_order
_atom_site_calc_flag
_atom_site_refinement_flags_posn
_atom_site_refinement_flags_adp
_atom_site_refinement_flags_occupancy
_atom_site_disorder_assembly
_atom_site_disorder_group
C1 C 0.0122(11) 0.6110(6) 0.3481(6) 0.025(4) Uani 1 1 d D . . . .
O1 O -0.1408(11) 0.5893(5) 0.2789(5) 0.038(4) Uani 1 1 d D . . . .
H1 H -0.195107 0.616884 0.331646 0.057 Uiso 1 1 calc R U . . .
O2 O 0.0695(10) 0.6793(4) 0.4656(4) 0.033(4) Uani 1 1 d D . . . .
C2 C 0.1129(12) 0.5431(7) 0.2586(7) 0.038(4) Uani 1 1 d D . . . .
H2A H 0.091950 0.422154 0.242319 0.046 Uiso 1 1 calc R U . . .
H2B H 0.081087 0.599179 0.164548 0.046 Uiso 1 1 calc R U . . .
N3 N 0.2881(12) 0.5698(4) 0.3298(5) 0.028(4) Uani 1 1 d D . . . .
H3A H 0.343302 0.500414 0.289249 0.034 Uiso 1 1 calc R U . . .
H3B H 0.311682 0.541163 0.423197 0.034 Uiso 1 1 calc R U . . .
C4 C 0.3430(10) 0.7474(5) 0.3201(5) 0.028(3) Uani 1 1 d D . . . .
H4A H 0.275403 0.825103 0.354337 0.034 Uiso 1 1 calc R U . . .
H4B H 0.330563 0.774750 0.219300 0.034 Uiso 1 1 calc R U . . .
P5 P 0.5527(4) 0.77627(12) 0.42728(17) 0.0292(18) Uani 1 1 d D . . . .
O3 O 0.5492(8) 0.7770(3) 0.5892(3) 0.027(4) Uani 1 1 d D . . . .
H3 H 0.513510 0.868424 0.606942 0.041 Uiso 1 1 calc R U . . .
O4 O 0.6057(8) 0.9453(3) 0.3854(3) 0.032(4) Uani 1 1 d D . . . .
O5 O 0.6493(8) 0.6216(3) 0.4142(4) 0.028(3) Uani 1 1 d D . . . .
loop_
_atom_site_aniso_label
_atom_site_aniso_U_11
_atom_site_aniso_U_22
_atom_site_aniso_U_33
_atom_site_aniso_U_23
_atom_site_aniso_U_13
_atom_site_aniso_U_12
C1 0.029(11) 0.021(2) 0.027(4) 0.003(2) 0.012(5) 0.004(4)
O1 0.032(11) 0.048(2) 0.037(3) -0.004(2) 0.017(5) 0.001(4)
O2 0.028(12) 0.0398(17) 0.032(2) -0.0105(14) 0.010(5) 0.001(3)
C2 0.044(12) 0.033(2) 0.044(5) -0.009(2) 0.023(6) -0.001(5)
N3 0.041(12) 0.0194(18) 0.032(3) 0.0001(16) 0.024(6) 0.006(3)
C4 0.042(11) 0.0221(19) 0.023(3) -0.0004(17) 0.013(5) -0.003(3)
P5 0.053(6) 0.0184(6) 0.0241(9) 0.0011(5) 0.023(2) 0.0002(9)
O3 0.038(12) 0.0245(13) 0.024(2) 0.0013(12) 0.015(5) 0.003(2)
O4 0.052(12) 0.0211(14) 0.031(2) 0.0006(11) 0.023(5) -0.001(2)
O5 0.035(11) 0.0240(14) 0.026(2) 0.0024(13) 0.011(4) 0.006(2)
loop_
_atom_type_symbol
_atom_type_description
_atom_type_scat_dispersion_real
_atom_type_scat_dispersion_imag
_atom_type_scat_source
C C 0.0013 0.0009 'International Tables Vol C Tables 4.2.6.8 and 6.1.1.4'
H H 0.0000 0.0000 'International Tables Vol C Tables 4.2.6.8 and 6.1.1.4'
N N 0.0030 0.0020 'International Tables Vol C Tables 4.2.6.8 and 6.1.1.4'
O O 0.0058 0.0036 'International Tables Vol C Tables 4.2.6.8 and 6.1.1.4'
P P 0.0671 0.0586 'International Tables Vol C Tables 4.2.6.8 and 6.1.1.4'
loop_
_geom_angle_atom_site_label_1
_geom_angle_atom_site_label_2
_geom_angle_atom_site_label_3
_geom_angle
_geom_angle_site_symmetry_1
_geom_angle_site_symmetry_3
_geom_angle_publ_flag
O1 C1 C2 109.7(6) . . ?
O2 C1 O1 126.8(7) . . ?
O2 C1 C2 123.5(8) . . ?
C1 O1 H1 109.5 . . ?
C1 C2 H2A 109.2 . . ?
C1 C2 H2B 109.2 . . ?
H2A C2 H2B 107.9 . . ?
N3 C2 C1 112.1(6) . . ?
N3 C2 H2A 109.2 . . ?
N3 C2 H2B 109.2 . . ?
C2 N3 H3A 108.7 . . ?
C2 N3 H3B 108.7 . . ?
C2 N3 C4 114.0(6) . . ?
H3A N3 H3B 107.6 . . ?
C4 N3 H3A 108.7 . . ?
C4 N3 H3B 108.7 . . ?
N3 C4 H4A 109.3 . . ?
N3 C4 H4B 109.3 . . ?
N3 C4 P5 111.5(5) . . ?
H4A C4 H4B 108.0 . . ?
P5 C4 H4A 109.3 . . ?
P5 C4 H4B 109.3 . . ?
O3 P5 C4 104.4(3) . . ?
O4 P5 C4 107.0(3) . . ?
O4 P5 O3 111.41(17) . . ?
O4 P5 O5 118.0(3) . . ?
O5 P5 C4 109.7(3) . . ?
O5 P5 O3 105.5(2) . . ?
P5 O3 H3 109.5 . . ?
loop_
_geom_bond_atom_site_label_1
_geom_bond_atom_site_label_2
_geom_bond_distance
_geom_bond_site_symmetry_2
_geom_bond_publ_flag
C1 O1 1.299(9) . ?
C1 O2 1.215(6) . ?
C1 C2 1.499(8) . ?
O1 H1 0.8200 . ?
C2 H2A 0.9700 . ?
C2 H2B 0.9700 . ?
C2 N3 1.475(9) . ?
N3 H3A 0.8900 . ?
N3 H3B 0.8900 . ?
N3 C4 1.486(5) . ?
C4 H4A 0.9700 . ?
C4 H4B 0.9700 . ?
C4 P5 1.807(8) . ?
P5 O3 1.572(2) . ?
P5 O4 1.499(3) . ?
P5 O5 1.501(4) . ?
O3 H3 0.8200 . ?
loop_
_geom_torsion_atom_site_label_1
_geom_torsion_atom_site_label_2
_geom_torsion_atom_site_label_3
_geom_torsion_atom_site_label_4
_geom_torsion
_geom_torsion_site_symmetry_1
_geom_torsion_site_symmetry_2
_geom_torsion_site_symmetry_3
_geom_torsion_site_symmetry_4
_geom_torsion_publ_flag
C1 C2 N3 C4 -76.5(6) . . . . ?
O1 C1 C2 N3 178.0(5) . . . . ?
O2 C1 C2 N3 -0.2(8) . . . . ?
C2 N3 C4 P5 173.3(4) . . . . ?
N3 C4 P5 O3 -73.6(4) . . . . ?
N3 C4 P5 O4 168.1(3) . . . . ?
N3 C4 P5 O5 39.0(4) . . . . ?
