#------------------------------------------------------------------------------
#$Date: 2016-02-13 20:28:24 +0100 (Sat 13 de Feb de 2016) $
#$Revision: 176429 $
#$URL: svn://www.crystallography.net/cod/cif/8/10/39/8103969.cif $
#------------------------------------------------------------------------------
#
# This file is available in the Crystallography Open Database (COD),
# http://www.crystallography.net/
#
# All data on this site have been placed in the public domain by the
# contributors.
#
data_8103969
loop_
_publ_author_name
'Boeschen, S.'
'Keller, H.L.'
_publ_section_title
;
 Darstellung und Kristallstruktur der homologen Reihe Pb Mo6 X14, X = Cl,
 Br, I
;
_journal_name_full
'Zeitschrift fuer Kristallographie (149,1979-)'
_journal_page_first              305
_journal_page_last               315
_journal_volume                  200
_journal_year                    1992
_chemical_formula_sum            'Cl14 Mo6 Pb'
_chemical_name_systematic        'Pb ((Mo Cl)6 Cl8)'
_space_group_IT_number           201
_symmetry_space_group_name_Hall  '-P 2ab 2bc 3'
_symmetry_space_group_name_H-M   'P n -3 :2'
_cell_angle_alpha                90
_cell_angle_beta                 90
_cell_angle_gamma                90
_cell_formula_units_Z            4
_cell_length_a                   12.921
_cell_length_b                   12.921
_cell_length_c                   12.921
_cell_volume                     2157.190
_citation_journal_id_ASTM        ZEKRDZ
_cod_data_source_file            Boeschen_ZEKRDZ_1992_46.cif
_cod_data_source_block           Cl14Mo6Pb1
_cod_original_cell_volume        2157.19
_cod_original_formula_sum        'Cl14 Mo6 Pb1'
_cod_database_code               8103969
loop_
_symmetry_equiv_pos_as_xyz
x,y,z
-x+1/2,-y+1/2,z
x,-y+1/2,-z+1/2
-x+1/2,y,-z+1/2
z,x,y
-z+1/2,-x+1/2,y
z,-x+1/2,-y+1/2
-z+1/2,x,-y+1/2
y,z,x
y,-z+1/2,-x+1/2
-y+1/2,z,-x+1/2
-y+1/2,-z+1/2,x
-x,-y,-z
x-1/2,y-1/2,-z
-x,y-1/2,z-1/2
x-1/2,-y,z-1/2
-z,-x,-y
z-1/2,x-1/2,-y
-z,x-1/2,y-1/2
z-1/2,-x,y-1/2
-y,-z,-x
-y,z-1/2,x-1/2
y-1/2,-z,x-1/2
y-1/2,z-1/2,-x
loop_
_atom_site_label
_atom_site_type_symbol
_atom_site_fract_x
_atom_site_fract_y
_atom_site_fract_z
_atom_site_occupancy
_atom_site_U_iso_or_equiv
Cl1 Cl-1 0.135 0.135 0.135 1 0.0
Pb1 Pb+2 0.5 0.5 0.5 1 0.0
Mo1 Mo+2 0.8657 0.0289 0.9628 1 0.0
Cl2 Cl-1 0.3799 0.6882 0.9365 1 0.0
Cl3 Cl-1 0.5912 0.8102 0.0721 1 0.0
