#------------------------------------------------------------------------------
#$Date: 2024-04-18 17:56:43 +0200 (jue 18 de abr de 2024) $
#$Revision: 291269 $
#$URL: svn://www.crystallography.net/cod/cif/9/00/06/9000635.cif $
#------------------------------------------------------------------------------
#
# This file is available in the Crystallography Open Database (COD),
# http://www.crystallography.net/. The original data for this entry
# were provided the American Mineralogist Crystal Structure Database,
# http://rruff.geo.arizona.edu/AMS/amcsd.php
#
# The file may be used within the scientific community so long as
# proper attribution is given to the journal article from which the
# data were obtained.
#
data_9000635
loop_
_publ_author_name
'Lager, G. A.'
'Meagher, E. P.'
_publ_section_title
;
 High-temperature structural study of six olivines
 T = 335 deg C, sample is from Crestmore, California, USA
;
_journal_name_full               'American Mineralogist'
_journal_page_first              365
_journal_page_last               377
_journal_volume                  63
_journal_year                    1978
_chemical_formula_sum            'Ca Fe0.07 Mg0.93 O4 Si'
_chemical_name_mineral           Monticellite
_space_group_IT_number           62
_symmetry_space_group_name_Hall  '-P 2c 2ab'
_symmetry_space_group_name_H-M   'P b n m'
_cell_angle_alpha                90
_cell_angle_beta                 90
_cell_angle_gamma                90
_cell_length_a                   4.834
_cell_length_b                   11.147
_cell_length_c                   6.409
_cell_formula_units_Z            4
_cell_volume                     345.346
_database_code_amcsd             0000647
_diffrn_ambient_temperature      608.15
_exptl_crystal_density_diffrn    3.052
_cod_original_formula_sum        '(Mg.93 Fe.07) Ca Si O4'
_cod_database_code               9000635
loop_
_space_group_symop_operation_xyz
x,y,z
x,y,1/2-z
-x,-y,1/2+z
1/2+x,1/2-y,1/2+z
1/2-x,1/2+y,1/2-z
1/2-x,1/2+y,z
1/2+x,1/2-y,-z
-x,-y,-z
loop_
_atom_site_aniso_label
_atom_site_aniso_U_11
_atom_site_aniso_U_22
_atom_site_aniso_U_33
_atom_site_aniso_U_12
_atom_site_aniso_U_13
_atom_site_aniso_U_23
Mg 0.01089 0.01070 0.00645 -0.00136 -0.00361 -0.00036
Fe 0.01089 0.01070 0.00645 -0.00136 -0.00361 -0.00036
Ca 0.01385 0.00944 0.01020 0.00082 0.00000 0.00000
Si 0.00485 0.00881 0.00957 0.00055 0.00000 0.00000
O1 0.00379 0.02014 0.02331 -0.00218 0.00000 0.00000
O2 0.01385 0.00881 0.01561 0.00273 0.00000 0.00000
O3 0.01125 0.01511 0.01249 0.00000 0.00220 0.00362
loop_
_atom_site_label
_atom_site_fract_x
_atom_site_fract_y
_atom_site_fract_z
_atom_site_occupancy
Mg 0.00000 0.00000 0.00000 0.93000
Fe 0.00000 0.00000 0.00000 0.07000
Ca 0.97640 0.27740 0.25000 1.00000
Si 0.40910 0.08170 0.25000 1.00000
O1 0.74340 0.07760 0.25000 1.00000
O2 0.24760 0.45010 0.25000 1.00000
O3 0.27380 0.14730 0.04720 1.00000
loop_
_cod_related_entry_id
_cod_related_entry_database
_cod_related_entry_code
1 AMCSD 0000647
