#------------------------------------------------------------------------------
#$Date: 2024-04-18 17:56:43 +0200 (jue 18 de abr de 2024) $
#$Revision: 291269 $
#$URL: svn://www.crystallography.net/cod/cif/9/00/10/9001062.cif $
#------------------------------------------------------------------------------
#
# This file is available in the Crystallography Open Database (COD),
# http://www.crystallography.net/. The original data for this entry
# were provided the American Mineralogist Crystal Structure Database,
# http://rruff.geo.arizona.edu/AMS/amcsd.php
#
# The file may be used within the scientific community so long as
# proper attribution is given to the journal article from which the
# data were obtained.
#
data_9001062
loop_
_publ_author_name
'Raudsepp, M.'
'Turnock, A. C.'
'Hawthorne, F. C.'
'Sherriff, B. L.'
'Hartman, J. S.'
_publ_section_title
;Characterization of synthetic pargasitic amphiboles
 (NaCa2Mg4M3+Si6Al2O22(OH,F)2; M3+ = Al,Cr,Ga,Sc,In) by infrared spectroscopy,
 Rietveld structure refinement, and 27Al, 29Si, and 19F MAS NMR spectroscopy
 Sample: FGaPA-A3
;
_journal_name_full               'American Mineralogist'
_journal_page_first              580
_journal_page_last               593
_journal_volume                  72
_journal_year                    1987
_chemical_formula_sum            'Al2 Ca2 F2 Ga0.238 Mg4.762 Na O22 Si6'
_chemical_name_mineral           Pargasite
_space_group_IT_number           12
_symmetry_space_group_name_Hall  '-C 2y'
_symmetry_space_group_name_H-M   'C 1 2/m 1'
_cell_angle_alpha                90
_cell_angle_beta                 105.198
_cell_angle_gamma                90
_cell_length_a                   9.8600
_cell_length_b                   17.9685
_cell_length_c                   5.3027
_cell_formula_units_Z            2
_cell_volume                     906.619
_database_code_amcsd             0001084
_exptl_crystal_density_diffrn    3.106
_cod_original_formula_sum        'O22 F2 (Si6 Al2) Mg4.762 Ga.238 Ca2 Na'
_cod_database_code               9001062
loop_
_space_group_symop_operation_xyz
x,y,z
1/2+x,1/2+y,z
x,-y,z
1/2+x,1/2-y,z
-x,y,-z
1/2-x,1/2+y,-z
-x,-y,-z
1/2-x,1/2-y,-z
loop_
_atom_site_label
_atom_site_fract_x
_atom_site_fract_y
_atom_site_fract_z
_atom_site_occupancy
_atom_site_U_iso_or_equiv
O1 0.11800 0.08960 0.22100 1.00000 0.01013
O2 0.10600 0.17030 0.73000 1.00000 0.01013
F3 0.10100 0.00000 0.70900 1.00000 0.01013
O4 0.35900 0.24870 0.79000 1.00000 0.01013
O5 0.35000 0.13770 0.11600 1.00000 0.01393
O6 0.34600 0.10930 0.61500 1.00000 0.01393
O7 0.34400 0.00000 0.27800 1.00000 0.01520
SiT1 0.28440 0.08420 0.30700 0.75000 0.00507
AlT1 0.28440 0.08420 0.30700 0.25000 0.00507
SiT2 0.28930 0.17070 0.80900 0.75000 0.00507
AlT2 0.28930 0.17070 0.80900 0.25000 0.00507
MgM1 0.00000 0.08750 0.50000 1.00000 0.00760
MgM2 0.00000 0.17490 0.00000 0.90000 0.00760
GaM2 0.00000 0.17490 0.00000 0.10000 0.00760
MgM3 0.00000 0.00000 0.00000 0.96200 0.00760
GaM3 0.00000 0.00000 0.00000 0.03800 0.00760
CaM4 0.00000 0.27860 0.50000 1.00000 0.01140
NaA 0.01700 0.50000 0.06800 0.50000 0.02913
loop_
_cod_related_entry_id
_cod_related_entry_database
_cod_related_entry_code
1 AMCSD 0001084
