#------------------------------------------------------------------------------
#$Date: 2024-04-25 16:59:02 +0200 (jue 25 de abr de 2024) $
#$Revision: 291351 $
#$URL: svn://www.crystallography.net/cod/cif/9/00/33/9003343.cif $
#------------------------------------------------------------------------------
#
# This file is available in the Crystallography Open Database (COD),
# http://www.crystallography.net/. The original data for this entry
# were provided the American Mineralogist Crystal Structure Database,
# http://rruff.geo.arizona.edu/AMS/amcsd.php
#
# The file may be used within the scientific community so long as
# proper attribution is given to the journal article from which the
# data were obtained.
#
data_9003343
loop_
_publ_author_name
'Redhammer, G. J.'
'Tippelt, G.'
'Roth, G.'
'Amthauer, G.'
_publ_section_title
;
 Structural variations in the brownmillerite series Ca2(Fe2-xAlx)O5:
 Single-crystal X-ray diffraction at 25 deg C and high temperature
 X-ray powder diffraction (25 C <= T <= 1000 C)
 Sample: bf80i_2
;
_journal_name_full               'American Mineralogist'
_journal_page_first              405
_journal_page_last               420
_journal_volume                  89
_journal_year                    2004
_chemical_compound_source        Synthetic
_chemical_formula_sum            'Al0.46 Ca2 Fe1.54 O5'
_chemical_name_mineral           Brownmillerite
_space_group_IT_number           62
_symmetry_space_group_name_Hall  '-P 2ac 2n'
_symmetry_space_group_name_H-M   'P n m a'
_cell_angle_alpha                90
_cell_angle_beta                 90
_cell_angle_gamma                90
_cell_length_a                   5.3876
_cell_length_b                   14.6302
_cell_length_c                   5.5877
_cell_volume                     440.432
_cell_formula_units_Z            4
_database_code_amcsd             0003432
_exptl_crystal_density_diffrn    3.899
_cod_original_formula_sum        'Ca2 (Fe1.54 Al.46) O5'
_cod_database_code               9003343
loop_
_space_group_symop_operation_xyz
x,y,z
x,1/2-y,z
-x,1/2+y,-z
1/2-x,1/2+y,1/2+z
1/2+x,1/2-y,1/2-z
1/2+x,y,1/2-z
1/2-x,-y,1/2+z
-x,-y,-z
loop_
_atom_site_label
_atom_site_fract_x
_atom_site_fract_y
_atom_site_fract_z
_atom_site_occupancy
_atom_site_U_iso_or_equiv
Ca 0.48559 0.10864 0.02569 1.00000 0.00810
FeM 0.00000 0.00000 0.00000 0.88000 0.00480
AlM 0.00000 0.00000 0.00000 0.12000 0.00480
FeT 0.94900 0.25000 0.93080 0.66000 0.00490
AlT 0.94900 0.25000 0.93080 0.34000 0.00490
O1 0.25790 0.98520 0.24230 1.00000 0.00800
O2 0.02060 0.14270 0.07070 1.00000 0.01010
O3 0.60560 0.25000 0.86830 1.00000 0.00940
loop_
_cod_related_entry_id
_cod_related_entry_database
_cod_related_entry_code
1 AMCSD 0003432
