#------------------------------------------------------------------------------
#$Date: 2024-04-25 16:59:02 +0200 (jue 25 de abr de 2024) $
#$Revision: 291351 $
#$URL: svn://www.crystallography.net/cod/cif/9/00/54/9005437.cif $
#------------------------------------------------------------------------------
#
# This file is available in the Crystallography Open Database (COD),
# http://www.crystallography.net/. The original data for this entry
# were provided the American Mineralogist Crystal Structure Database,
# http://rruff.geo.arizona.edu/AMS/amcsd.php
#
# The file may be used within the scientific community so long as
# proper attribution is given to the journal article from which the
# data were obtained.
#
data_9005437
loop_
_publ_author_name
'Redhammer, G. J.'
'Amthauer, G.'
'Lottermoser, W.'
'Treutmann, W.'
_publ_section_title
;
 Synthesis and structural properties of clinopyroxenes of the
 hedenbergite CaFeSi2O6 - aegirine NaFeSi2O6 solid-solution series
 Sample: ae90/13
;
_journal_name_full               'European Journal of Mineralogy'
_journal_page_first              105
_journal_page_last               120
_journal_volume                  12
_journal_year                    2000
_chemical_formula_sum            'Ca0.1 Fe Na0.9 O6 Si2'
_chemical_name_mineral           Aegirine
_space_group_IT_number           15
_symmetry_space_group_name_Hall  '-C 2yc'
_symmetry_space_group_name_H-M   'C 1 2/c 1'
_cell_angle_alpha                90
_cell_angle_beta                 107.166
_cell_angle_gamma                90
_cell_length_a                   9.6714
_cell_length_b                   8.8152
_cell_length_c                   5.2926
_cell_formula_units_Z            4
_cell_volume                     431.122
_database_code_amcsd             0006823
_exptl_crystal_density_diffrn    3.585
_cod_original_formula_sum        '(Na.9 Ca.1) Fe Si2 O6'
_cod_database_code               9005437
loop_
_space_group_symop_operation_xyz
x,y,z
1/2+x,1/2+y,z
x,-y,1/2+z
1/2+x,1/2-y,1/2+z
-x,y,1/2-z
1/2-x,1/2+y,1/2-z
-x,-y,-z
1/2-x,1/2-y,-z
loop_
_atom_site_label
_atom_site_fract_x
_atom_site_fract_y
_atom_site_fract_z
_atom_site_occupancy
_atom_site_U_iso_or_equiv
NaM2 0.00000 0.29940 0.25000 0.90000 0.00836
CaM2 0.00000 0.29940 0.25000 0.10000 0.00836
FeM1 0.00000 0.89920 0.25000 1.00000 0.00557
SiT 0.28980 0.08930 0.23380 1.00000 0.00494
O1 0.11640 0.07880 0.13780 1.00000 0.00735
O2 0.36030 0.25500 0.30780 1.00000 0.00975
O3 0.34980 0.01220 0.01170 1.00000 0.00823
loop_
_cod_related_entry_id
_cod_related_entry_database
_cod_related_entry_code
1 AMCSD 0006823
