#------------------------------------------------------------------------------
#$Date: 2024-05-02 12:48:35 +0200 (Thu 02 de May de 2024) $
#$Revision: 291455 $
#$URL: svn://www.crystallography.net/cod/cif/9/00/64/9006428.cif $
#------------------------------------------------------------------------------
#
# This file is available in the Crystallography Open Database (COD),
# http://www.crystallography.net/. The original data for this entry
# were provided the American Mineralogist Crystal Structure Database,
# http://rruff.geo.arizona.edu/AMS/amcsd.php
#
# The file may be used within the scientific community so long as
# proper attribution is given to the journal article from which the
# data were obtained.
#
data_9006428
loop_
_publ_author_name
'Hugh-Jones D A'
'Chopelas, A.'
'Angel, R. J.'
_publ_section_title
;
 Tetrahedral compression in (Mg,Fe)SiO3 orthopyroxenes
 Sample: P = 1.54 GPa, synthetic En60 orthopyroxene
;
_journal_name_full               'Physics and Chemistry of Minerals'
_journal_page_first              301
_journal_page_last               310
_journal_paper_doi               10.1007/s002690050042
_journal_volume                  24
_journal_year                    1997
_chemical_formula_sum            'Fe0.41 Mg0.59 O3 Si'
_chemical_name_mineral           Enstatite
_space_group_IT_number           61
_symmetry_space_group_name_Hall  '-P 2ac 2ab'
_symmetry_space_group_name_H-M   'P b c a'
_cell_angle_alpha                90
_cell_angle_beta                 90
_cell_angle_gamma                90
_cell_length_a                   18.2351
_cell_length_b                   8.8492
_cell_length_c                   5.1839
_cell_formula_units_Z            16
_cell_volume                     836.505
_database_code_amcsd             0008010
_diffrn_ambient_pressure         1.54e+06
_exptl_crystal_density_diffrn    3.599
_cod_original_formula_sum        '(Mg.59 Fe.41) Si O3'
_cod_database_code               9006428
loop_
_space_group_symop_operation_xyz
x,y,z
x,1/2-y,1/2+z
-x,1/2+y,1/2-z
1/2-x,1/2+y,z
1/2+x,1/2-y,-z
1/2+x,y,1/2-z
1/2-x,-y,1/2+z
-x,-y,-z
loop_
_atom_site_label
_atom_site_fract_x
_atom_site_fract_y
_atom_site_fract_z
_atom_site_occupancy
_atom_site_U_iso_or_equiv
MgM1 0.37630 0.65470 0.86820 0.59000 0.00773
FeM1 0.37630 0.65470 0.86820 0.41000 0.00773
MgM2 0.37800 0.48400 0.36060 0.59000 0.00773
FeM2 0.37800 0.48400 0.36060 0.41000 0.00773
SiTA 0.27060 0.34190 0.04890 1.00000 0.00735
SiTB 0.47360 0.33620 0.79690 1.00000 0.00798
O1a 0.18100 0.34100 0.03400 1.00000 0.00988
O2a 0.31100 0.50000 0.04700 1.00000 0.00633
O3a 0.30300 0.22960 0.82500 1.00000 0.00570
O1b 0.56200 0.33700 0.80500 1.00000 0.01254
O2b 0.43400 0.48700 0.69400 1.00000 0.00747
O3b 0.44800 0.19680 0.60000 1.00000 0.00811
loop_
_cod_related_entry_id
_cod_related_entry_database
_cod_related_entry_code
1 AMCSD 0008010
