#------------------------------------------------------------------------------
#$Date: 2024-05-06 09:39:41 +0200 (Mon 06 de May de 2024) $
#$Revision: 291735 $
#$URL: svn://www.crystallography.net/cod/cif/9/00/98/9009837.cif $
#------------------------------------------------------------------------------
#
# This file is available in the Crystallography Open Database (COD),
# http://www.crystallography.net/. The original data for this entry
# were provided the American Mineralogist Crystal Structure Database,
# http://rruff.geo.arizona.edu/AMS/amcsd.php
#
# The file may be used within the scientific community so long as
# proper attribution is given to the journal article from which the
# data were obtained.
#
data_9009837
loop_
_publ_author_name
'Miletich, R.'
_publ_section_title
;
 Copper-substituted manganese-denningites,
 Mn(Mn1-xCux)(Te2O5)2(0<=x<=1): synthesis and crystal chemistry
 Sample: x = 0.48
;
_journal_name_full               'Mineralogy and Petrology'
_journal_page_first              129
_journal_page_last               145
_journal_paper_doi               10.1007/BF01163092
_journal_volume                  48
_journal_year                    1993
_chemical_compound_source        Synthetic
_chemical_formula_sum            'Cu0.48 Mn1.52 O10 Te4'
_chemical_name_mineral           Denningite
_space_group_IT_number           133
_symmetry_space_group_name_Hall  '-P 4ac 2b'
_symmetry_space_group_name_H-M   'P 42/n b c :2'
_cell_angle_alpha                90
_cell_angle_beta                 90
_cell_angle_gamma                90
_cell_length_a                   8.741
_cell_length_b                   8.741
_cell_length_c                   12.8684
_cell_formula_units_Z            4
_cell_volume                     983.211
_database_code_amcsd             0014628
_exptl_crystal_density_diffrn    5.299
_cod_original_sg_symbol_H-M      'P 42/n b c'
_cod_original_formula_sum        'Mn1.52 Cu.48 Te4 O10'
_cod_database_code               9009837
loop_
_space_group_symop_operation_xyz
x,y,z
-y,-x,1/2+z
y,x,1/2-z
1/2+y,-x,1/2-z
1/2-y,x,1/2+z
1/2+x,-y,z
1/2-x,y,-z
1/2+x,1/2+y,-z
1/2-x,1/2-y,z
1/2+y,1/2+x,1/2+z
1/2-y,1/2-x,1/2-z
-y,1/2+x,1/2-z
y,1/2-x,1/2+z
-x,1/2+y,z
x,1/2-y,-z
-x,-y,-z
loop_
_atom_site_aniso_label
_atom_site_aniso_U_11
_atom_site_aniso_U_22
_atom_site_aniso_U_33
_atom_site_aniso_U_12
_atom_site_aniso_U_13
_atom_site_aniso_U_23
Mn 0.01410 0.01440 0.01230 0.00000 0.00000 0.00000
MnMe 0.02050 0.02050 0.00920 -0.00810 0.00000 0.00000
CuMe 0.02050 0.02050 0.00920 -0.00810 0.00000 0.00000
Te 0.01380 0.01320 0.01140 0.00050 0.00020 0.00100
O1 0.01560 0.01840 0.01460 -0.00150 0.00040 0.00270
O2 0.02670 0.01240 0.01280 0.00040 0.00180 0.00170
O3 0.02790 0.02790 0.01470 -0.00720 -0.00600 0.00600
loop_
_atom_site_label
_atom_site_fract_x
_atom_site_fract_y
_atom_site_fract_z
_atom_site_occupancy
Mn 0.25000 0.25000 0.00000 1.00000
MnMe 0.25000 0.25000 0.25000 0.52000
CuMe 0.25000 0.25000 0.25000 0.48000
Te 0.03834 0.56571 0.38227 1.00000
O1 0.16990 0.10680 0.36400 1.00000
O2 0.02180 0.37590 0.45120 1.00000
O3 0.55220 0.55220 0.25000 1.00000
loop_
_cod_related_entry_id
_cod_related_entry_database
_cod_related_entry_code
1 AMCSD 0014628
