#------------------------------------------------------------------------------
#$Date: 2024-05-09 10:47:05 +0200 (Thu 09 de May de 2024) $
#$Revision: 291792 $
#$URL: svn://www.crystallography.net/cod/cif/9/01/02/9010272.cif $
#------------------------------------------------------------------------------
#
# This file is available in the Crystallography Open Database (COD),
# http://www.crystallography.net/. The original data for this entry
# were provided the American Mineralogist Crystal Structure Database,
# http://rruff.geo.arizona.edu/AMS/amcsd.php
#
# The file may be used within the scientific community so long as
# proper attribution is given to the journal article from which the
# data were obtained.
#
data_9010272
loop_
_publ_author_name
'Dorsam, G.'
'Liebscher, A.'
'Franz, G.'
'Gottschalk, M.'
_publ_section_title
;
 Crystal chemistry of synthetic Ca2Al3Si3O12OH - Sr2Al3Si3O12OH
 solid solution series of zoisite and clinozoisite
 Sample: Run no. = Au23, X(Sr) = .66
;
_journal_name_full               'American Mineralogist'
_journal_page_first              1133
_journal_page_last               1147
_journal_paper_doi               10.2138/am.2007.2353
_journal_volume                  92
_journal_year                    2007
_chemical_compound_source        Synthetic
_chemical_formula_sum            'Al3 Ca0.67 H O13 Si3 Sr1.33'
_chemical_name_mineral           Zoisite
_space_group_IT_number           62
_symmetry_space_group_name_Hall  '-P 2ac 2n'
_symmetry_space_group_name_H-M   'P n m a'
_cell_angle_alpha                90
_cell_angle_beta                 90
_cell_angle_gamma                90
_cell_length_a                   16.3095
_cell_length_b                   5.5814
_cell_length_c                   10.1907
_cell_formula_units_Z            4
_cell_volume                     927.658
_database_code_amcsd             0004393
_exptl_crystal_density_diffrn    3.706
_cod_original_formula_sum        '(Sr1.33 Ca.67) Al3 Si3 O13 H'
_cod_database_code               9010272
loop_
_space_group_symop_operation_xyz
x,y,z
x,1/2-y,z
-x,1/2+y,-z
1/2-x,1/2+y,1/2+z
1/2+x,1/2-y,1/2-z
1/2+x,y,1/2-z
1/2-x,-y,1/2+z
-x,-y,-z
loop_
_atom_site_label
_atom_site_fract_x
_atom_site_fract_y
_atom_site_fract_z
_atom_site_occupancy
SrA1 0.36770 0.25000 0.43860 0.41000
CaA1 0.36770 0.25000 0.43860 0.59000
SrA2 0.45680 0.25000 0.10990 0.92000
CaA2 0.45680 0.25000 0.10990 0.08000
Al1 0.25150 0.99620 0.18730 1.00000
Al2 0.10820 0.75000 0.29730 1.00000
Si1 0.08410 0.25000 0.09910 1.00000
Si2 0.41080 0.75000 0.28040 1.00000
Si3 0.16210 0.25000 0.42780 1.00000
O1 0.13260 0.00300 0.14910 1.00000
O2 0.10770 0.02400 0.41760 1.00000
O3 0.36080 0.98200 0.24410 1.00000
O4 0.21950 0.75000 0.29500 1.00000
O5 0.22940 0.25000 0.31100 1.00000
O6 0.27230 0.75000 0.06300 1.00000
O7 0.99330 0.25000 0.15800 1.00000
O8 0.00500 0.75000 0.29000 1.00000
O9 0.41490 0.75000 0.45100 1.00000
O10 0.26990 0.25000 0.08190 1.00000
H 0.26000 0.25000 0.95000 1.00000
loop_
_cod_related_entry_id
_cod_related_entry_database
_cod_related_entry_code
1 AMCSD 0004393
