#------------------------------------------------------------------------------
#$Date: 2024-05-09 10:47:05 +0200 (Thu 09 de May de 2024) $
#$Revision: 291792 $
#$URL: svn://www.crystallography.net/cod/cif/9/01/05/9010587.cif $
#------------------------------------------------------------------------------
#
# This file is available in the Crystallography Open Database (COD),
# http://www.crystallography.net/. The original data for this entry
# were provided the American Mineralogist Crystal Structure Database,
# http://rruff.geo.arizona.edu/AMS/amcsd.php
#
# The file may be used within the scientific community so long as
# proper attribution is given to the journal article from which the
# data were obtained.
#
data_9010587
loop_
_publ_author_name
'Liferovich, R. P.'
'Mitchell, R. H.'
_publ_section_title
;
 The pyrophanite-geikielite solid-solution series: crystal structures of the
 Mn1-xMgxTiO3 series (0 < x < 0.7)
 Sample: XMg = 1.0
 Note: No bond lengths could be reproduced with the reported dataset
;
_journal_name_full               'The Canadian Mineralogist'
_journal_page_first              1099
_journal_page_last               1107
_journal_paper_doi               10.2113/gscanmin.44.5.1099
_journal_volume                  44
_journal_year                    2006
_chemical_compound_source        Synthetic
_chemical_formula_sum            'Mg O3 Ti'
_chemical_name_mineral           Geikielite
_space_group_IT_number           148
_symmetry_space_group_name_Hall  '-R 3'
_symmetry_space_group_name_H-M   'R -3 :H'
_cell_angle_alpha                90
_cell_angle_beta                 90
_cell_angle_gamma                120
_cell_length_a                   5.0567
_cell_length_b                   5.0567
_cell_length_c                   13.9034
_cell_formula_units_Z            6
_cell_volume                     307.883
_database_code_amcsd             0006108
_exptl_crystal_density_diffrn    3.889
_cod_original_sg_symbol_H-M      'R -3'
_cod_original_formula_sum        'Mg Ti O3'
_cod_database_code               9010587
loop_
_space_group_symop_operation_xyz
x,y,z
2/3+x,1/3+y,1/3+z
1/3+x,2/3+y,2/3+z
y,-x+y,-z
2/3+y,1/3-x+y,1/3-z
1/3+y,2/3-x+y,2/3-z
-x+y,-x,z
2/3-x+y,1/3-x,1/3+z
1/3-x+y,2/3-x,2/3+z
-x,-y,-z
2/3-x,1/3-y,1/3-z
1/3-x,2/3-y,2/3-z
-y,x-y,z
2/3-y,1/3+x-y,1/3+z
1/3-y,2/3+x-y,2/3+z
x-y,x,-z
2/3+x-y,1/3+x,1/3-z
1/3+x-y,2/3+x,2/3-z
loop_
_atom_site_label
_atom_site_fract_x
_atom_site_fract_y
_atom_site_fract_z
_atom_site_U_iso_or_equiv
Mg 0.00000 0.00000 0.35986 0.00595
Ti 0.00000 0.00000 0.14590 0.00355
O1 0.31915 0.02141 0.24575 0.00899
loop_
_cod_related_entry_id
_cod_related_entry_database
_cod_related_entry_code
1 AMCSD 0006108
