#------------------------------------------------------------------------------
#$Date: 2023-05-23 10:35:25 +0200 (Tue 23 de May de 2023) $
#$Revision: 283960 $
#$URL: svn://www.crystallography.net/cod/cif/9/01/70/9017042.cif $
#------------------------------------------------------------------------------
#
# This file is available in the Crystallography Open Database (COD),
# http://www.crystallography.net/. The original data for this entry
# were provided the American Mineralogist Crystal Structure Database,
# http://rruff.geo.arizona.edu/AMS/amcsd.php
#
# The file may be used within the scientific community so long as
# proper attribution is given to the journal article from which the
# data were obtained.
#
data_9017042
loop_
_publ_author_name
'Hughes, J. M.'
'Nekvasil, H.'
'Ustunisik, G.'
'Lindsley, D. H.'
'Coraor, A. E.'
'Vaughn, J.'
'Phillips, B. L.'
'McCubbin, F. M.'
'Woerner, W. R.'
_publ_section_title
;
 Solid solution in the fluorapatite-chlorapatite binary system: High-precision crystal
 structure refinements of synthetic F-Cl apatite.
 Note: Sample HNF5CL5-9
;
_journal_name_full               'American Mineralogist'
_journal_page_first              369
_journal_page_last               376
_journal_volume                  99
_journal_year                    2014
_chemical_compound_source        Synthetic
_chemical_formula_sum            'Ca5 Cl0.336 F0.764 O12 P3'
_chemical_name_mineral           Fluorapatite
_space_group_IT_number           176
_space_group_name_Hall           '-P 6c'
_space_group_name_H-M_alt        'P 63/m'
_symmetry_space_group_name_H-M   'P 63/m'
_cell_angle_alpha                90
_cell_angle_beta                 90
_cell_angle_gamma                120
_cell_formula_units_Z            2
_cell_length_a                   9.5100
_cell_length_b                   9.5100
_cell_length_c                   6.8289
_cell_volume                     534.863
_database_code_amcsd             0020115
_exptl_crystal_density_diffrn    3.177
_cod_data_source_file            inputs/fixed/downloads/05/05673.cif
_cod_data_source_block           05673
_cod_original_formula_sum        'Ca5 P3 O12 Cl.336 F.764'
_cod_database_code               9017042
loop_
_space_group_symop_operation_xyz
x,y,z
-x+y,-x,1/2-z
x-y,x,1/2+z
y,-x+y,-z
-y,x-y,z
x,y,1/2-z
-x,-y,1/2+z
x-y,x,-z
-x+y,-x,z
-y,x-y,1/2-z
y,-x+y,1/2+z
-x,-y,-z
loop_
_atom_site_aniso_label
_atom_site_aniso_U_11
_atom_site_aniso_U_22
_atom_site_aniso_U_33
_atom_site_aniso_U_12
_atom_site_aniso_U_13
_atom_site_aniso_U_23
Ca1 0.01447 0.01447 0.00747 0.00724 0.00000 0.00000
Ca3 0.01232 0.02260 0.01007 0.00562 0.00000 0.00000
P 0.00711 0.01009 0.00806 0.00420 0.00000 0.00000
O1 0.00780 0.02030 0.01380 0.00680 0.00000 0.00000
O2 0.01390 0.01050 0.02640 0.00370 0.00000 0.00000
O3 0.01080 0.02620 0.01130 0.00910 -0.00160 0.00560
O3' 0.01080 0.02620 0.01130 0.00910 -0.00160 0.00560
loop_
_atom_site_label
_atom_site_fract_x
_atom_site_fract_y
_atom_site_fract_z
_atom_site_occupancy
_atom_site_U_iso_or_equiv
_atom_site_type_symbol
_atom_site_attached_hydrogens
Ca1 0.66667 0.33333 -0.00218 1.00000 0.01214 Ca 0
Ca3 0.00350 0.25496 0.25000 1.00000 0.01638 Ca 0
P 0.96902 0.59804 0.25000 1.00000 0.00846 P 0
O1 0.15326 0.66587 0.25000 1.00000 0.01408 O 0
O2 0.87618 0.41098 0.25000 1.00000 0.01800 O 0
O3 0.90800 0.64400 0.06300 0.70000 0.01620 O 0
O3* 0.93020 0.67520 0.08490 0.30000 0.01620 O 0
Cl 0.00000 0.00000 0.00000 0.07800 0.02000 Cl 0
ClB 0.00000 0.00000 0.08560 0.12900 0.01210 Cl 0
F 0.00000 0.00000 0.25000 0.40200 0.01340 F 0
FB 0.00000 0.00000 0.16680 0.18100 0.00490 F 0
loop_
_cod_changelog_entry_id
_cod_changelog_entry_author
_cod_changelog_entry_date
_cod_changelog_entry_text
1
;cod-tools version 3.8.0
Id: cif_guess_AMCSD_atom_types 9581 2023-05-17 12:35:41Z saulius
;
2023-05-23T09:25:26+03:00
;Derived atom types and hydrogen counts
from atom names that follow the AMCSD naming convention
(Wat == water, O-H == hydroxyl).
;
loop_
_cod_related_entry_id
_cod_related_entry_database
_cod_related_entry_code
1 AMCSD 0020115
