#------------------------------------------------------------------------------
#$Date: 2024-05-29 16:00:33 +0200 (Wed 29 de May de 2024) $
#$Revision: 292100 $
#$URL: svn://www.crystallography.net/cod/cif/9/01/71/9017178.cif $
#------------------------------------------------------------------------------
#
# This file is available in the Crystallography Open Database (COD),
# http://www.crystallography.net/. The original data for this entry
# were provided the American Mineralogist Crystal Structure Database,
# http://rruff.geo.arizona.edu/AMS/amcsd.php
#
# The file may be used within the scientific community so long as
# proper attribution is given to the journal article from which the
# data were obtained.
#
data_9017178
loop_
_publ_author_name
'Tait, K. T.'
'Hawthorne, F. C.'
'Wise, M. A.'
_publ_section_title
;
 The crystal chemistry of the graftonite-beusite minerals
 Notes: Sample B6
;
_journal_name_full               'The Canadian Mineralogist'
_journal_page_first              653
_journal_page_last               662
_journal_volume                  51
_journal_year                    2013
_chemical_compound_source        'Mwami district, Hurungwe, Zimbabwe'
_chemical_formula_sum            'Ca0.57 Fe1.59 Mg0.02 Mn0.81 O8 P2 Zn0.01'
_chemical_name_mineral           Graftonite
_space_group_IT_number           14
_space_group_name_Hall           '-P 2ybc'
_space_group_name_H-M_alt        'P 1 21/c 1'
_symmetry_space_group_name_H-M   'P 1 21/c 1'
_cell_angle_alpha                90
_cell_angle_beta                 99.30
_cell_angle_gamma                90
_cell_length_a                   8.788
_cell_length_b                   11.583
_cell_length_c                   6.141
_cell_volume                     616.885
_cell_formula_units_Z            4
_database_code_amcsd             0020204
_exptl_crystal_density_diffrn    3.739
_cod_data_source_file            inputs/fixed/downloads/07/07390.cif
_cod_data_source_block           07390
_cod_original_cell_volume        616.884
_cod_original_formula_sum        'Ca.57 Mn.81 Fe1.59 Mg.02 Zn.01 P2 O8'
_cod_database_code               9017178
loop_
_space_group_symop_operation_xyz
x,y,z
x,1/2-y,1/2+z
-x,1/2+y,1/2-z
-x,-y,-z
loop_
_atom_site_label
_atom_site_fract_x
_atom_site_fract_y
_atom_site_fract_z
_atom_site_occupancy
_atom_site_U_iso_or_equiv
Ca(1) 0.94760 0.12126 0.83410 0.57000 0.01660
Mn(1) 0.94760 0.12126 0.83410 0.43000 0.01660
Fe(2) 0.71440 0.07933 0.32700 0.97000 0.01800
Mg(2) 0.71440 0.07933 0.32700 0.02000 0.01800
Zn(2) 0.71440 0.07933 0.32700 0.01000 0.01800
Fe(3) 0.36189 0.19124 0.13000 0.62000 0.01160
Mn(3) 0.36189 0.19124 0.13000 0.38000 0.01160
P(1) 0.09430 0.13430 0.39680 1.00000 0.01050
P(2) 0.60200 0.08900 0.80700 1.00000 0.00940
O(1) 0.07950 0.06980 0.17710 1.00000 0.01670
O(2) 0.47370 0.17490 0.82960 1.00000 0.01400
O(3) 0.94150 0.19220 0.42450 1.00000 0.02150
O(4) 0.68940 0.12740 0.62230 1.00000 0.01340
O(5) 0.21590 0.23000 0.38320 1.00000 0.01860
O(6) 0.72580 0.09010 0.01490 1.00000 0.01360
O(7) 0.14120 0.05950 0.59880 1.00000 0.01890
O(8) 0.53490 -0.03440 0.76290 1.00000 0.01220
loop_
_cod_related_entry_id
_cod_related_entry_database
_cod_related_entry_code
1 AMCSD 0020204
