#------------------------------------------------------------------------------
#$Date: 2024-05-29 16:00:33 +0200 (Wed 29 de May de 2024) $
#$Revision: 292100 $
#$URL: svn://www.crystallography.net/cod/cif/9/01/73/9017379.cif $
#------------------------------------------------------------------------------
#
# This file is available in the Crystallography Open Database (COD),
# http://www.crystallography.net/. The original data for this entry
# were provided the American Mineralogist Crystal Structure Database,
# http://rruff.geo.arizona.edu/AMS/amcsd.php
#
# The file may be used within the scientific community so long as
# proper attribution is given to the journal article from which the
# data were obtained.
#
data_9017379
loop_
_publ_author_name
'Christensen, A. N.'
'Lehmann, M. S.'
'Convert, P.'
_publ_section_title
;
 Deuteration of crystalline hydroxides.
 Hydrogen bonds of gamma-AlOO(H,D) and gamma-FeOO(H,D)
;
_journal_name_full               'Acta Chemica Scandinavica A'
_journal_page_first              303
_journal_page_last               308
_journal_volume                  36
_journal_year                    1982
_chemical_compound_source        Synthetic
_chemical_formula_sum            'Al H2 O2'
_chemical_name_mineral           Bohmite
_space_group_IT_number           63
_space_group_name_Hall           '-C 2c 2'
_space_group_name_H-M_alt        'C m c m'
_symmetry_space_group_name_H-M   'C m c m'
_cell_angle_alpha                90
_cell_angle_beta                 90
_cell_angle_gamma                90
_cell_length_a                   2.876
_cell_length_b                   12.24
_cell_length_c                   3.709
_cell_formula_units_Z            4
_cell_volume                     130.565
_database_code_amcsd             0020685
_exptl_crystal_density_diffrn    3.103
_cod_data_source_file            inputs/fixed/downloads/14/14132.cif
_cod_data_source_block           14132
_cod_original_formula_sum        'Al O2 H2'
_cod_database_code               9017379
loop_
_space_group_symop_operation_xyz
x,y,z
1/2+x,1/2+y,z
x,-y,1/2+z
1/2+x,1/2-y,1/2+z
-x,y,1/2-z
1/2-x,1/2+y,1/2-z
-x,y,z
1/2-x,1/2+y,z
x,-y,-z
1/2+x,1/2-y,-z
x,y,1/2-z
1/2+x,1/2+y,1/2-z
-x,-y,1/2+z
1/2-x,1/2-y,1/2+z
-x,-y,-z
1/2-x,1/2-y,-z
loop_
_atom_site_label
_atom_site_fract_x
_atom_site_fract_y
_atom_site_fract_z
_atom_site_U_iso_or_equiv
Al 0.00000 -0.31720 0.25000 0.00177
O1 0.00000 0.29020 0.25000 0.00177
O2 0.00000 0.08200 0.25000 0.00177
H 0.50000 0.51860 0.39240 0.00177
loop_
_cod_related_entry_id
_cod_related_entry_database
_cod_related_entry_code
1 AMCSD 0020685
