#------------------------------------------------------------------------------
#$Date: 2016-03-23 19:22:40 +0100 (Wed 23 de Mar de 2016) $
#$Revision: 179409 $
#$URL: svn://www.crystallography.net/cod/cif/4/33/06/4330618.cif $
#------------------------------------------------------------------------------
#
# This file is available in the Crystallography Open Database (COD),
# http://www.crystallography.net/
#
# All data on this site have been placed in the public domain by the
# contributors.
#
data_4330618
loop_
_publ_author_name
'Ilya M. Sluch'
'Anthea J. Miranda'
'Oussama Elbjeirami'
'Mohammad A. Omary'
'LeGrande M. Slaughter'
_publ_section_title
;
 Interplay of Metallophilic Interactions, π-π Stacking, and Ligand
 Substituent Effects in the Structures and Luminescence Properties of
 Neutral PtII and PdII Aryl Isocyanide Complexes
;
_journal_name_full               'Inorganic Chemistry'
_journal_page_first              10728
_journal_page_last               10746
_journal_paper_doi               10.1021/ic301104a
_journal_volume                  51
_journal_year                    2012
_chemical_formula_moiety         'C16 H14 Cl2 N2 Pt'
_chemical_formula_sum            'C16 H14 Cl2 N2 Pt'
_chemical_formula_weight         500.28
_chemical_name_common            'Bis(p-tolylisocyanide) platinum dichloride'
_chemical_name_systematic
cis-Dichlorobis(4-methylphenylisocyanide)platinum(II)
_space_group_IT_number           128
_symmetry_cell_setting           tetragonal
_symmetry_Int_Tables_number      128
_symmetry_space_group_name_Hall  '-P 4 2n'
_symmetry_space_group_name_H-M   'P 4/m n c'
_atom_sites_solution_hydrogens   geom
_atom_sites_solution_primary     direct
_atom_sites_solution_secondary   difmap
_audit_creation_method           SHELXL-97
_cell_angle_alpha                90.00
_cell_angle_beta                 90.00
_cell_angle_gamma                90.00
_cell_formula_units_Z            8
_cell_length_a                   24.5366(1)
_cell_length_b                   24.5366(1)
_cell_length_c                   6.5728(1)
_cell_measurement_reflns_used    9902
_cell_measurement_temperature    298(2)
_cell_measurement_theta_max      25.54
_cell_measurement_theta_min      2.35
_cell_volume                     3957.12(6)
_computing_cell_refinement       'Bruker SAINT'
_computing_data_collection       'Bruker APEX2'
_computing_data_reduction        'Bruker SAINT'
_computing_molecular_graphics    'Bruker SHELXTL (XP)'
_computing_publication_material  'Bruker SHELXTL (XCIF)'
_computing_structure_refinement  'Bruker SHELXTL (XL)'
_computing_structure_solution    'Bruker SHELXTL (XS)'
_diffrn_ambient_temperature      298(2)
_diffrn_detector_area_resol_mean 0.75
_diffrn_measured_fraction_theta_full 0.996
_diffrn_measured_fraction_theta_max 0.996
_diffrn_measurement_device_type  'Bruker SMART APEX II CCD'
_diffrn_measurement_method       'phi and omega scans'
_diffrn_radiation_monochromator  graphite
_diffrn_radiation_probe          x-ray
_diffrn_radiation_type           MoK\a
_diffrn_radiation_wavelength     0.71073
_diffrn_reflns_av_R_equivalents  0.0315
_diffrn_reflns_av_sigmaI/netI    0.0132
_diffrn_reflns_limit_h_max       29
_diffrn_reflns_limit_h_min       -29
_diffrn_reflns_limit_k_max       29
_diffrn_reflns_limit_k_min       -29
_diffrn_reflns_limit_l_max       7
_diffrn_reflns_limit_l_min       -7
_diffrn_reflns_number            31545
_diffrn_reflns_theta_full        25.69
_diffrn_reflns_theta_max         25.69
_diffrn_reflns_theta_min         1.66
_diffrn_source                   'fine-focus sealed tube'
_diffrn_standards_decay_%        N/A
_diffrn_standards_interval_count N/A
_diffrn_standards_interval_time  N/A
_diffrn_standards_number         0
_exptl_absorpt_coefficient_mu    7.356
_exptl_absorpt_correction_T_max  0.5266
_exptl_absorpt_correction_T_min  0.2325
_exptl_absorpt_correction_type   multi-scan
_exptl_absorpt_process_details   'Bruker SADABS'
_exptl_crystal_colour            yellow
_exptl_crystal_density_diffrn    1.679
_exptl_crystal_description       block
_exptl_crystal_F_000             1888
_exptl_crystal_recrystallization_method
'slow diff of cyclohexane into chlorobenzene soln'
_exptl_crystal_size_max          0.28
_exptl_crystal_size_mid          0.15
_exptl_crystal_size_min          0.10
_platon_squeeze_details
;
 Attempts to model difference peaks in void channels as discrete
 water molecules did not provide a physically meaningful arrangement
 of H2O.  Attempts to model as dichloromethane or other solvents also
 were unsuccessful.  The SQUEEZE calculation is consistent with 20 
 H2O molecules per unit cell. 

 Reported formula weight, D(calc), and F(000) are calculated from the
 SQUEEZE-corrected data and do not reflect the presence of solvent.
;
_refine_diff_density_max         0.386
_refine_diff_density_min         -0.253
_refine_diff_density_rms         0.054
_refine_ls_extinction_method     none
_refine_ls_goodness_of_fit_ref   1.051
_refine_ls_hydrogen_treatment    constr
_refine_ls_matrix_type           full
_refine_ls_number_parameters     117
_refine_ls_number_reflns         2043
_refine_ls_number_restraints     0
_refine_ls_restrained_S_all      1.051
_refine_ls_R_factor_all          0.0260
_refine_ls_R_factor_gt           0.0188
_refine_ls_shift/su_max          0.004
_refine_ls_shift/su_mean         0.000
_refine_ls_structure_factor_coef Fsqd
_refine_ls_weighting_details
'calc w=1/[σ²(Fo²)+(0.0267P)²+0.5430P] where P=(Fo²+2Fc²)/3'
_refine_ls_weighting_scheme      calc
_refine_ls_wR_factor_gt          0.0453
_refine_ls_wR_factor_ref         0.0470
_reflns_number_gt                1706
_reflns_number_total             2043
_reflns_threshold_expression     >2sigma(I)
_cod_data_source_file            ic301104a_si_002_08.cif
_cod_data_source_block           cmplx7
_cod_database_code               4330618
loop_
_symmetry_equiv_pos_as_xyz
'x, y, z'
'-x, -y, z'
'-y, x, z'
'y, -x, z'
'-x+1/2, y+1/2, -z+1/2'
'x+1/2, -y+1/2, -z+1/2'
'y+1/2, x+1/2, -z+1/2'
'-y+1/2, -x+1/2, -z+1/2'
'-x, -y, -z'
'x, y, -z'
'y, -x, -z'
'-y, x, -z'
'x-1/2, -y-1/2, z-1/2'
'-x-1/2, y-1/2, z-1/2'
'-y-1/2, -x-1/2, z-1/2'
'y-1/2, x-1/2, z-1/2'
loop_
_atom_site_label
_atom_site_type_symbol
_atom_site_fract_x
_atom_site_fract_y
_atom_site_fract_z
_atom_site_U_iso_or_equiv
_atom_site_adp_type
_atom_site_occupancy
_atom_site_symmetry_multiplicity
_atom_site_calc_flag
_atom_site_refinement_flags
Pt1 Pt 0.251264(7) 0.768325(7) 0.0000 0.05369(8) Uani 1 2 d S
Cl1 Cl 0.16126(5) 0.79762(6) 0.0000 0.0787(3) Uani 1 2 d S
Cl2 Cl 0.28238(5) 0.85737(5) 0.0000 0.0678(3) Uani 1 2 d S
C1 C 0.22549(17) 0.6945(2) 0.0000 0.0568(11) Uani 1 2 d S
N1 N 0.21127(16) 0.65078(17) 0.0000 0.0697(10) Uani 1 2 d S
C2 C 0.3252(2) 0.74322(16) 0.0000 0.0554(10) Uani 1 2 d S
N2 N 0.36820(16) 0.72666(14) 0.0000 0.0600(9) Uani 1 2 d S
C11 C 0.19359(19) 0.59612(19) 0.0000 0.0667(11) Uani 1 2 d S
C12 C 0.1859(2) 0.57014(16) 0.1758(6) 0.1213(16) Uani 1 1 d .
H12 H 0.1914 0.5880 0.2990 0.146 Uiso 1 1 calc R
C13 C 0.1697(2) 0.51644(18) 0.1719(7) 0.1276(18) Uani 1 1 d .
H13A H 0.1655 0.4982 0.2949 0.153 Uiso 1 1 calc R
C14 C 0.1599(2) 0.4892(2) 0.0000 0.0827(15) Uani 1 2 d S
C15 C 0.1421(2) 0.4301(2) 0.0000 0.115(2) Uani 1 2 d S
H15A H 0.1445 0.4158 0.1356 0.173 Uiso 0.50 1 calc PR
H15B H 0.1655 0.4095 -0.0885 0.173 Uiso 0.50 1 calc PR
H15C H 0.1052 0.4276 -0.0471 0.173 Uiso 0.50 1 calc PR
C21 C 0.42221(16) 0.70699(16) 0.0000 0.0561(10) Uani 1 2 d S
C22 C 0.44755(15) 0.69779(16) 0.1765(6) 0.0940(12) Uani 1 1 d .
H22 H 0.4299 0.7041 0.2995 0.113 Uiso 1 1 calc R
C23 C 0.50075(16) 0.67859(18) 0.1724(6) 0.1001(13) Uani 1 1 d .
H23 H 0.5181 0.6717 0.2955 0.120 Uiso 1 1 calc R
C24 C 0.52820(19) 0.66953(18) 0.0000 0.0697(12) Uani 1 2 d S
C25 C 0.58575(19) 0.6480(2) 0.0000 0.0996(18) Uani 1 2 d S
H25A H 0.6085 0.6716 -0.0797 0.149 Uiso 0.50 1 calc PR
H25B H 0.5862 0.6120 -0.0574 0.149 Uiso 0.50 1 calc PR
H25C H 0.5992 0.6467 0.1371 0.149 Uiso 0.50 1 calc PR
loop_
_atom_site_aniso_label
_atom_site_aniso_U_11
_atom_site_aniso_U_22
_atom_site_aniso_U_33
_atom_site_aniso_U_23
_atom_site_aniso_U_13
_atom_site_aniso_U_12
Pt1 0.05308(12) 0.05976(13) 0.04823(11) 0.000 0.000 0.00836(8)
Cl1 0.0563(7) 0.0912(9) 0.0884(8) 0.000 0.000 0.0157(6)
Cl2 0.0731(8) 0.0587(7) 0.0715(7) 0.000 0.000 0.0073(5)
C1 0.050(2) 0.076(3) 0.044(2) 0.000 0.000 0.006(2)
N1 0.073(3) 0.063(3) 0.073(3) 0.000 0.000 0.004(2)
C2 0.058(3) 0.055(3) 0.053(2) 0.000 0.000 0.005(2)
N2 0.058(3) 0.052(2) 0.070(2) 0.000 0.000 0.0059(18)
C11 0.070(3) 0.060(3) 0.070(3) 0.000 0.000 0.003(2)
C12 0.211(5) 0.078(3) 0.075(2) -0.006(2) 0.011(3) -0.033(3)
C13 0.203(5) 0.095(4) 0.085(3) 0.014(3) 0.014(4) -0.033(3)
C14 0.072(3) 0.066(3) 0.110(4) 0.000 0.000 0.003(3)
C15 0.101(5) 0.075(4) 0.171(6) 0.000 0.000 -0.002(3)
C21 0.047(2) 0.052(3) 0.069(3) 0.000 0.000 0.0057(18)
C22 0.082(3) 0.132(3) 0.068(2) -0.001(2) 0.000(2) 0.043(2)
C23 0.086(3) 0.138(3) 0.076(3) 0.001(3) -0.017(2) 0.040(2)
C24 0.058(3) 0.067(3) 0.084(3) 0.000 0.000 0.007(2)
C25 0.065(4) 0.110(5) 0.124(5) 0.000 0.000 0.018(3)
loop_
_atom_type_symbol
_atom_type_description
_atom_type_scat_dispersion_real
_atom_type_scat_dispersion_imag
_atom_type_scat_source
C C 0.0033 0.0016 'International Tables Vol C Tables 4.2.6.8 and 6.1.1.4'
H H 0.0000 0.0000 'International Tables Vol C Tables 4.2.6.8 and 6.1.1.4'
N N 0.0061 0.0033 'International Tables Vol C Tables 4.2.6.8 and 6.1.1.4'
Cl Cl 0.1484 0.1585 'International Tables Vol C Tables 4.2.6.8 and 6.1.1.4'
Pt Pt -1.7033 8.3905 'International Tables Vol C Tables 4.2.6.8 and 6.1.1.4'
loop_
_geom_angle_atom_site_label_1
_geom_angle_atom_site_label_2
_geom_angle_atom_site_label_3
_geom_angle
_geom_angle_site_symmetry_1
_geom_angle_site_symmetry_3
C2 Pt1 C1 90.49(17) . .
C2 Pt1 Cl2 89.48(12) . .
C1 Pt1 Cl2 179.97(13) . .
C2 Pt1 Cl1 179.28(12) . .
C1 Pt1 Cl1 88.80(13) . .
Cl2 Pt1 Cl1 91.23(4) . .
C2 Pt1 Pt1 80.851(11) . 7_455
C1 Pt1 Pt1 85.58(2) . 7_455
Cl2 Pt1 Pt1 94.415(5) . 7_455
Cl1 Pt1 Pt1 99.091(6) . 7_455
C2 Pt1 Pt1 80.851(11) . 7_454
C1 Pt1 Pt1 85.58(2) . 7_454
Cl2 Pt1 Pt1 94.415(5) . 7_454
Cl1 Pt1 Pt1 99.091(6) . 7_454
Pt1 Pt1 Pt1 159.576(12) 7_455 7_454
N1 C1 Pt1 178.8(4) . .
C1 N1 C11 179.9(5) . .
N2 C2 Pt1 177.7(4) . .
C2 N2 C21 178.9(4) . .
C12 C11 C12 120.2(5) . 10
C12 C11 N1 119.9(2) . .
C12 C11 N1 119.9(2) 10 .
C11 C12 C13 118.8(4) . .
C11 C12 H12 120.6 . .
C13 C12 H12 120.6 . .
C14 C13 C12 123.2(4) . .
C14 C13 H13A 118.4 . .
C12 C13 H13A 118.4 . .
C13 C14 C13 115.7(5) 10 .
C13 C14 C15 122.1(3) 10 .
C13 C14 C15 122.1(3) . .
C14 C15 H15A 109.5 . .
C14 C15 H15B 109.5 . .
H15A C15 H15B 109.5 . .
C14 C15 H15C 109.5 . .
H15A C15 H15C 109.5 . .
H15B C15 H15C 109.5 . .
C22 C21 C22 120.6(4) 10 .
C22 C21 N2 119.7(2) 10 .
C22 C21 N2 119.7(2) . .
C21 C22 C23 118.6(4) . .
C21 C22 H22 120.7 . .
C23 C22 H22 120.7 . .
C24 C23 C22 123.1(4) . .
C24 C23 H23 118.4 . .
C22 C23 H23 118.4 . .
C23 C24 C23 115.9(5) . 10
C23 C24 C25 122.0(2) . .
C23 C24 C25 122.0(2) 10 .
C24 C25 H25A 109.5 . .
C24 C25 H25B 109.5 . .
H25A C25 H25B 109.5 . .
C24 C25 H25C 109.5 . .
H25A C25 H25C 109.5 . .
H25B C25 H25C 109.5 . .
loop_
_geom_bond_atom_site_label_1
_geom_bond_atom_site_label_2
_geom_bond_distance
_geom_bond_site_symmetry_2
Pt1 C2 1.917(5) .
Pt1 C1 1.919(5) .
Pt1 Cl2 2.3145(11) .
Pt1 Cl1 2.3224(11) .
Pt1 Pt1 3.3393(1) 7_455
Pt1 Pt1 3.3393(1) 7_454
C1 N1 1.127(6) .
N1 C11 1.410(6) .
C2 N2 1.130(5) .
N2 C21 1.410(5) .
C11 C12 1.333(4) .
C11 C12 1.333(4) 10
C12 C13 1.377(5) .
C12 H12 0.9300 .
C13 C14 1.334(5) .
C13 H13A 0.9300 .
C14 C13 1.334(5) 10
C14 C15 1.514(7) .
C15 H15A 0.9600 .
C15 H15B 0.9600 .
C15 H15C 0.9600 .
C21 C22 1.335(4) 10
C21 C22 1.335(4) .
C22 C23 1.388(5) .
C22 H22 0.9300 .
C23 C24 1.337(5) .
C23 H23 0.9300 .
C24 C23 1.337(5) 10
C24 C25 1.507(6) .
C25 H25A 0.9600 .
C25 H25B 0.9600 .
C25 H25C 0.9600 .
loop_
_geom_torsion_atom_site_label_1
_geom_torsion_atom_site_label_2
_geom_torsion_atom_site_label_3
_geom_torsion_atom_site_label_4
_geom_torsion
_geom_torsion_site_symmetry_1
_geom_torsion_site_symmetry_4
C12 C11 C12 C13 -0.4(10) 10 .
N1 C11 C12 C13 -178.7(5) . .
C11 C12 C13 C14 -1.8(9) . .
C12 C13 C14 C13 3.7(10) . 10
C12 C13 C14 C15 180.0(5) . .
C22 C21 C22 C23 0.1(8) 10 .
N2 C21 C22 C23 -179.8(4) . .
C21 C22 C23 C24 0.9(7) . .
C22 C23 C24 C23 -1.9(9) . 10
C22 C23 C24 C25 -179.3(4) . .
loop_
_platon_squeeze_void_nr
_platon_squeeze_void_average_x
_platon_squeeze_void_average_y
_platon_squeeze_void_average_z
_platon_squeeze_void_volume
_platon_squeeze_void_count_electrons
1 0.000 0.000 -0.014 225.9 51.0
2 0.000 0.500 -0.049 175.5 47.5
3 0.500 1.000 -0.053 175.5 47.6
4 0.500 0.500 -0.086 225.9 51.8
