#------------------------------------------------------------------------------
#$Date: 2025-08-21 14:03:24 +0200 (Thu 21 de Aug de 2025) $
#$Revision: 301848 $
#$URL: svn://www.crystallography.net/cod/cif/7/02/33/7023355.cif $
#------------------------------------------------------------------------------
#
# This file is available in the Crystallography Open Database (COD),
# http://www.crystallography.net/
#
# All data on this site have been placed in the public domain by the
# contributors.
#
data_7023355
loop_
_publ_author_name
'Chiang, Ho-Wen'
'Su, Yo-Ting'
'Wu, Jing-Yun'
_publ_section_title
;
 Ligand dissociation/recoordination in fluorescent ionic
 zinc-salicylideneimine compounds: synthesis, characterization,
 photophysical properties, and (1)H NMR studies.
;
_journal_issue                   42
_journal_name_full
'Dalton transactions (Cambridge, England : 2003)'
_journal_page_first              15169
_journal_page_last               15182
_journal_paper_doi               10.1039/c3dt51226f
_journal_volume                  42
_journal_year                    2013
_chemical_formula_sum            'C14 H10 N2 O'
_chemical_formula_weight         222.24
_space_group_IT_number           15
_symmetry_cell_setting           monoclinic
_symmetry_space_group_name_Hall  '-C 2yc'
_symmetry_space_group_name_H-M   'C 1 2/c 1'
_atom_sites_solution_hydrogens   geom
_atom_sites_solution_primary     direct
_atom_sites_solution_secondary   difmap
_audit_creation_method           SHELXL-97
_cell_angle_alpha                90.00
_cell_angle_beta                 110.082(10)
_cell_angle_gamma                90.00
_cell_formula_units_Z            8
_cell_length_a                   28.075(6)
_cell_length_b                   5.7634(12)
_cell_length_c                   14.427(3)
_cell_measurement_reflns_used    2001
_cell_measurement_temperature    296(2)
_cell_measurement_theta_max      25.01
_cell_measurement_theta_min      3.09
_cell_volume                     2192.5(8)
_computing_cell_refinement       'Bruker SAINT'
_computing_data_collection       'Bruker SMART'
_computing_data_reduction        'Bruker SAINT'
_computing_structure_refinement  'SHELXL-97 (Sheldrick, 1997)'
_computing_structure_solution    'SHELXS-97 (Sheldrick, 1990)'
_diffrn_ambient_temperature      296(2)
_diffrn_measured_fraction_theta_full 0.992
_diffrn_measured_fraction_theta_max 0.992
_diffrn_measurement_device_type  'CCD area detector'
_diffrn_measurement_method       'phi and omega scans'
_diffrn_radiation_monochromator  graphite
_diffrn_radiation_source         'fine-focus sealed tube'
_diffrn_radiation_type           MoK\a
_diffrn_radiation_wavelength     0.71073
_diffrn_reflns_av_R_equivalents  0.0324
_diffrn_reflns_av_sigmaI/netI    0.0324
_diffrn_reflns_limit_h_max       33
_diffrn_reflns_limit_h_min       -25
_diffrn_reflns_limit_k_max       6
_diffrn_reflns_limit_k_min       -6
_diffrn_reflns_limit_l_max       17
_diffrn_reflns_limit_l_min       -16
_diffrn_reflns_number            7165
_diffrn_reflns_theta_full        25.01
_diffrn_reflns_theta_max         25.01
_diffrn_reflns_theta_min         2.87
_exptl_absorpt_coefficient_mu    0.087
_exptl_absorpt_correction_T_max  0.7452
_exptl_absorpt_correction_T_min  0.6772
_exptl_absorpt_correction_type   multi-scan
_exptl_absorpt_process_details   'Bruker SADABS, 1996'
_exptl_crystal_colour            yellow-orange
_exptl_crystal_density_diffrn    1.347
_exptl_crystal_density_method    'not measured'
_exptl_crystal_description       plate
_exptl_crystal_F_000             928
_exptl_crystal_size_max          0.18
_exptl_crystal_size_mid          0.16
_exptl_crystal_size_min          0.10
_refine_diff_density_max         0.190
_refine_diff_density_min         -0.215
_refine_diff_density_rms         0.042
_refine_ls_extinction_method     none
_refine_ls_goodness_of_fit_ref   1.039
_refine_ls_hydrogen_treatment    constr
_refine_ls_matrix_type           full
_refine_ls_number_parameters     154
_refine_ls_number_reflns         1911
_refine_ls_number_restraints     0
_refine_ls_restrained_S_all      1.039
_refine_ls_R_factor_all          0.0541
_refine_ls_R_factor_gt           0.0365
_refine_ls_shift/su_max          0.000
_refine_ls_shift/su_mean         0.000
_refine_ls_structure_factor_coef Fsqd
_refine_ls_weighting_details
'calc w=1/[σ²(Fo²)+(0.0449P)²+0.8844P] where P=(Fo²+2Fc²)/3'
_refine_ls_weighting_scheme      calc
_refine_ls_wR_factor_gt          0.0848
_refine_ls_wR_factor_ref         0.0934
_reflns_number_gt                1462
_reflns_number_total             1911
_reflns_threshold_expression     >2sigma(I)
_cod_data_source_file            c3dt51226f.txt
_cod_data_source_block           HsalH-4-CN
_cod_depositor_comments
;
The following automatic conversions were performed:

'_symmetry_cell_setting' value 'Monoclinic' changed to 'monoclinic'
according to /home/saulius/struct/CIF-dictionaries/cif_core.dic
dictionary named 'cif_core.dic' version 2.4.2 from 2011-04-26.

Automatic conversion script
Id: cif_fix_values 1891 2012-01-12 08:04:46Z andrius 
;
_cod_original_cell_volume        2192.4(8)
_cod_original_sg_symbol_H-M      C2/c
_cod_database_code               7023355
loop_
_symmetry_equiv_pos_as_xyz
'x, y, z'
'-x, y, -z+1/2'
'x+1/2, y+1/2, z'
'-x+1/2, y+1/2, -z+1/2'
'-x, -y, -z'
'x, -y, z-1/2'
'-x+1/2, -y+1/2, -z'
'x+1/2, -y+1/2, z-1/2'
loop_
_atom_site_label
_atom_site_type_symbol
_atom_site_fract_x
_atom_site_fract_y
_atom_site_fract_z
_atom_site_U_iso_or_equiv
_atom_site_adp_type
_atom_site_occupancy
_atom_site_symmetry_multiplicity
_atom_site_calc_flag
_atom_site_refinement_flags
C1 C 0.17498(5) 0.2637(3) 0.35298(9) 0.0163(3) Uani 1 1 d .
C2 C 0.16250(5) 0.0516(3) 0.38809(9) 0.0164(4) Uani 1 1 d .
C3 C 0.11256(5) 0.0068(3) 0.37964(10) 0.0189(4) Uani 1 1 d .
H3 H 0.1043 -0.1328 0.4027 0.023 Uiso 1 1 calc R
C4 C 0.07516(6) 0.1690(3) 0.33714(10) 0.0205(4) Uani 1 1 d .
H4 H 0.0418 0.1374 0.3317 0.025 Uiso 1 1 calc R
C5 C 0.08680(5) 0.3793(3) 0.30227(10) 0.0204(4) Uani 1 1 d .
H5 H 0.0614 0.4875 0.2735 0.025 Uiso 1 1 calc R
C6 C 0.13620(5) 0.4251(3) 0.31083(9) 0.0182(4) Uani 1 1 d .
H6 H 0.1441 0.5661 0.2882 0.022 Uiso 1 1 calc R
C7 C 0.22617(5) 0.3156(3) 0.35795(9) 0.0173(4) Uani 1 1 d .
H7 H 0.2334 0.4615 0.3388 0.021 Uiso 1 1 calc R
C8 C 0.31213(5) 0.2076(3) 0.39187(9) 0.0159(4) Uani 1 1 d .
C9 C 0.32828(5) 0.4056(3) 0.35512(10) 0.0185(4) Uani 1 1 d .
H9 H 0.3051 0.5221 0.3254 0.022 Uiso 1 1 calc R
C10 C 0.37832(5) 0.4291(3) 0.36265(10) 0.0186(4) Uani 1 1 d .
H10 H 0.3890 0.5619 0.3387 0.022 Uiso 1 1 calc R
C11 C 0.41299(5) 0.2538(3) 0.40616(10) 0.0175(4) Uani 1 1 d .
C12 C 0.39727(5) 0.0554(3) 0.44280(10) 0.0192(4) Uani 1 1 d .
H12 H 0.4204 -0.0614 0.4722 0.023 Uiso 1 1 calc R
C13 C 0.34706(5) 0.0336(3) 0.43510(10) 0.0180(4) Uani 1 1 d .
H13 H 0.3365 -0.0991 0.4591 0.022 Uiso 1 1 calc R
C14 C 0.46488(6) 0.2742(3) 0.41100(10) 0.0213(4) Uani 1 1 d .
N1 N 0.26191(4) 0.1643(2) 0.38833(8) 0.0171(3) Uani 1 1 d .
N2 N 0.50621(5) 0.2861(2) 0.41342(10) 0.0312(4) Uani 1 1 d .
O1 O 0.19835(4) -0.11128(18) 0.43048(7) 0.0214(3) Uani 1 1 d .
H101 H 0.2282 -0.0509 0.4240 0.032 Uiso 1 1 d R
loop_
_atom_site_aniso_label
_atom_site_aniso_U_11
_atom_site_aniso_U_22
_atom_site_aniso_U_33
_atom_site_aniso_U_23
_atom_site_aniso_U_13
_atom_site_aniso_U_12
C1 0.0180(8) 0.0174(8) 0.0138(7) -0.0030(6) 0.0061(6) -0.0013(7)
C2 0.0192(8) 0.0158(9) 0.0136(7) -0.0019(6) 0.0049(6) 0.0015(7)
C3 0.0212(9) 0.0185(9) 0.0183(7) -0.0005(6) 0.0084(6) -0.0054(7)
C4 0.0173(8) 0.0259(10) 0.0188(7) -0.0026(6) 0.0066(6) -0.0026(7)
C5 0.0194(8) 0.0222(9) 0.0193(7) 0.0013(7) 0.0062(6) 0.0031(7)
C6 0.0216(8) 0.0178(9) 0.0156(7) 0.0001(6) 0.0070(6) -0.0008(7)
C7 0.0209(8) 0.0167(8) 0.0149(7) -0.0008(6) 0.0067(6) -0.0033(7)
C8 0.0172(8) 0.0177(9) 0.0133(7) -0.0023(6) 0.0061(6) -0.0022(7)
C9 0.0185(8) 0.0184(9) 0.0179(7) 0.0015(6) 0.0054(6) 0.0018(7)
C10 0.0203(8) 0.0185(9) 0.0176(7) 0.0004(6) 0.0073(6) -0.0036(7)
C11 0.0161(8) 0.0217(9) 0.0152(7) -0.0028(6) 0.0061(6) -0.0016(7)
C12 0.0181(8) 0.0197(9) 0.0188(7) 0.0007(6) 0.0051(6) 0.0021(7)
C13 0.0221(8) 0.0157(9) 0.0165(7) 0.0001(6) 0.0069(6) -0.0014(7)
C14 0.0222(9) 0.0191(9) 0.0216(8) 0.0031(6) 0.0064(6) 0.0011(7)
N1 0.0153(6) 0.0187(7) 0.0171(6) -0.0001(5) 0.0054(5) -0.0016(6)
N2 0.0211(8) 0.0307(9) 0.0425(8) 0.0095(7) 0.0118(6) 0.0007(7)
O1 0.0177(6) 0.0184(6) 0.0285(5) 0.0046(5) 0.0084(4) -0.0003(5)
loop_
_atom_type_symbol
_atom_type_description
_atom_type_scat_dispersion_real
_atom_type_scat_dispersion_imag
_atom_type_scat_source
C C 0.0033 0.0016 'International Tables Vol C Tables 4.2.6.8 and 6.1.1.4'
H H 0.0000 0.0000 'International Tables Vol C Tables 4.2.6.8 and 6.1.1.4'
N N 0.0061 0.0033 'International Tables Vol C Tables 4.2.6.8 and 6.1.1.4'
O O 0.0106 0.0060 'International Tables Vol C Tables 4.2.6.8 and 6.1.1.4'
loop_
_geom_angle_atom_site_label_1
_geom_angle_atom_site_label_2
_geom_angle_atom_site_label_3
_geom_angle
C6 C1 C2 118.58(13)
C6 C1 C7 119.68(14)
C2 C1 C7 121.73(13)
O1 C2 C3 118.72(13)
O1 C2 C1 121.53(13)
C3 C2 C1 119.76(13)
C4 C3 C2 120.22(14)
C3 C4 C5 120.80(14)
C6 C5 C4 119.25(14)
C5 C6 C1 121.39(14)
N1 C7 C1 121.49(14)
C13 C8 C9 119.20(13)
C13 C8 N1 115.43(13)
C9 C8 N1 125.37(13)
C10 C9 C8 120.33(14)
C9 C10 C11 119.98(14)
C10 C11 C12 120.16(13)
C10 C11 C14 120.10(14)
C12 C11 C14 119.72(13)
C13 C12 C11 119.43(14)
C12 C13 C8 120.90(14)
N2 C14 C11 178.41(17)
C7 N1 C8 122.92(13)
loop_
_geom_bond_atom_site_label_1
_geom_bond_atom_site_label_2
_geom_bond_distance
C1 C6 1.402(2)
C1 C2 1.413(2)
C1 C7 1.445(2)
C2 O1 1.3583(17)
C2 C3 1.389(2)
C3 C4 1.382(2)
C4 C5 1.394(2)
C5 C6 1.375(2)
C7 N1 1.2873(18)
C8 C13 1.391(2)
C8 C9 1.398(2)
C8 N1 1.4152(18)
C9 C10 1.378(2)
C10 C11 1.394(2)
C11 C12 1.394(2)
C11 C14 1.439(2)
C12 C13 1.381(2)
C14 N2 1.1509(19)
loop_
_cod_related_entry_id
_cod_related_entry_database
_cod_related_entry_code
1 PubChem 273755
