#------------------------------------------------------------------------------
#$Date: 2016-03-25 15:22:33 +0100 (Fri 25 de Mar de 2016) $
#$Revision: 179966 $
#$URL: svn://www.crystallography.net/cod/cif/7/02/60/7026092.cif $
#------------------------------------------------------------------------------
#
# This file is available in the Crystallography Open Database (COD),
# http://www.crystallography.net/
#
# All data on this site have been placed in the public domain by the
# contributors.
#
data_7026092
loop_
_publ_author_name
'Adams, Christopher J.'
'Kurawa, Mukhtar A.'
'Orpen, A. Guy'
_publ_section_title
;
 Coordination chemistry in the solid state: synthesis and interconversion
 of pyrazolium salts, pyrazole complexes, and pyrazolate MOFs.
;
_journal_issue                   30
_journal_name_full
'Dalton transactions (Cambridge, England : 2003)'
_journal_page_first              6974
_journal_page_last               6984
_journal_paper_doi               10.1039/c0dt00195c
_journal_volume                  39
_journal_year                    2010
_chemical_formula_sum            'C6 H10 Cl4 Co N4'
_chemical_formula_weight         338.91
_chemical_name_systematic
;
?
;
_space_group_IT_number           14
_symmetry_cell_setting           monoclinic
_symmetry_space_group_name_Hall  '-P 2yn'
_symmetry_space_group_name_H-M   'P 1 21/n 1'
_atom_sites_solution_hydrogens   geom
_atom_sites_solution_primary     direct
_atom_sites_solution_secondary   difmap
_audit_creation_method           SHELXL-97
_cell_angle_alpha                90.00
_cell_angle_beta                 92.600(9)
_cell_angle_gamma                90.00
_cell_formula_units_Z            4
_cell_length_a                   7.5428(16)
_cell_length_b                   12.724(3)
_cell_length_c                   13.045(3)
_cell_measurement_reflns_used    10250
_cell_measurement_temperature    100(2)
_cell_measurement_theta_max      27.46
_cell_measurement_theta_min      2.70
_cell_volume                     1250.7(5)
_computing_cell_refinement       'SAINT (Bruker, 2001)'
_computing_data_collection       'SMART (Bruker, 2001)'
_computing_data_reduction        SAINT
_computing_molecular_graphics    'SHELXTL (Sheldrick, 2008)'
_computing_publication_material  'SHELXTL (Sheldrick, 2008)'
_computing_structure_refinement  'SHELXL-97 (Sheldrick, 2008)'
_computing_structure_solution    'SHELXS-97 (Sheldrick, 2008)'
_diffrn_ambient_temperature      100(2)
_diffrn_measured_fraction_theta_full 0.997
_diffrn_measured_fraction_theta_max 0.997
_diffrn_measurement_device_type  'CCD area detector'
_diffrn_measurement_method       'phi and omega scans'
_diffrn_radiation_monochromator  graphite
_diffrn_radiation_source         'fine-focus sealed tube'
_diffrn_radiation_type           MoK\a
_diffrn_radiation_wavelength     0.71073
_diffrn_reflns_av_R_equivalents  0.0239
_diffrn_reflns_av_sigmaI/netI    0.0180
_diffrn_reflns_limit_h_max       9
_diffrn_reflns_limit_h_min       -9
_diffrn_reflns_limit_k_max       16
_diffrn_reflns_limit_k_min       -16
_diffrn_reflns_limit_l_max       16
_diffrn_reflns_limit_l_min       -16
_diffrn_reflns_number            12687
_diffrn_reflns_theta_full        27.46
_diffrn_reflns_theta_max         27.46
_diffrn_reflns_theta_min         2.24
_diffrn_standards_decay_%        0
_exptl_absorpt_coefficient_mu    2.199
_exptl_absorpt_correction_T_max  0.686
_exptl_absorpt_correction_T_min  0.350
_exptl_absorpt_correction_type   multi-scan
_exptl_absorpt_process_details   sadabs
_exptl_crystal_colour            blue
_exptl_crystal_density_diffrn    1.800
_exptl_crystal_density_meas      ?
_exptl_crystal_density_method    'not measured'
_exptl_crystal_description       block
_exptl_crystal_F_000             676
_exptl_crystal_size_max          0.50
_exptl_crystal_size_mid          0.42
_exptl_crystal_size_min          0.17
_refine_diff_density_max         0.385
_refine_diff_density_min         -0.579
_refine_diff_density_rms         0.090
_refine_ls_extinction_method     none
_refine_ls_goodness_of_fit_ref   1.244
_refine_ls_hydrogen_treatment    constr
_refine_ls_matrix_type           full
_refine_ls_number_parameters     136
_refine_ls_number_reflns         2854
_refine_ls_number_restraints     0
_refine_ls_restrained_S_all      1.244
_refine_ls_R_factor_all          0.0235
_refine_ls_R_factor_gt           0.0226
_refine_ls_shift/su_max          0.001
_refine_ls_shift/su_mean         0.000
_refine_ls_structure_factor_coef Fsqd
_refine_ls_weighting_details
'calc w=1/[σ²(Fo²)+(0.0170P)²+1.2946P] where P=(Fo²+2Fc²)/3'
_refine_ls_weighting_scheme      calc
_refine_ls_wR_factor_gt          0.0581
_refine_ls_wR_factor_ref         0.0590
_reflns_number_gt                2787
_reflns_number_total             2854
_reflns_threshold_expression     >2sigma(I)
_cod_data_source_file            c0dt00195c.txt
_cod_data_source_block           1LT
_cod_depositor_comments
;
The following automatic conversions were performed:

'_symmetry_cell_setting' value 'Monoclinic' changed to 'monoclinic'
according to /home/saulius/struct/CIF-dictionaries/cif_core.dic
dictionary named 'cif_core.dic' version 2.4.2 from 2011-04-26.

Automatic conversion script
Id: cif_fix_values 1891 2012-01-12 08:04:46Z andrius 

The following automatic conversions were performed:

'_exptl_crystal_density_meas' value 'not measured' was changed to '?'
- the value is perceived as not measured.

Automatic conversion script
Id: cif_fix_values 3008 2015-01-20 13:52:24Z robertas 
;
_cod_original_sg_symbol_H-M      P21/n
_cod_database_code               7026092
loop_
_symmetry_equiv_pos_as_xyz
'x, y, z'
'-x+1/2, y+1/2, -z+1/2'
'-x, -y, -z'
'x-1/2, -y-1/2, z-1/2'
loop_
_atom_site_label
_atom_site_type_symbol
_atom_site_fract_x
_atom_site_fract_y
_atom_site_fract_z
_atom_site_U_iso_or_equiv
_atom_site_adp_type
_atom_site_occupancy
_atom_site_symmetry_multiplicity
_atom_site_calc_flag
_atom_site_refinement_flags
Co1 Co 0.23196(3) 0.789993(18) 0.246235(18) 0.01006(7) Uani 1 1 d .
Cl1 Cl 0.22560(6) 0.97157(3) 0.23981(3) 0.01267(10) Uani 1 1 d .
Cl2 Cl 0.25717(6) 0.74202(3) 0.41409(3) 0.01323(10) Uani 1 1 d .
Cl3 Cl -0.02315(6) 0.72688(4) 0.17512(3) 0.01511(10) Uani 1 1 d .
Cl4 Cl 0.46958(6) 0.73936(3) 0.15718(4) 0.01578(10) Uani 1 1 d .
N1 N 0.2809(2) 0.02525(14) 0.47510(13) 0.0197(3) Uani 1 1 d .
H1A H 0.3036 0.0159 0.4102 0.024 Uiso 1 1 calc R
N2 N 0.2110(2) -0.04699(13) 0.53628(13) 0.0191(3) Uani 1 1 d .
H2A H 0.1784 -0.1109 0.5178 0.023 Uiso 1 1 calc R
N3 N 0.1518(2) 0.54714(13) 0.61640(13) 0.0204(4) Uani 1 1 d .
H3A H 0.1128 0.6108 0.6289 0.024 Uiso 1 1 calc R
N4 N 0.0541(2) 0.45918(14) 0.61675(13) 0.0195(4) Uani 1 1 d .
H4A H -0.0596 0.4559 0.6289 0.023 Uiso 1 1 calc R
C1 C 0.1991(3) -0.00627(15) 0.62934(15) 0.0183(4) Uani 1 1 d .
H1B H 0.1560 -0.0414 0.6875 0.022 Uiso 1 1 calc R
C2 C 0.2605(3) 0.09649(15) 0.62712(15) 0.0185(4) Uani 1 1 d .
H2B H 0.2667 0.1451 0.6824 0.022 Uiso 1 1 calc R
C3 C 0.3105(3) 0.11338(16) 0.52821(16) 0.0198(4) Uani 1 1 d .
H3B H 0.3578 0.1768 0.5024 0.024 Uiso 1 1 calc R
C4 C 0.3166(3) 0.52273(16) 0.59422(16) 0.0198(4) Uani 1 1 d .
H4B H 0.4121 0.5707 0.5884 0.024 Uiso 1 1 calc R
C5 C 0.3248(3) 0.41484(16) 0.58107(16) 0.0191(4) Uani 1 1 d .
H5A H 0.4261 0.3747 0.5651 0.023 Uiso 1 1 calc R
C6 C 0.1568(3) 0.37760(15) 0.59572(16) 0.0185(4) Uani 1 1 d .
H6A H 0.1204 0.3062 0.5916 0.022 Uiso 1 1 calc R
loop_
_atom_site_aniso_label
_atom_site_aniso_U_11
_atom_site_aniso_U_22
_atom_site_aniso_U_33
_atom_site_aniso_U_23
_atom_site_aniso_U_13
_atom_site_aniso_U_12
Co1 0.00932(12) 0.01082(12) 0.01008(13) -0.00077(8) 0.00094(9) -0.00085(8)
Cl1 0.0142(2) 0.01070(19) 0.0133(2) -0.00009(14) 0.00281(16) -0.00016(14)
Cl2 0.0166(2) 0.01214(19) 0.0108(2) 0.00029(14) -0.00023(15) 0.00026(15)
Cl3 0.0127(2) 0.0177(2) 0.0147(2) -0.00157(16) -0.00148(16) -0.00334(15)
Cl4 0.0141(2) 0.01115(19) 0.0227(2) -0.00193(16) 0.00768(17) -0.00016(15)
N1 0.0221(9) 0.0260(9) 0.0109(8) -0.0031(6) 0.0014(6) 0.0054(7)
N2 0.0221(9) 0.0131(8) 0.0217(9) -0.0031(6) -0.0044(7) 0.0010(6)
N3 0.0310(10) 0.0149(8) 0.0150(8) -0.0024(6) -0.0013(7) 0.0084(7)
N4 0.0134(8) 0.0262(9) 0.0193(9) 0.0030(7) 0.0053(6) 0.0043(6)
C1 0.0225(10) 0.0150(9) 0.0176(9) 0.0021(7) 0.0016(8) 0.0009(7)
C2 0.0283(11) 0.0135(9) 0.0137(9) -0.0015(7) 0.0000(8) 0.0003(8)
C3 0.0234(10) 0.0179(9) 0.0182(10) 0.0033(7) -0.0004(8) -0.0014(7)
C4 0.0216(10) 0.0191(9) 0.0184(10) 0.0010(7) -0.0020(8) -0.0041(8)
C5 0.0152(9) 0.0189(9) 0.0235(10) 0.0003(8) 0.0055(7) 0.0035(7)
C6 0.0194(10) 0.0147(9) 0.0216(10) 0.0006(7) 0.0042(8) -0.0005(7)
loop_
_atom_type_symbol
_atom_type_description
_atom_type_scat_dispersion_real
_atom_type_scat_dispersion_imag
_atom_type_scat_source
C C 0.0033 0.0016 'International Tables Vol C Tables 4.2.6.8 and 6.1.1.4'
H H 0.0000 0.0000 'International Tables Vol C Tables 4.2.6.8 and 6.1.1.4'
N N 0.0061 0.0033 'International Tables Vol C Tables 4.2.6.8 and 6.1.1.4'
Cl Cl 0.1484 0.1585 'International Tables Vol C Tables 4.2.6.8 and 6.1.1.4'
Co Co 0.3494 0.9721 'International Tables Vol C Tables 4.2.6.8 and 6.1.1.4'
loop_
_geom_angle_atom_site_label_1
_geom_angle_atom_site_label_2
_geom_angle_atom_site_label_3
_geom_angle
Cl3 Co1 Cl2 109.54(2)
Cl3 Co1 Cl4 111.60(2)
Cl2 Co1 Cl4 112.51(2)
Cl3 Co1 Cl1 109.039(19)
Cl2 Co1 Cl1 107.697(18)
Cl4 Co1 Cl1 106.276(18)
C3 N1 N2 109.19(16)
C3 N1 H1A 125.4
N2 N1 H1A 125.4
C1 N2 N1 108.77(16)
C1 N2 H2A 125.6
N1 N2 H2A 125.6
C4 N3 N4 109.03(16)
C4 N3 H3A 125.5
N4 N3 H3A 125.5
C6 N4 N3 109.00(16)
C6 N4 H4A 125.5
N3 N4 H4A 125.5
N2 C1 C2 108.20(18)
N2 C1 H1B 125.9
C2 C1 H1B 125.9
C3 C2 C1 105.80(17)
C3 C2 H2B 127.1
C1 C2 H2B 127.1
N1 C3 C2 108.02(18)
N1 C3 H3B 126.0
C2 C3 H3B 126.0
N3 C4 C5 107.85(18)
N3 C4 H4B 126.1
C5 C4 H4B 126.1
C6 C5 C4 106.14(18)
C6 C5 H5A 126.9
C4 C5 H5A 126.9
N4 C6 C5 107.98(17)
N4 C6 H6A 126.0
C5 C6 H6A 126.0
loop_
_geom_bond_atom_site_label_1
_geom_bond_atom_site_label_2
_geom_bond_distance
Co1 Cl3 2.2464(6)
Co1 Cl2 2.2728(7)
Co1 Cl4 2.2728(6)
Co1 Cl1 2.3124(7)
N1 C3 1.332(3)
N1 N2 1.341(2)
N1 H1A 0.8800
N2 C1 1.327(3)
N2 H2A 0.8800
N3 C4 1.327(3)
N3 N4 1.340(2)
N3 H3A 0.8800
N4 C6 1.331(3)
N4 H4A 0.8800
C1 C2 1.388(3)
C1 H1B 0.9500
C2 C3 1.378(3)
C2 H2B 0.9500
C3 H3B 0.9500
C4 C5 1.385(3)
C4 H4B 0.9500
C5 C6 1.374(3)
C5 H5A 0.9500
C6 H6A 0.9500
loop_
_geom_hbond_atom_site_label_D
_geom_hbond_atom_site_label_H
_geom_hbond_atom_site_label_A
_geom_hbond_distance_DH
_geom_hbond_distance_HA
_geom_hbond_distance_DA
_geom_hbond_angle_DHA
_geom_hbond_site_symmetry_A
N1 H1A Cl1 0.88 2.34 3.1537(18) 153.5 1_545
N2 H2A Cl2 0.88 2.40 3.1497(18) 143.3 1_545
N3 H3A Cl4 0.88 2.23 3.1012(17) 170.6 4_576
N4 H4A Cl1 0.88 2.40 3.1391(18) 141.1 4_576
loop_
_geom_torsion_atom_site_label_1
_geom_torsion_atom_site_label_2
_geom_torsion_atom_site_label_3
_geom_torsion_atom_site_label_4
_geom_torsion
C3 N1 N2 C1 -1.3(2)
C4 N3 N4 C6 0.6(2)
N1 N2 C1 C2 1.2(2)
N2 C1 C2 C3 -0.6(2)
N2 N1 C3 C2 1.0(2)
C1 C2 C3 N1 -0.2(2)
N4 N3 C4 C5 -0.7(2)
N3 C4 C5 C6 0.5(2)
N3 N4 C6 C5 -0.3(2)
C4 C5 C6 N4 -0.1(2)
