#------------------------------------------------------------------------------
#$Date: 2016-03-25 15:22:33 +0100 (Fri 25 de Mar de 2016) $
#$Revision: 179966 $
#$URL: svn://www.crystallography.net/cod/cif/7/02/60/7026093.cif $
#------------------------------------------------------------------------------
#
# This file is available in the Crystallography Open Database (COD),
# http://www.crystallography.net/
#
# All data on this site have been placed in the public domain by the
# contributors.
#
data_7026093
loop_
_publ_author_name
'Adams, Christopher J.'
'Kurawa, Mukhtar A.'
'Orpen, A. Guy'
_publ_section_title
;
 Coordination chemistry in the solid state: synthesis and interconversion
 of pyrazolium salts, pyrazole complexes, and pyrazolate MOFs.
;
_journal_issue                   30
_journal_name_full
'Dalton transactions (Cambridge, England : 2003)'
_journal_page_first              6974
_journal_page_last               6984
_journal_paper_doi               10.1039/c0dt00195c
_journal_volume                  39
_journal_year                    2010
_chemical_formula_sum            'C6 H10 Cl4 Co N4'
_chemical_formula_weight         338.91
_chemical_name_systematic
;
?
;
_space_group_IT_number           14
_symmetry_cell_setting           monoclinic
_symmetry_space_group_name_Hall  '-P 2yn'
_symmetry_space_group_name_H-M   'P 1 21/n 1'
_atom_sites_solution_hydrogens   geom
_atom_sites_solution_primary     direct
_atom_sites_solution_secondary   difmap
_audit_creation_method           SHELXL-97
_cell_angle_alpha                90.00
_cell_angle_beta                 92.822(4)
_cell_angle_gamma                90.00
_cell_formula_units_Z            4
_cell_length_a                   7.6306(7)
_cell_length_b                   12.8943(13)
_cell_length_c                   13.3727(14)
_cell_measurement_reflns_used    9203
_cell_measurement_temperature    293(2)
_cell_measurement_theta_max      27.33
_cell_measurement_theta_min      2.20
_cell_volume                     1314.2(2)
_computing_cell_refinement       'SAINT (Bruker, 2001)'
_computing_data_collection       'SMART (Bruker, 2001)'
_computing_data_reduction        SAINT
_computing_molecular_graphics    'SHELXTL (Sheldrick, 2008)'
_computing_publication_material  'SHELXTL (Sheldrick, 2008)'
_computing_structure_refinement  'SHELXL-97 (Sheldrick, 2008)'
_computing_structure_solution    'SHELXS-97 (Sheldrick, 2008)'
_diffrn_ambient_temperature      293(2)
_diffrn_measured_fraction_theta_full 0.993
_diffrn_measured_fraction_theta_max 0.993
_diffrn_measurement_device_type  'CCD area detector'
_diffrn_measurement_method       'phi and omega scans'
_diffrn_radiation_monochromator  graphite
_diffrn_radiation_source         'fine-focus sealed tube'
_diffrn_radiation_type           MoK\a
_diffrn_radiation_wavelength     0.71073
_diffrn_reflns_av_R_equivalents  0.0243
_diffrn_reflns_av_sigmaI/netI    0.0179
_diffrn_reflns_limit_h_max       7
_diffrn_reflns_limit_h_min       -9
_diffrn_reflns_limit_k_max       15
_diffrn_reflns_limit_k_min       -16
_diffrn_reflns_limit_l_max       17
_diffrn_reflns_limit_l_min       -17
_diffrn_reflns_number            13390
_diffrn_reflns_theta_full        27.38
_diffrn_reflns_theta_max         27.38
_diffrn_reflns_theta_min         2.20
_exptl_absorpt_coefficient_mu    2.093
_exptl_absorpt_correction_T_max  0.6561
_exptl_absorpt_correction_T_min  0.376
_exptl_absorpt_correction_type   multi-scan
_exptl_absorpt_process_details   sadabs
_exptl_crystal_colour            Blue
_exptl_crystal_density_diffrn    1.713
_exptl_crystal_density_meas      ?
_exptl_crystal_density_method    'not measured'
_exptl_crystal_description       Block
_exptl_crystal_F_000             676
_exptl_crystal_size_max          0.50
_exptl_crystal_size_mid          0.40
_exptl_crystal_size_min          0.20
_refine_diff_density_max         0.325
_refine_diff_density_min         -0.634
_refine_diff_density_rms         0.096
_refine_ls_extinction_coef       0.110(3)
_refine_ls_extinction_expression Fc^*^=kFc[1+0.001xFc²λ³/sin(2θ)]^-1/4^
_refine_ls_extinction_method     SHELXL
_refine_ls_goodness_of_fit_ref   1.110
_refine_ls_hydrogen_treatment    constr
_refine_ls_matrix_type           full
_refine_ls_number_parameters     137
_refine_ls_number_reflns         2964
_refine_ls_number_restraints     0
_refine_ls_restrained_S_all      1.110
_refine_ls_R_factor_all          0.0362
_refine_ls_R_factor_gt           0.0317
_refine_ls_shift/su_max          0.001
_refine_ls_shift/su_mean         0.000
_refine_ls_structure_factor_coef Fsqd
_refine_ls_weighting_details
'calc w=1/[σ²(Fo²)+(0.0400P)²+0.5628P] where P=(Fo²+2Fc²)/3'
_refine_ls_weighting_scheme      calc
_refine_ls_wR_factor_gt          0.0786
_refine_ls_wR_factor_ref         0.0827
_reflns_number_gt                2619
_reflns_number_total             2964
_reflns_threshold_expression     >2sigma(I)
_cod_data_source_file            c0dt00195c.txt
_cod_data_source_block           1RT
_cod_depositor_comments
;
The following automatic conversions were performed:

'_symmetry_cell_setting' value 'Monoclinic' changed to 'monoclinic'
according to /home/saulius/struct/CIF-dictionaries/cif_core.dic
dictionary named 'cif_core.dic' version 2.4.2 from 2011-04-26.

Automatic conversion script
Id: cif_fix_values 1891 2012-01-12 08:04:46Z andrius 

The following automatic conversions were performed:

'_exptl_crystal_density_meas' value 'not measured' was changed to '?'
- the value is perceived as not measured.

Automatic conversion script
Id: cif_fix_values 3008 2015-01-20 13:52:24Z robertas 
;
_cod_original_sg_symbol_H-M      P21/n
_cod_database_code               7026093
loop_
_symmetry_equiv_pos_as_xyz
'x, y, z'
'-x+1/2, y+1/2, -z+1/2'
'-x, -y, -z'
'x-1/2, -y-1/2, z-1/2'
loop_
_atom_site_label
_atom_site_type_symbol
_atom_site_fract_x
_atom_site_fract_y
_atom_site_fract_z
_atom_site_U_iso_or_equiv
_atom_site_adp_type
_atom_site_occupancy
_atom_site_symmetry_multiplicity
_atom_site_calc_flag
_atom_site_refinement_flags
Co1 Co 0.23929(3) 0.78961(2) 0.248982(18) 0.03709(13) Uani 1 1 d .
Cl1 Cl 0.23505(7) 0.96813(4) 0.24371(4) 0.04759(16) Uani 1 1 d .
Cl2 Cl 0.25728(8) 0.74149(4) 0.41259(4) 0.05273(17) Uani 1 1 d .
Cl3 Cl -0.01111(7) 0.73057(5) 0.17299(4) 0.05473(18) Uani 1 1 d .
Cl4 Cl 0.47837(8) 0.74064(4) 0.16585(5) 0.0605(2) Uani 1 1 d .
N1 N 0.2756(4) 0.0252(2) 0.47342(17) 0.0764(7) Uani 1 1 d .
H1A H 0.2943 0.0179 0.4109 0.092 Uiso 1 1 calc R
N2 N 0.2183(4) -0.04738(19) 0.5319(2) 0.0783(8) Uani 1 1 d .
H2A H 0.1947 -0.1102 0.5141 0.094 Uiso 1 1 calc R
N3 N 0.1555(5) 0.5490(2) 0.61894(18) 0.0786(8) Uani 1 1 d .
H3A H 0.1131 0.6098 0.6283 0.094 Uiso 1 1 calc R
N4 N 0.0685(4) 0.4633(3) 0.6214(2) 0.0904(9) Uani 1 1 d .
H4A H -0.0405 0.4580 0.6343 0.108 Uiso 1 1 calc R
C1 C 0.2023(5) -0.0093(3) 0.6217(2) 0.0764(8) Uani 1 1 d .
H1B H 0.1638 -0.0451 0.6769 0.092 Uiso 1 1 calc R
C2 C 0.2522(5) 0.0917(2) 0.6199(2) 0.0777(9) Uani 1 1 d .
H2B H 0.2533 0.1385 0.6729 0.093 Uiso 1 1 calc R
C3 C 0.3002(5) 0.1109(2) 0.5250(2) 0.0773(9) Uani 1 1 d .
H3B H 0.3427 0.1733 0.5012 0.093 Uiso 1 1 calc R
C4 C 0.3190(5) 0.5287(3) 0.5999(3) 0.0845(10) Uani 1 1 d .
H4B H 0.4102 0.5761 0.5955 0.101 Uiso 1 1 calc R
C5 C 0.3277(5) 0.4233(3) 0.5880(3) 0.0958(12) Uani 1 1 d .
H5A H 0.4258 0.3845 0.5730 0.115 Uiso 1 1 calc R
C6 C 0.1689(6) 0.3881(3) 0.6019(3) 0.0911(11) Uani 1 1 d .
H6A H 0.1352 0.3188 0.5981 0.109 Uiso 1 1 calc R
loop_
_atom_site_aniso_label
_atom_site_aniso_U_11
_atom_site_aniso_U_22
_atom_site_aniso_U_33
_atom_site_aniso_U_23
_atom_site_aniso_U_13
_atom_site_aniso_U_12
Co1 0.03618(17) 0.03702(18) 0.03821(18) -0.00300(10) 0.00312(11) -0.00208(10)
Cl1 0.0570(3) 0.0367(3) 0.0499(3) -0.0009(2) 0.0102(2) 0.0002(2)
Cl2 0.0725(4) 0.0432(3) 0.0420(3) 0.0018(2) -0.0027(2) -0.0016(2)
Cl3 0.0456(3) 0.0589(4) 0.0586(4) -0.0075(3) -0.0084(2) -0.0067(2)
Cl4 0.0524(3) 0.0405(3) 0.0911(5) -0.0086(3) 0.0296(3) -0.0002(2)
N1 0.0839(17) 0.099(2) 0.0461(12) -0.0128(13) 0.0039(11) 0.0244(15)
N2 0.0889(18) 0.0507(13) 0.0925(19) -0.0224(13) -0.0220(15) 0.0021(12)
N3 0.120(2) 0.0583(15) 0.0565(13) -0.0079(11) -0.0011(14) 0.0381(15)
N4 0.0662(16) 0.113(3) 0.094(2) 0.0095(17) 0.0179(15) 0.0138(16)
C1 0.104(2) 0.0617(17) 0.0639(17) 0.0130(14) 0.0046(16) -0.0043(17)
C2 0.136(3) 0.0483(15) 0.0481(14) -0.0084(12) -0.0066(16) 0.0070(16)
C3 0.109(3) 0.0565(16) 0.0661(18) 0.0113(14) 0.0032(16) -0.0067(15)
C4 0.083(2) 0.082(2) 0.088(2) 0.0199(17) 0.0023(17) -0.0333(18)
C5 0.087(2) 0.091(3) 0.113(3) 0.021(2) 0.043(2) 0.046(2)
C6 0.104(3) 0.0591(18) 0.113(3) -0.0001(17) 0.028(2) -0.0040(18)
loop_
_atom_type_symbol
_atom_type_description
_atom_type_scat_dispersion_real
_atom_type_scat_dispersion_imag
_atom_type_scat_source
C C 0.0033 0.0016 'International Tables Vol C Tables 4.2.6.8 and 6.1.1.4'
H H 0.0000 0.0000 'International Tables Vol C Tables 4.2.6.8 and 6.1.1.4'
N N 0.0061 0.0033 'International Tables Vol C Tables 4.2.6.8 and 6.1.1.4'
Cl Cl 0.1484 0.1585 'International Tables Vol C Tables 4.2.6.8 and 6.1.1.4'
Co Co 0.3494 0.9721 'International Tables Vol C Tables 4.2.6.8 and 6.1.1.4'
loop_
_geom_angle_atom_site_label_1
_geom_angle_atom_site_label_2
_geom_angle_atom_site_label_3
_geom_angle
Cl3 Co1 Cl2 110.61(3)
Cl3 Co1 Cl4 111.66(3)
Cl2 Co1 Cl4 112.54(3)
Cl3 Co1 Cl1 108.28(2)
Cl2 Co1 Cl1 107.61(2)
Cl4 Co1 Cl1 105.85(2)
N2 N1 C3 109.4(2)
N2 N1 H1A 125.3
C3 N1 H1A 125.3
C1 N2 N1 109.2(2)
C1 N2 H2A 125.4
N1 N2 H2A 125.4
N4 N3 C4 109.3(3)
N4 N3 H3A 125.4
C4 N3 H3A 125.4
C6 N4 N3 109.4(3)
C6 N4 H4A 125.3
N3 N4 H4A 125.3
N2 C1 C2 107.8(3)
N2 C1 H1B 126.1
C2 C1 H1B 126.1
C1 C2 C3 106.2(3)
C1 C2 H2B 126.9
C3 C2 H2B 126.9
N1 C3 C2 107.5(3)
N1 C3 H3B 126.3
C2 C3 H3B 126.3
N3 C4 C5 105.8(3)
N3 C4 H4B 127.1
C5 C4 H4B 127.1
C6 C5 C4 106.0(3)
C6 C5 H5A 127.0
C4 C5 H5A 127.0
N4 C6 C5 109.5(3)
N4 C6 H6A 125.2
C5 C6 H6A 125.2
loop_
_geom_bond_atom_site_label_1
_geom_bond_atom_site_label_2
_geom_bond_distance
Co1 Cl3 2.2521(6)
Co1 Cl2 2.2718(6)
Co1 Cl4 2.2721(6)
Co1 Cl1 2.3032(6)
N1 N2 1.309(4)
N1 C3 1.311(4)
N1 H1A 0.8600
N2 C1 1.309(4)
N2 H2A 0.8600
N3 N4 1.290(4)
N3 C4 1.311(5)
N3 H3A 0.8600
N4 C6 1.272(4)
N4 H4A 0.8600
C1 C2 1.358(4)
C1 H1B 0.9300
C2 C3 1.361(4)
C2 H2B 0.9300
C3 H3B 0.9300
C4 C5 1.371(5)
C4 H4B 0.9300
C5 C6 1.316(5)
C5 H5A 0.9300
C6 H6A 0.9300
loop_
_geom_hbond_atom_site_label_D
_geom_hbond_atom_site_label_H
_geom_hbond_atom_site_label_A
_geom_hbond_distance_DH
_geom_hbond_distance_HA
_geom_hbond_distance_DA
_geom_hbond_angle_DHA
_geom_hbond_site_symmetry_A
N1 H1A Cl1 0.86 2.35 3.159(2) 157.2 1_545
N2 H2A Cl2 0.86 2.41 3.177(2) 149.3 1_545
N3 H3A Cl4 0.86 2.25 3.109(2) 172.7 4_576
N4 H4A Cl1 0.86 2.50 3.215(3) 141.7 4_576
loop_
_geom_torsion_atom_site_label_1
_geom_torsion_atom_site_label_2
_geom_torsion_atom_site_label_3
_geom_torsion_atom_site_label_4
_geom_torsion
C3 N1 N2 C1 1.0(4)
C4 N3 N4 C6 -1.8(4)
N1 N2 C1 C2 -0.1(4)
N2 C1 C2 C3 -0.7(4)
N2 N1 C3 C2 -1.4(4)
C1 C2 C3 N1 1.3(4)
N4 N3 C4 C5 1.5(4)
N3 C4 C5 C6 -0.7(4)
N3 N4 C6 C5 1.3(5)
C4 C5 C6 N4 -0.3(5)
