#------------------------------------------------------------------------------
#$Date: 2025-11-26 01:01:06 +0100 (Wed 26 de Nov de 2025) $
#$Revision: 303423 $
#$URL: svn://www.crystallography.net/cod/cif/7/71/99/7719922.cif $
#------------------------------------------------------------------------------
#
# This file is available in the Crystallography Open Database (COD),
# http://www.crystallography.net/
#
# All data on this site have been placed in the public domain by the
# contributors.
#
data_7719922
loop_
_publ_author_name
'Iio, Kosuke'
'Ishii, Syunya'
'Yamaguchi, Junya'
'Yamaguchi, Mayu'
'Yamashita, Haruka'
'Irie, Akira'
'Hatasawa, Haruna'
'Morita, Masashi'
'Kondo, Atsushi'
'Kitamura, Naoto'
'Saito, Morihiro'
'Maeda, Kazuyuki'
_publ_section_title
;
 Isomorphous metal 1,3,5-benzenetriphosphonates MBP-1 with variable
 compositions: preparation, crystal structure, and electrochemical
 properties.
;
_journal_name_full
'Dalton transactions (Cambridge, England : 2003)'
_journal_paper_doi               10.1039/d5dt00773a
_journal_year                    2025
_chemical_formula_moiety         'C2 H Mn0.54 O3 P'
_chemical_formula_sum            'C2 H Mn0.54 O3 P'
_chemical_formula_weight         133.85
_chemical_name_common            MnBP-1
_space_group_crystal_system      hexagonal
_space_group_IT_number           176
_space_group_name_Hall           '-P 6c'
_space_group_name_H-M_alt        'P 63/m'
_audit_update_record
;
2025-05-20 deposited with the CCDC.	2025-11-17 downloaded from the CCDC.
;
_cell_angle_alpha                90
_cell_angle_beta                 90
_cell_angle_gamma                120
_cell_formula_units_Z            6
_cell_length_a                   8.98133(8)
_cell_length_b                   8.98133(8)
_cell_length_c                   7.72133(7)
_cell_measurement_temperature    300
_cell_volume                     539.391(8)
_computing_cell_refinement       'RIETAN-FP (Izumi and Momma, 2007)'
_computing_molecular_graphics    'VESTA3 (Momma and Izumi, 2011)'
_computing_structure_refinement  'RIETAN-FP (Izumi and Momma, 2007)'
_computing_structure_solution    'EXPO-2014 (Altomare et al., 2013)'
_diffrn_ambient_temperature      300
_diffrn_detector                 'MYTHEN detector'
_diffrn_measurement_device_type  Debye-Scherrer
_diffrn_radiation_type           synchrotron
_diffrn_radiation_wavelength     0.79980
_diffrn_source                   Synchrotron
_diffrn_source_type              'SPring-8, BL02B2'
_exptl_crystal_density_diffrn    2.4897
_exptl_crystal_density_method    'not measured'
_exptl_crystal_F_000             399.05
_pd_calc_method                  'Rietveld Refinement'
_pd_char_colour                  colorless
_pd_instr_location
;
SPring-8, Sayo-cho, Sayo-gun, Hyogo 679-5198, Japan
;
_pd_meas_2theta_range_inc        0.0060
_pd_meas_2theta_range_max        78.2100
_pd_meas_2theta_range_min        2.1000
_pd_meas_number_of_points        12686
_pd_meas_scan_method             fixed
_pd_proc_2theta_range_inc        0.0060
_pd_proc_2theta_range_max        78.0000
_pd_proc_2theta_range_min        4.5060
_pd_proc_ls_background_function  'Legendre polynomials'
_pd_proc_ls_profile_function     'split pseudo-Voigt function'
_pd_proc_ls_prof_R_factor        0.04651
_pd_proc_ls_prof_wR_expected     0.02063
_pd_proc_ls_prof_wR_factor       0.05994
_pd_proc_wavelength              0.79980
_pd_spec_mounting                'glass capillary'
_pd_spec_mount_mode              transmission
_pd_spec_shape                   cylinder
_refine_diff_density_max         0.0
_refine_diff_density_min         0.0
_refine_ls_extinction_method     none
_refine_ls_goodness_of_fit_all   2.9057
_refine_ls_matrix_type           full
_refine_ls_number_constraints    1
_refine_ls_number_parameters     58
_refine_ls_number_restraints     0
_refine_ls_R_factor_all          0.03210
_refine_ls_R_Fsqd_factor         0.03213
_refine_ls_R_I_factor            0.05796
_refine_ls_shift/su_max          0.0
_refine_ls_weighting_details     1/yi
_refine_ls_weighting_scheme      sigma
_cod_data_source_file            d5dt00773a2.cif
_cod_data_source_block           MnBP-1
_cod_database_code               7719922
loop_
_space_group_symop_id
_space_group_symop_operation_xyz
1 x,y,z
2 -y,x-y,z
3 -x+y,-x,z
4 -x,-y,z+1/2
5 y,-x+y,z+1/2
6 x-y,x,z+1/2
7 -x,-y,-z
8 y,-x+y,-z
9 x-y,x,-z
10 x,y,-z+1/2
11 -y,x-y,-z+1/2
12 -x+y,-x,-z+1/2
loop_
_atom_site_label
_atom_site_fract_x
_atom_site_fract_y
_atom_site_fract_z
_atom_site_occupancy
_atom_site_symmetry_multiplicity
_atom_site_Wyckoff_symbol
_atom_site_adp_type
_atom_site_U_iso_or_equiv
_atom_site_type_symbol
Mn1 0.33333 0.66667 0.5470(1) 0.815(2) 4 f Uiso 0.0124(2) Mn
P1 0.0306(1) 0.3699(1) 0.25 1 6 h Uiso 0.0120(3) P
O1 0.1251(2) 0.4678(2) 0.4117(2) 1 12 i Uiso 0.0362(6) O
O2 -0.1535(3) 0.3397(4) 0.25 1 6 h Uiso 0.0177(6) O
C1 0.0152(6) 0.1648(5) 0.25 1 6 h Uiso 0.0090(6) C
C2 0.1605(4) 0.1471(5) 0.25 1 6 h Uiso 0.0090(6) C
H1 0.272(4) 0.256(3) 0.25 1 6 h Uiso 0.01267 H
loop_
_atom_type_symbol
_atom_type_description
_atom_type_scat_dispersion_real
_atom_type_scat_dispersion_imag
_atom_type_scat_source
Mn Mn 0.3172 0.9073 'International Tables for Crystallography, Vol. C'
P P 0.1127 0.1202 'International Tables for Crystallography, Vol. C'
O O 0.0113 0.0079 'International Tables for Crystallography, Vol. C'
C C 0.0033 0.0021 'International Tables for Crystallography, Vol. C'
H H -0.0006 0.0000 'International Tables for Crystallography, Vol. C'
loop_
_geom_angle_atom_site_label_1
_geom_angle_atom_site_label_2
_geom_angle_atom_site_label_3
_geom_angle
_geom_angle_site_symmetry_1
_geom_angle_site_symmetry_2
_geom_angle_site_symmetry_3
_geom_angle_publ_flag
O1 Mn1 O1 97.53(6) 1_555 . 3_565 ?
O1 Mn1 O2 94.49(8) 1_555 . 5_555 ?
O1 Mn1 O2 90.13(9) 1_555 . 4_565 ?
O1 Mn1 O2 164.75(7) 1_555 . 6_665 ?
O2 Mn1 O2 76.08(6) 5_555 . 4_565 ?
O1 P1 O1 110.6(1) 1_555 . 10_555 ?
O1 P1 O2 110.0(1) 1_555 . 1_555 ?
O1 P1 C1 109.4(1) 1_555 . 1_555 ?
O2 P1 C1 107.3(2) 1_555 . 1_555 ?
P1 O1 Mn1 154.3(1) 1_555 . 1_555 ?
P1 O2 Mn1 134.93(5) 1_555 . 7_566 ?
Mn1 O2 Mn1 89.28(8) 7_566 . 4_564 ?
C2 C1 C2 117.8(4) 1_555 . 2_555 ?
C2 C1 P1 121.8(4) 1_555 . 1_555 ?
C2 C1 P1 120.4(3) 2_555 . 1_555 ?
C1 C2 C1 122.2(4) 1_555 . 3_555 ?
C1 C2 H1 115(3) 1_555 . 1_555 ?
C1 C2 H1 122(3) 3_555 . 1_555 ?
loop_
_geom_bond_atom_site_label_1
_geom_bond_atom_site_label_2
_geom_bond_distance
_geom_bond_site_symmetry_1
_geom_bond_site_symmetry_2
_geom_bond_publ_flag
Mn1 O1 2.107(2) . 1_555 ?
Mn1 O2 2.231(1) . 5_555 ?
P1 O1 1.518(2) . 1_555 ?
P1 O2 1.536(2) . 1_555 ?
P1 C1 1.777(3) . 1_555 ?
C2 C1 1.391(5) . 1_555 ?
C2 C1 1.411(5) . 3_555 ?
C2 H1 0.99(3) . 1_555 ?
