#------------------------------------------------------------------------------
#$Date: 2022-09-25 21:10:12 +0200 (Sun 25 de Sep de 2022) $
#$Revision: 278158 $
#$URL: svn://www.crystallography.net/cod/cif/1/01/08/1010832.cif $
#------------------------------------------------------------------------------
#
# This file is available in the Crystallography Open Database (COD),
# http://www.crystallography.net/
#
# All data on this site have been placed in the public domain by the
# contributors.
#
data_1010832
loop_
_publ_author_name
'Ferrari, A'
'Coghi, L'
'Piovosi, N'
_publ_section_title              'Cobaltinitriti misti.'
_journal_coden_ASTM              GCITA9
_journal_name_full               'Gazzetta Chimica Italiana'
_journal_page_first              812
_journal_page_last               822
_journal_volume                  70
_journal_year                    1940
_chemical_formula_structural     '(N H4)2 Ag Co (N O2)6'
_chemical_formula_sum            'Ag Co H8 N8 O12'
_chemical_name_systematic        'Diammonium silver hexanitrocobaltate'
_cell_angle_alpha                90
_cell_angle_beta                 90
_cell_angle_gamma                90
_cell_formula_units_Z            1
_cell_length_a                   10.33
_cell_length_b                   10.33
_cell_length_c                   10.33
_cell_volume                     1102.3
_cod_original_formula_sum        'H8 Ag Co N8 O12'
_cod_database_code               1010832
loop_
_atom_site_label
_atom_site_fract_x
_atom_site_fract_y
_atom_site_fract_z
? ? ? ?
