#------------------------------------------------------------------------------
#$Date: 2016-02-18 16:37:37 +0100 (Thu 18 de Feb de 2016) $
#$Revision: 176729 $
#$URL: svn://www.crystallography.net/cod/cif/1/50/63/1506372.cif $
#------------------------------------------------------------------------------
#
# This file is available in the Crystallography Open Database (COD),
# http://www.crystallography.net/
#
# All data on this site have been placed in the public domain by the
# contributors.
#
data_1506372
loop_
_publ_author_name
'Nygren, Cara L.'
'Wilson, Chick C.'
'Turner, John F. C.'
_publ_section_title
;
 Electron and nuclear positions in the short hydrogen bond in
 urotropine-N-oxide.formic acid.
;
_journal_issue                   9
_journal_name_full               'The journal of physical chemistry. A'
_journal_page_first              1911
_journal_page_last               1919
_journal_paper_doi               10.1021/jp047187r
_journal_volume                  109
_journal_year                    2005
_chemical_formula_moiety         'C6 H12 N4 O, C H2 O2'
_chemical_formula_sum            'C7 H14 N4 O3'
_chemical_formula_weight         202.22
_chemical_name_systematic
; 
urotropine-N-oxide^.^formic acid
;
_space_group_IT_number           14
_symmetry_cell_setting           monoclinic
_symmetry_space_group_name_Hall  '-P 2yn'
_symmetry_space_group_name_H-M   'P 1 21/n 1'
_atom_sites_solution_hydrogens   geom
_atom_sites_solution_primary     direct
_atom_sites_solution_secondary   difmap
_audit_creation_method           SHELXL-97
_cell_angle_alpha                90.00
_cell_angle_beta                 95.159(6)
_cell_angle_gamma                90.00
_cell_formula_units_Z            4
_cell_length_a                   6.744(2)
_cell_length_b                   6.790(2)
_cell_length_c                   19.472(7)
_cell_measurement_reflns_used    7531
_cell_measurement_temperature    173(2)
_cell_measurement_theta_max      28.32
_cell_measurement_theta_min      2.10
_cell_volume                     888.0(5)
_computing_cell_refinement       'SAINT (Bruker 1997)'
_computing_data_collection       'SMART (Bruker 1997)'
_computing_data_reduction        'SAINT (Bruker 1997)'
_computing_molecular_graphics    'SHELXTL (Sheldrick, 1997)'
_computing_publication_material  'SHELXTL (Sheldrick, 1997)'
_computing_structure_refinement  'SHELX-97 (Sheldrick, 1997)'
_computing_structure_solution    'SHELX-97 (Sheldrick, 1997)'
_diffrn_ambient_temperature      123(2)
_diffrn_detector_area_resol_mean 'not measured'
_diffrn_measured_fraction_theta_full 0.964
_diffrn_measured_fraction_theta_max 0.964
_diffrn_measurement_device_type  'Bruker AXS CCD'
_diffrn_measurement_method       'phi and omega scans'
_diffrn_radiation_monochromator  graphite
_diffrn_radiation_source         'fine-focus sealed tube'
_diffrn_radiation_type           MoK\a
_diffrn_radiation_wavelength     0.71073
_diffrn_reflns_av_R_equivalents  0.0229
_diffrn_reflns_av_sigmaI/netI    0.0193
_diffrn_reflns_limit_h_max       8
_diffrn_reflns_limit_h_min       -8
_diffrn_reflns_limit_k_max       9
_diffrn_reflns_limit_k_min       -8
_diffrn_reflns_limit_l_max       25
_diffrn_reflns_limit_l_min       -25
_diffrn_reflns_number            8163
_diffrn_reflns_theta_full        28.32
_diffrn_reflns_theta_max         28.32
_diffrn_reflns_theta_min         2.10
_diffrn_standards_number         0
_exptl_absorpt_coefficient_mu    0.119
_exptl_absorpt_correction_T_max  0.970
_exptl_absorpt_correction_T_min  0.785
_exptl_absorpt_correction_type   multi-scan
_exptl_absorpt_process_details   '(SADABS; Sheldrick, 1996)'
_exptl_crystal_colour            colorless
_exptl_crystal_density_diffrn    1.513
_exptl_crystal_density_meas      ?
_exptl_crystal_density_method    'not measured'
_exptl_crystal_description       fragment
_exptl_crystal_F_000             432
_exptl_crystal_size_max          0.41
_exptl_crystal_size_mid          0.40
_exptl_crystal_size_min          0.26
_refine_diff_density_max         0.322
_refine_diff_density_min         -0.238
_refine_diff_density_rms         0.055
_refine_ls_extinction_method     none
_refine_ls_goodness_of_fit_ref   1.066
_refine_ls_hydrogen_treatment    constr
_refine_ls_matrix_type           full
_refine_ls_number_parameters     131
_refine_ls_number_reflns         2129
_refine_ls_number_restraints     0
_refine_ls_restrained_S_all      1.066
_refine_ls_R_factor_all          0.0377
_refine_ls_R_factor_gt           0.0362
_refine_ls_shift/su_max          0.000
_refine_ls_shift/su_mean         0.000
_refine_ls_structure_factor_coef Fsqd
_refine_ls_weighting_details
'calc w=1/[σ²(Fo²)+(0.0580P)²+0.3077P] where P=(Fo²+2Fc²)/3'
_refine_ls_weighting_scheme      calc
_refine_ls_wR_factor_gt          0.1011
_refine_ls_wR_factor_ref         0.1030
_reflns_number_gt                2004
_reflns_number_total             2129
_reflns_threshold_expression     I>2σ(I)
_cod_data_source_file            jp047187rsi20040628_073852.cif
_cod_data_source_block           sep4m
_cod_depositor_comments
;
The following automatic conversions were performed:

'_symmetry_cell_setting' value 'Monoclinic' changed to 'monoclinic'
according to /home/saulius/struct/CIF-dictionaries/cif_core.dic
dictionary named 'cif_core.dic' version 2.4.1 from 2010-06-29.

Automatic conversion script
Id: cif_fix_values 1715 2011-07-08 13:25:40Z adriana 

The following automatic conversions were performed:

'_exptl_crystal_density_meas' value 'not measured' was changed to '?'
- the value is perceived as not measured.

Automatic conversion script
Id: cif_fix_values 3008 2015-01-20 13:52:24Z robertas 
;
_cod_original_sg_symbol_H-M      'P 21/n'
_cod_database_code               1506372
loop_
_symmetry_equiv_pos_as_xyz
'x, y, z'
'-x+1/2, y+1/2, -z+1/2'
'-x, -y, -z'
'x-1/2, -y-1/2, z-1/2'
loop_
_atom_site_label
_atom_site_type_symbol
_atom_site_fract_x
_atom_site_fract_y
_atom_site_fract_z
_atom_site_U_iso_or_equiv
_atom_site_adp_type
_atom_site_occupancy
_atom_site_symmetry_multiplicity
_atom_site_calc_flag
_atom_site_refinement_flags
N1 N 0.16093(12) 0.40600(12) 0.09850(4) 0.01318(19) Uani 1 1 d .
O1 O 0.08072(11) 0.59479(10) 0.08833(4) 0.01774(18) Uani 1 1 d .
N4 N 0.43273(12) 0.20067(13) 0.06633(4) 0.0176(2) Uani 1 1 d .
N2 N 0.32086(12) 0.17711(13) 0.18194(4) 0.0163(2) Uani 1 1 d .
O3 O -0.39628(12) 0.71012(14) 0.22301(5) 0.0291(2) Uani 1 1 d .
C6 C 0.01407(14) 0.24464(14) 0.07318(5) 0.0158(2) Uani 1 1 d .
H6A H -0.1049 0.2501 0.0994 0.019 Uiso 1 1 calc R
H6B H -0.0295 0.2654 0.0238 0.019 Uiso 1 1 calc R
O2 O -0.24878(11) 0.63075(13) 0.12896(4) 0.0235(2) Uani 1 1 d .
N3 N 0.10888(13) 0.05428(12) 0.08246(4) 0.01631(19) Uani 1 1 d .
C1 C 0.34172(14) 0.39309(15) 0.05736(5) 0.0158(2) Uani 1 1 d .
H1A H 0.3008 0.4160 0.0079 0.019 Uiso 1 1 calc R
H1B H 0.4393 0.4960 0.0732 0.019 Uiso 1 1 calc R
C3 C 0.49310(15) 0.16871(16) 0.14043(5) 0.0189(2) Uani 1 1 d .
H3A H 0.5583 0.0385 0.1467 0.023 Uiso 1 1 calc R
H3B H 0.5910 0.2706 0.1569 0.023 Uiso 1 1 calc R
C2 C 0.22904(15) 0.36983(15) 0.17426(5) 0.0155(2) Uani 1 1 d .
H2A H 0.3259 0.4724 0.1910 0.019 Uiso 1 1 calc R
H2B H 0.1134 0.3770 0.2021 0.019 Uiso 1 1 calc R
C7 C -0.24797(15) 0.67941(15) 0.19282(6) 0.0198(2) Uani 1 1 d .
H7 H -0.1222 0.6925 0.2186 0.024 Uiso 1 1 calc R
C4 C 0.17556(15) 0.02468(15) 0.15618(5) 0.0178(2) Uani 1 1 d .
H4A H 0.2375 -0.1071 0.1625 0.021 Uiso 1 1 calc R
H4B H 0.0588 0.0291 0.1835 0.021 Uiso 1 1 calc R
C5 C 0.28469(15) 0.04824(16) 0.04264(5) 0.0191(2) Uani 1 1 d .
H5A H 0.2421 0.0692 -0.0068 0.023 Uiso 1 1 calc R
H5B H 0.3474 -0.0834 0.0476 0.023 Uiso 1 1 calc R
H1 H -0.083(4) 0.611(4) 0.1126(13) 0.088(8) Uiso 1 1 d .
loop_
_atom_site_aniso_label
_atom_site_aniso_U_11
_atom_site_aniso_U_22
_atom_site_aniso_U_33
_atom_site_aniso_U_23
_atom_site_aniso_U_13
_atom_site_aniso_U_12
N1 0.0141(4) 0.0122(4) 0.0132(4) 0.0000(3) 0.0016(3) 0.0003(3)
O1 0.0208(4) 0.0121(3) 0.0207(4) 0.0022(3) 0.0034(3) 0.0035(3)
N4 0.0164(4) 0.0198(4) 0.0166(4) -0.0017(3) 0.0020(3) 0.0020(3)
N2 0.0178(4) 0.0158(4) 0.0149(4) 0.0007(3) -0.0006(3) -0.0004(3)
O3 0.0249(4) 0.0317(5) 0.0323(5) -0.0009(4) 0.0109(3) 0.0026(3)
C6 0.0140(4) 0.0153(5) 0.0175(4) -0.0008(4) -0.0010(3) -0.0023(3)
O2 0.0171(4) 0.0311(4) 0.0220(4) -0.0048(3) -0.0005(3) 0.0013(3)
N3 0.0182(4) 0.0145(4) 0.0159(4) -0.0009(3) -0.0001(3) -0.0007(3)
C1 0.0151(4) 0.0189(5) 0.0139(4) 0.0006(3) 0.0043(3) -0.0014(3)
C3 0.0151(4) 0.0218(5) 0.0194(5) 0.0007(4) -0.0014(4) 0.0021(4)
C2 0.0200(5) 0.0157(4) 0.0108(4) -0.0008(3) 0.0005(3) -0.0008(3)
C7 0.0184(5) 0.0185(5) 0.0225(5) 0.0004(4) 0.0018(4) -0.0001(4)
C4 0.0212(5) 0.0146(4) 0.0170(5) 0.0016(4) -0.0008(4) -0.0022(4)
C5 0.0214(5) 0.0182(5) 0.0180(5) -0.0050(4) 0.0025(4) 0.0008(4)
loop_
_atom_type_symbol
_atom_type_description
_atom_type_scat_dispersion_real
_atom_type_scat_dispersion_imag
_atom_type_scat_source
C C 0.0033 0.0016 'International Tables Vol C Tables 4.2.6.8 and 6.1.1.4'
H H 0.0000 0.0000 'International Tables Vol C Tables 4.2.6.8 and 6.1.1.4'
N N 0.0061 0.0033 'International Tables Vol C Tables 4.2.6.8 and 6.1.1.4'
O O 0.0106 0.0060 'International Tables Vol C Tables 4.2.6.8 and 6.1.1.4'
loop_
_geom_angle_atom_site_label_1
_geom_angle_atom_site_label_2
_geom_angle_atom_site_label_3
_geom_angle
O1 N1 C1 107.25(7)
O1 N1 C2 111.32(7)
C1 N1 C2 108.32(7)
O1 N1 C6 112.34(7)
C1 N1 C6 108.41(7)
C2 N1 C6 109.07(7)
C1 N4 C3 109.06(8)
C1 N4 C5 109.04(8)
C3 N4 C5 108.63(8)
C2 N2 C3 109.19(8)
C2 N2 C4 109.41(8)
C3 N2 C4 108.49(8)
N3 C6 N1 109.50(8)
C6 N3 C5 109.06(8)
C6 N3 C4 109.59(8)
C5 N3 C4 108.54(8)
N4 C1 N1 109.88(8)
N2 C3 N4 111.56(8)
N2 C2 N1 109.50(8)
O3 C7 O2 125.17(10)
N3 C4 N2 111.58(8)
N3 C5 N4 111.59(8)
loop_
_geom_bond_atom_site_label_1
_geom_bond_atom_site_label_2
_geom_bond_distance
N1 O1 1.3984(11)
N1 C1 1.5204(12)
N1 C2 1.5251(13)
N1 C6 1.5286(12)
N4 C1 1.4474(14)
N4 C3 1.4797(14)
N4 C5 1.4825(14)
N2 C2 1.4496(13)
N2 C3 1.4747(13)
N2 C4 1.4814(13)
O3 C7 1.2228(13)
C6 N3 1.4461(13)
O2 C7 1.2862(14)
N3 C5 1.4745(13)
N3 C4 1.4789(13)
