#------------------------------------------------------------------------------
#$Date: 2018-09-27 06:13:35 +0200 (Thu 27 de Sep de 2018) $
#$Revision: 211196 $
#$URL: svn://www.crystallography.net/cod/cif/1/52/16/1521655.cif $
#------------------------------------------------------------------------------
#
# This file is available in the Crystallography Open Database (COD),
# http://www.crystallography.net/
#
# All data on this site have been placed in the public domain by the
# contributors.
#
data_1521655
loop_
_publ_author_name
'Narducci, A.A.'
'Yang, Y.-T.'
'Digman, M.A.'
'Sipes, A.B.'
'Ibers, J.A.'
_publ_section_title
;
 An investigation of the rare-earth telluride system Ba Ln2 Te4 (Ln = Sm -
 Tm, Y): syntheses, crystal structures and magnetic properties
;
_journal_name_full               'Journal of Alloys Compd.'
_journal_page_first              432
_journal_page_last               439
_journal_volume                  303
_journal_year                    2000
_chemical_formula_sum            'Ba Gd2 Te4'
_space_group_IT_number           62
_symmetry_space_group_name_Hall  '-P 2ac 2n'
_symmetry_space_group_name_H-M   'P n m a'
_cell_angle_alpha                90
_cell_angle_beta                 90
_cell_angle_gamma                90
_cell_formula_units_Z            4
_cell_length_a                   13.6924
_cell_length_b                   4.4822
_cell_length_c                   16.25969
_cell_volume                     997.891
_citation_journal_id_ASTM        JALCEU
_cod_data_source_file            Narducci_JALCEU_2000_1334.cif
_cod_data_source_block           Ba1Gd2Te4
_cod_original_cell_volume        997.8909
_cod_original_formula_sum        'Ba1 Gd2 Te4'
_cod_database_code               1521655
loop_
_symmetry_equiv_pos_as_xyz
x,y,z
-x+1/2,-y,z+1/2
x+1/2,-y+1/2,-z+1/2
-x,y+1/2,-z
-x,-y,-z
x-1/2,y,-z-1/2
-x-1/2,y-1/2,z-1/2
x,-y-1/2,z
loop_
_atom_site_label
_atom_site_type_symbol
_atom_site_fract_x
_atom_site_fract_y
_atom_site_fract_z
_atom_site_occupancy
_atom_site_U_iso_or_equiv
Ba1 Ba+2 0.23972 0.25 0.66821 1 0.0
Te4 Te-2 0.47463 0.25 0.78376 1 0.0
Te3 Te-2 0.37008 0.25 0.02855 1 0.0
Te1 Te-2 0.09027 0.25 0.07807 1 0.0
Gd2 Gd+3 0.56224 0.25 0.60884 1 0.0
Gd1 Gd+3 0.08057 0.25 0.40311 1 0.0
Te2 Te-2 0.29393 0.25 0.33492 1 0.0
