#------------------------------------------------------------------------------
#$Date: 2016-02-13 20:28:24 +0100 (Sat 13 de Feb de 2016) $
#$Revision: 176429 $
#$URL: svn://www.crystallography.net/cod/cif/1/52/66/1526628.cif $
#------------------------------------------------------------------------------
#
# This file is available in the Crystallography Open Database (COD),
# http://www.crystallography.net/
#
# All data on this site have been placed in the public domain by the
# contributors.
#
data_1526628
loop_
_publ_author_name
'Kim, H.-T.'
'Kang, K.-Y.'
'Choi, Y.-N.'
'Kim, W.-J.'
'Kim, B.J.'
'Kim, Y.C.'
_publ_section_title
;
 Synthesis of Ba0.6 K0.4 Bi O3 superconductors and structural analysis
 using neutron powder diffraction
;
_journal_name_full               'Journal of the Korean Physical Society'
_journal_page_first              1013
_journal_page_last               1018
_journal_volume                  39
_journal_year                    2001
_chemical_formula_sum            'Ba0.6 Bi K0.4 O3'
_chemical_name_systematic        '(Ba0.6 K0.4) (Bi O3)'
_space_group_IT_number           221
_symmetry_space_group_name_Hall  '-P 4 2 3'
_symmetry_space_group_name_H-M   'P m -3 m'
_cell_angle_alpha                90
_cell_angle_beta                 90
_cell_angle_gamma                90
_cell_formula_units_Z            1
_cell_length_a                   4.27841
_cell_length_b                   4.27841
_cell_length_c                   4.27841
_cell_volume                     78.315
_citation_journal_id_ASTM        JKPSDV
_cod_data_source_file            Kim_JKPSDV_2001_1799.cif
_cod_data_source_block           Ba0.6Bi1K0.4O3
_cod_original_cell_volume        78.31541
_cod_original_formula_sum        'Ba0.6 Bi1 K0.4 O3'
_cod_database_code               1526628
loop_
_symmetry_equiv_pos_as_xyz
x,y,z
-y,x,z
-x,-y,z
y,-x,z
x,-y,-z
y,x,-z
-x,y,-z
-y,-x,-z
z,x,y
-x,z,y
-z,-x,y
x,-z,y
z,-x,-y
x,z,-y
-z,x,-y
-x,-z,-y
y,z,x
y,-z,-x
z,y,-x
-y,z,-x
-z,-y,-x
-y,-z,x
z,-y,x
-z,y,x
-x,-y,-z
y,-x,-z
x,y,-z
-y,x,-z
-x,y,z
-y,-x,z
x,-y,z
y,x,z
-z,-x,-y
x,-z,-y
z,x,-y
-x,z,-y
-z,x,y
-x,-z,y
z,-x,y
x,z,y
-y,-z,-x
-y,z,x
-z,-y,x
y,-z,x
z,y,x
y,z,-x
-z,y,-x
z,-y,-x
loop_
_atom_site_label
_atom_site_type_symbol
_atom_site_fract_x
_atom_site_fract_y
_atom_site_fract_z
_atom_site_occupancy
_atom_site_U_iso_or_equiv
Bi1 Bi+4 0 0 0 1 0.0
K1 K+1 0.5 0.5 0.5 0.4 0.0
Ba1 Ba+2 0.5 0.5 0.5 0.6 0.0
O1 O-2 0.5 0 0 1 0.0
