#------------------------------------------------------------------------------
#$Date: 2016-02-13 20:28:24 +0100 (Sat 13 de Feb de 2016) $
#$Revision: 176429 $
#$URL: svn://www.crystallography.net/cod/cif/1/52/84/1528422.cif $
#------------------------------------------------------------------------------
#
# This file is available in the Crystallography Open Database (COD),
# http://www.crystallography.net/
#
# All data on this site have been placed in the public domain by the
# contributors.
#
data_1528422
loop_
_publ_author_name
'Dabrowski, B.'
'Mais, J.'
'Kolesnik, S.'
'Caspi, E.N.'
'Chmaissem, O.'
'Jorgensen, J.D.'
_publ_section_title
;
 Synthesis, structure, and magnetic properties of Sr Mn(1-x) Ga(x)
 O(3-delta) (x = 0-0.5) perovskites
;
_journal_name_full               'Journal of Solid State Chemistry'
_journal_page_first              3453
_journal_page_last               3460
_journal_volume                  178
_journal_year                    2005
_chemical_formula_sum            'Ga0.09 Mn0.91 O2.93 Sr'
_chemical_name_systematic        'Sr Mn0.91 Ga0.09 O2.93'
_space_group_IT_number           221
_symmetry_space_group_name_Hall  '-P 4 2 3'
_symmetry_space_group_name_H-M   'P m -3 m'
_cell_angle_alpha                90
_cell_angle_beta                 90
_cell_angle_gamma                90
_cell_formula_units_Z            1
_cell_length_a                   3.815562
_cell_length_b                   3.815562
_cell_length_c                   3.815562
_cell_volume                     55.549
_citation_journal_id_ASTM        JSSCBI
_cod_data_source_file            Dabrowski_JSSCBI_2005_741.cif
_cod_data_source_block           Ga0.09Mn0.91O2.93Sr1
_cod_original_cell_volume        55.54891
_cod_original_formula_sum        'Ga0.09 Mn0.91 O2.93 Sr1'
_cod_database_code               1528422
loop_
_symmetry_equiv_pos_as_xyz
x,y,z
-y,x,z
-x,-y,z
y,-x,z
x,-y,-z
y,x,-z
-x,y,-z
-y,-x,-z
z,x,y
-x,z,y
-z,-x,y
x,-z,y
z,-x,-y
x,z,-y
-z,x,-y
-x,-z,-y
y,z,x
y,-z,-x
z,y,-x
-y,z,-x
-z,-y,-x
-y,-z,x
z,-y,x
-z,y,x
-x,-y,-z
y,-x,-z
x,y,-z
-y,x,-z
-x,y,z
-y,-x,z
x,-y,z
y,x,z
-z,-x,-y
x,-z,-y
z,x,-y
-x,z,-y
-z,x,y
-x,-z,y
z,-x,y
x,z,y
-y,-z,-x
-y,z,x
-z,-y,x
y,-z,x
z,y,x
y,z,-x
-z,y,-x
z,-y,-x
loop_
_atom_site_label
_atom_site_type_symbol
_atom_site_fract_x
_atom_site_fract_y
_atom_site_fract_z
_atom_site_occupancy
_atom_site_U_iso_or_equiv
Ga1 Ga+3 0 0 0 0.08941 0.0
O1 O-2 0.5 0 0 0.9773 0.0
Mn1 Mn+3 0 0 0 0.91059 0.0
Sr1 Sr+2 0.5 0.5 0.5 1 0.0
