#------------------------------------------------------------------------------
#$Date: 2018-09-27 06:13:35 +0200 (Thu 27 de Sep de 2018) $
#$Revision: 211196 $
#$URL: svn://www.crystallography.net/cod/cif/1/53/12/1531279.cif $
#------------------------------------------------------------------------------
#
# This file is available in the Crystallography Open Database (COD),
# http://www.crystallography.net/
#
# All data on this site have been placed in the public domain by the
# contributors.
#
data_1531279
loop_
_publ_author_name
'Demchyna, R.O.'
'Kuz'ma, Yu.B.'
'Chikhrii, S.I.'
_publ_section_title
;
 Y - Cu - P system
;
_journal_name_full               'Journal of Alloys Compd.'
_journal_page_first              170
_journal_page_last               174
_journal_volume                  345
_journal_year                    2002
_chemical_formula_sum            Y
_space_group_IT_number           194
_symmetry_space_group_name_Hall  '-P 6c 2c'
_symmetry_space_group_name_H-M   'P 63/m m c'
_cell_angle_alpha                90
_cell_angle_beta                 90
_cell_angle_gamma                120
_cell_formula_units_Z            2
_cell_length_a                   3.6631
_cell_length_b                   3.6631
_cell_length_c                   5.8147
_cell_volume                     67.570
_citation_journal_id_ASTM        JALCEU
_cod_data_source_file            Demchyna_JALCEU_2002_543.cif
_cod_data_source_block           Y1
_cod_original_cell_volume        67.57024
_cod_original_formula_sum        Y1
_cod_database_code               1531279
loop_
_symmetry_equiv_pos_as_xyz
x,y,z
x-y,x,z+1/2
-y,x-y,z
-x,-y,z+1/2
-x+y,-x,z
y,-x+y,z+1/2
-y,-x,-z+1/2
x-y,-y,-z
x,x-y,-z+1/2
y,x,-z
-x+y,y,-z+1/2
-x,-x+y,-z
-x,-y,-z
-x+y,-x,-z-1/2
y,-x+y,-z
x,y,-z-1/2
x-y,x,-z
-y,x-y,-z-1/2
y,x,z-1/2
-x+y,y,z
-x,-x+y,z-1/2
-y,-x,z
x-y,-y,z-1/2
x,x-y,z
loop_
_atom_site_label
_atom_site_type_symbol
_atom_site_fract_x
_atom_site_fract_y
_atom_site_fract_z
_atom_site_occupancy
_atom_site_U_iso_or_equiv
Y1 Y 0.3333 0.6667 0.25 1 0.0
