#------------------------------------------------------------------------------
#$Date: 2016-02-13 20:28:24 +0100 (Sat 13 de Feb de 2016) $
#$Revision: 176429 $
#$URL: svn://www.crystallography.net/cod/cif/1/53/30/1533063.cif $
#------------------------------------------------------------------------------
#
# This file is available in the Crystallography Open Database (COD),
# http://www.crystallography.net/
#
# All data on this site have been placed in the public domain by the
# contributors.
#
data_1533063
loop_
_publ_author_name
'Rodova, M.'
'Brozek, J.'
'Nitsch, K.'
'Knizek, K.'
_publ_section_title
;
 Phase transitions in ternary cesium lead bromide
;
_journal_name_full               'Journal of Thermal Analysis and Calorimetry'
_journal_page_first              667
_journal_page_last               673
_journal_volume                  71
_journal_year                    2003
_chemical_formula_sum            'Br3 Cs Pb'
_chemical_name_systematic        'Cs Pb Br3'
_space_group_IT_number           221
_symmetry_space_group_name_Hall  '-P 4 2 3'
_symmetry_space_group_name_H-M   'P m -3 m'
_cell_angle_alpha                90
_cell_angle_beta                 90
_cell_angle_gamma                90
_cell_formula_units_Z            1
_cell_length_a                   5.87
_cell_length_b                   5.87
_cell_length_c                   5.87
_cell_volume                     202.262
_citation_journal_id_ASTM        JTACF7
_cod_data_source_file            Rodova_JTACF7_2003_449.cif
_cod_data_source_block           Br3Cs1Pb1
_cod_original_formula_sum        'Br3 Cs1 Pb1'
_cod_database_code               1533063
loop_
_symmetry_equiv_pos_as_xyz
x,y,z
-y,x,z
-x,-y,z
y,-x,z
x,-y,-z
y,x,-z
-x,y,-z
-y,-x,-z
z,x,y
-x,z,y
-z,-x,y
x,-z,y
z,-x,-y
x,z,-y
-z,x,-y
-x,-z,-y
y,z,x
y,-z,-x
z,y,-x
-y,z,-x
-z,-y,-x
-y,-z,x
z,-y,x
-z,y,x
-x,-y,-z
y,-x,-z
x,y,-z
-y,x,-z
-x,y,z
-y,-x,z
x,-y,z
y,x,z
-z,-x,-y
x,-z,-y
z,x,-y
-x,z,-y
-z,x,y
-x,-z,y
z,-x,y
x,z,y
-y,-z,-x
-y,z,x
-z,-y,x
y,-z,x
z,y,x
y,z,-x
-z,y,-x
z,-y,-x
loop_
_atom_site_label
_atom_site_type_symbol
_atom_site_fract_x
_atom_site_fract_y
_atom_site_fract_z
_atom_site_occupancy
_atom_site_U_iso_or_equiv
Br1 Br-1 0 0.5 0.5 1 0.0
Pb1 Pb+2 0.5 0.5 0.5 1 0.0
Cs1 Cs+1 0 0 0 1 0.0
