#------------------------------------------------------------------------------
#$Date: 2016-02-13 20:28:24 +0100 (Sat 13 de Feb de 2016) $
#$Revision: 176429 $
#$URL: svn://www.crystallography.net/cod/cif/1/53/33/1533333.cif $
#------------------------------------------------------------------------------
#
# This file is available in the Crystallography Open Database (COD),
# http://www.crystallography.net/
#
# All data on this site have been placed in the public domain by the
# contributors.
#
data_1533333
loop_
_publ_author_name
'Charkin, D.O.'
'Dolgikh, V.A.'
'Berdonosov, P.S.'
'Lightfoot, P.'
_publ_section_title
;
 A reinvestigation of quaternary layered bismuth oxyhalides of the Sillen
 X1 type
;
_journal_name_full               'Journal of Solid State Chemistry'
_journal_page_first              316
_journal_page_last               321
_journal_volume                  175
_journal_year                    2003
_chemical_formula_sum            'Bi Br O2 Sr'
_chemical_name_systematic        'Sr Bi O2 Br'
_space_group_IT_number           63
_symmetry_space_group_name_Hall  '-C 2c 2'
_symmetry_space_group_name_H-M   'C m c m'
_cell_angle_alpha                90
_cell_angle_beta                 90
_cell_angle_gamma                90
_cell_formula_units_Z            4
_cell_length_a                   5.7676
_cell_length_b                   12.8246
_cell_length_c                   5.646
_cell_volume                     417.619
_citation_journal_id_ASTM        JSSCBI
_cod_data_source_file            Charkin_JSSCBI_2003_203.cif
_cod_data_source_block           Bi1Br1O2Sr1
_cod_original_cell_volume        417.6186
_cod_original_formula_sum        'Bi1 Br1 O2 Sr1'
_cod_database_code               1533333
loop_
_symmetry_equiv_pos_as_xyz
x,y,z
-x,-y,z+1/2
x,-y,-z
-x,y,-z+1/2
-x,-y,-z
x,y,-z-1/2
-x,y,z
x,-y,z-1/2
x+1/2,y+1/2,z
-x+1/2,-y+1/2,z+1/2
x+1/2,-y+1/2,-z
-x+1/2,y+1/2,-z+1/2
-x+1/2,-y+1/2,-z
x+1/2,y+1/2,-z-1/2
-x+1/2,y+1/2,z
x+1/2,-y+1/2,z-1/2
loop_
_atom_site_label
_atom_site_type_symbol
_atom_site_fract_x
_atom_site_fract_y
_atom_site_fract_z
_atom_site_occupancy
_atom_site_U_iso_or_equiv
Bi1 Bi+3 0 0.0796 0.25 1 0.0
O1 O-2 0.247 0 0 1 0.0
Br1 Br-1 0 0.7456 0.25 1 0.0
Sr1 Sr+2 0 0.3943 0.25 1 0.0
