#------------------------------------------------------------------------------
#$Date: 2016-02-13 20:28:24 +0100 (Sat 13 de Feb de 2016) $
#$Revision: 176429 $
#$URL: svn://www.crystallography.net/cod/cif/1/53/33/1533335.cif $
#------------------------------------------------------------------------------
#
# This file is available in the Crystallography Open Database (COD),
# http://www.crystallography.net/
#
# All data on this site have been placed in the public domain by the
# contributors.
#
data_1533335
loop_
_publ_author_name
'Charkin, D.O.'
'Berdonosov, P.S.'
'Lightfoot, P.'
'Dolgikh, V.A.'
_publ_section_title
;
 A reinvestigation of quaternary layered bismuth oxyhalides of the Sillen
 X1 type
;
_journal_name_full               'Journal of Solid State Chemistry'
_journal_page_first              316
_journal_page_last               321
_journal_volume                  175
_journal_year                    2003
_chemical_formula_sum            'Bi I O2 Sr'
_chemical_name_systematic        'Sr Bi O2 I'
_space_group_IT_number           63
_symmetry_space_group_name_Hall  '-C 2c 2'
_symmetry_space_group_name_H-M   'C m c m'
_cell_angle_alpha                90
_cell_angle_beta                 90
_cell_angle_gamma                90
_cell_formula_units_Z            4
_cell_length_a                   5.8723
_cell_length_b                   13.5344
_cell_length_c                   5.7363
_cell_volume                     455.910
_citation_journal_id_ASTM        JSSCBI
_cod_data_source_file            Charkin_JSSCBI_2003_205.cif
_cod_data_source_block           Bi1I1O2Sr1
_cod_original_cell_volume        455.91
_cod_original_formula_sum        'Bi1 I1 O2 Sr1'
_cod_database_code               1533335
loop_
_symmetry_equiv_pos_as_xyz
x,y,z
-x,-y,z+1/2
x,-y,-z
-x,y,-z+1/2
-x,-y,-z
x,y,-z-1/2
-x,y,z
x,-y,z-1/2
x+1/2,y+1/2,z
-x+1/2,-y+1/2,z+1/2
x+1/2,-y+1/2,-z
-x+1/2,y+1/2,-z+1/2
-x+1/2,-y+1/2,-z
x+1/2,y+1/2,-z-1/2
-x+1/2,y+1/2,z
x+1/2,-y+1/2,z-1/2
loop_
_atom_site_label
_atom_site_type_symbol
_atom_site_fract_x
_atom_site_fract_y
_atom_site_fract_z
_atom_site_occupancy
_atom_site_U_iso_or_equiv
I1 I-1 0 0.7445 0.25 1 0.0
O1 O-2 0.247 0 0 1 0.0
Sr1 Sr+2 0 0.405 0.25 1 0.0
Bi1 Bi+3 0 0.0739 0.25 1 0.0
