#------------------------------------------------------------------------------
#$Date: 2016-02-13 20:28:24 +0100 (Sat 13 de Feb de 2016) $
#$Revision: 176429 $
#$URL: svn://www.crystallography.net/cod/cif/1/54/00/1540076.cif $
#------------------------------------------------------------------------------
#
# This file is available in the Crystallography Open Database (COD),
# http://www.crystallography.net/
#
# All data on this site have been placed in the public domain by the
# contributors.
#
data_1540076
loop_
_publ_author_name
'Heo, N.-H.'
'Dejsupa, C.'
'Seff, K.'
_publ_section_title
;
 Preparation and structure of fully Cs+ -exchanged zeolite A
;
_journal_name_full               'Journal of Physical Chemistry'
_journal_page_first              3943
_journal_page_last               3944
_journal_volume                  91
_journal_year                    1987
_chemical_formula_sum            'Al12 Cs13 H O49 Si12'
_chemical_name_systematic        'Cs13 (Al12 Si12 O48) (O H)'
_space_group_IT_number           221
_symmetry_space_group_name_Hall  '-P 4 2 3'
_symmetry_space_group_name_H-M   'P m -3 m'
_cell_angle_alpha                90
_cell_angle_beta                 90
_cell_angle_gamma                90
_cell_formula_units_Z            1
_cell_length_a                   12.279
_cell_length_b                   12.279
_cell_length_c                   12.279
_cell_volume                     1851.352
_citation_journal_id_ASTM        JPCHAX
_cod_data_source_file            Heo_JPCHAX_1987_260.cif
_cod_data_source_block           H1Al12Cs13O49Si12
_cod_original_formula_sum        'H1 Al12 Cs13 O49 Si12'
_cod_database_code               1540076
loop_
_symmetry_equiv_pos_as_xyz
x,y,z
-y,x,z
-x,-y,z
y,-x,z
x,-y,-z
y,x,-z
-x,y,-z
-y,-x,-z
z,x,y
-x,z,y
-z,-x,y
x,-z,y
z,-x,-y
x,z,-y
-z,x,-y
-x,-z,-y
y,z,x
y,-z,-x
z,y,-x
-y,z,-x
-z,-y,-x
-y,-z,x
z,-y,x
-z,y,x
-x,-y,-z
y,-x,-z
x,y,-z
-y,x,-z
-x,y,z
-y,-x,z
x,-y,z
y,x,z
-z,-x,-y
x,-z,-y
z,x,-y
-x,z,-y
-z,x,y
-x,-z,y
z,-x,y
x,z,y
-y,-z,-x
-y,z,x
-z,-y,x
y,-z,x
z,y,x
y,z,-x
-z,y,-x
z,-y,-x
loop_
_atom_site_label
_atom_site_type_symbol
_atom_site_fract_x
_atom_site_fract_y
_atom_site_fract_z
_atom_site_occupancy
_atom_site_U_iso_or_equiv
Cs3 Cs+1 0.0949 0.0949 0.0949 0.25 0.0
Cs4 Cs+1 0.2631 0.2631 0.446 0.1667 0.0
Cs2 Cs+1 0.2834 0.2834 0.2834 0.5 0.0
O2 O-2 0 0.2945 0.2945 1 0.0
O1 O-2 0 0.223 0.5 1 0.0
O3 O-2 0.1186 0.1186 0.3417 1 0.0
Si1 Si+4 0 0.182 0.3747 0.5 0.0
Al1 Al+3 0 0.182 0.3747 0.5 0.0
Cs1 Cs+1 0 0.5 0.5 1 0.0
